{"text_format":"3","workbook":"xlsx","n_sheets":6,"sheets":["Game","BoxScore","TeamStats","Visitors","Home","Pitchers"],"not_rendered":{"defined_names":1},"read":"whole","date_system":"1900"}

{"sheet":"Game","index":0,"n_rows":45,"n_cols":449,"rows_kept":45}
["11th of August - Season Game",{"$nulls":19},{"$f":"E3","v":"Away Team"},{"$nulls":4},"VS",{"$nulls":8},{"$f":"E23","v":"Home Team"}]
["SPECIAL RULES:"]
["VISITOR",{"$nulls":3},"Away Team",{"$nulls":7},{"$f":"SUM(M5:M17)","v":0},{"$nulls":4},{"$f":"SUM(R5:R17)","v":0},{"$nulls":4},{"$f":"SUM(W5:W17)","v":0},{"$nulls":4},{"$f":"SUM(AB5:AB17)","v":0},{"$nulls":4},{"$f":"SUM(AG5:AG17)","v":0},{"$nulls":4},{"$f":"SUM(AL5:AL17)","v":0},{"$nulls":4},{"$f":"SUM(AQ5:AQ17)","v":0}]
["R","BO","Pos","PN","PLAYERS","Avg","HR","RBI",null,"1AB","P","I","R","S","2AB","P","I","R","S","3AB","P","I","R","S","4AB","P","I","R","S","5AB","P","I","R","S","6AB","P","I","R","S","7AB","P","I","R","S",null,"E","ab","h","bb","rbi","hbp","sf","K","sac","r","hr","2b","3b","pa","ao","go","gidp","rbe","xbh","sb","sba",null,"1H","12B","13B","1HR","1Hrb","1H2rb","1H3rb","12Brb","12B2rb","12B3rb","13Brb","13B2rb","13B3rb","1HR2","1HR3","1GS","1ao","1go","1DP","1HBP","1BB","1BBrb","1K","1rbe","1sf",null,"1H","12B","13B","1HR","1Hrb","1H2rb","1H3rb","12Brb","12B2rb","12B3rb","13Brb","13B2rb","13B3rb","1HR2","1HR3","1GS","1ao","1go","1DP","1HBP","1BB","1BBrb","1K","1rbe","1sf",null,"1H","12B","13B","1HR","1Hrb","1H2rb","1H3rb","12Brb","12B2rb","12B3rb","13Brb","13B2rb","13B3rb","1HR2","1HR3","1GS","1ao","1go","1DP","1HBP","1BB","1BBrb","1K","1rbe","1sf",null,"1H","12B","13B","1HR","1Hrb","1H2rb","1H3rb","12Brb","12B2rb","12B3rb","13Brb","13B2rb","13B3rb","1HR2","1HR3","1GS","1ao","1go","1DP","1HBP","1BB","1BBrb","1K","1rbe","1sf",null,"1H","12B","13B","1HR","1Hrb","1H2rb","1H3rb","12Brb","12B2rb","12B3rb","13Brb","13B2rb","13B3rb","1HR2","1HR3","1GS","1ao","1go","1DP","1HBP","1BB","1BBrb","1K","1rbe","1sf",null,"1H","12B","13B","1HR","1Hrb","1H2rb","1H3rb","12Brb","12B2rb","12B3rb","13Brb","13B2rb","13B3rb","1HR2","1HR3","1GS","1ao","1go","1DP","1HBP","1BB","1BBrb","1K","1rbe","1sf",null,"1H","12B","13B","1HR","1Hrb","1H2rb","1H3rb","12Brb","12B2rb","12B3rb","13Brb","13B2rb","13B3rb","1HR2","1HR3","1GS","1ao","1go","1DP","1HBP","1BB","1BBrb","1K","1rbe","1sf",null,"Second Base RBIs",{"$nulls":21},"Third Base RBIs",{"$nulls":21},"Home Run RBIs",{"$nulls":21},"Stolen Bases",{"$nulls":14},"Sac",{"$nulls":7},"DPR",{"$nulls":7},"GORBI",{"$nulls":8},"Earned Runs",{"$nulls":42},"UnEarned Runs",{"$nulls":42},"Runs Total"]
[{"$f":"QG5","v":0},1,{"$nulls":44},{"$f":"SUM(AV5,BA5,BD5:BF5,BH5:BJ5)-BL5","v":0},{"$f":"SUM(BP5:CE5,CP5:DE5,DP5:EE5,EP5:FE5,FP5:GE5,GP5:HE5,HP5:IE5)","v":0},{"$f":"CJ5+DJ5+EJ5+FJ5+GJ5+HJ5","v":0},{"$f":"(BS5)+(BT5)+(BU5*2)+(BV5*3)+(BW5)+(BX5*2)+(BY5*3)+(BZ5)+(CA5*2)+(CB5*3)+(CC5*2)+(CD5*3)+(CE5*4)+(CS5)+(CT5)+(CU5*2)+(CV5*3)+(CW5)+(CX5*2)+(CY5*3)+(CZ5)+(DA5*2)+(DB5*3)+(DC5*2)+(DD5*3)+(DE5*4)+(DS5)+(DT5)+(DU5*2)+(DV5*3)+(DW5)+(DX5*2)+(DY5*3)+(DZ5)+(EA5*2)+(EB5*3)+(EC5*2)+(ED5*3)+(EE5*4)+(ES5)+(ET5)+(EU5*2)+(EV5*3)+(EW5)+(EX5*2)+(EY5*3)+(EZ5)+(FA5*2)+(FB5*3)+(FC5*2)+(FD5*3)+(FE5*4)+(FS5)+(FT5)+(FU5*2)+(FV5*3)+(FW5)+(FX5*2)+(FY5*3)+(FZ5)+(GA5*2)+(GB5*3)+(GC5*2)+(GD5*3)+(GE5*4)+(GS5)+(GT5)+(GU5*2)+(GV5*3)+(GW5)+(GX5*2)+(GY5*3)+(GZ5)+(HA5*2)+(HB5*3)+(HC5*2)+(HD5*3)+(HE5*4)+(HS5)+(HT5)+(HU5*2)+(HV5*3)+(HW5)+(HX5*2)+(HY5*3)+(HZ5)+(IA5*2)+(IB5*3)+(IC5*2)+(ID5*3)+(IE5*4)+(CN5+DN5+EN5+FN5+GN5+IN5+JO5)+MH5+MP5","v":0},{"$f":"CI5+DI5+EI5+FI5+GI5+HI5","v":0},{"$f":"(CN5+DN5+EN5+FN5+GN5+IN5+JO5)","v":0},{"$f":"CL5+DL5+EL5+FL5+GL5+IL5+JL5","v":0},{"$f":"SUM(LS5:LY5)","v":0},{"$f":"A5","v":0},{"$f":"BS5+CS5+DS5+ES5+FS5+GS5+HS5+SUM(KH5:LB5)","v":0},{"$f":"BQ5+CQ5+DQ5+EQ5+FQ5+GQ5+HQ5+SUM(IP5:JJ5)","v":0},{"$f":"BR5+CR5+DR5+ER5+FR5+GR5+HR5+SUM(JL5:KF5)","v":0},{"$f":"AU5+AW5+AY5","v":0},{"$f":"CF5+DF5+EF5+FF5+GF5+HF5","v":0},{"$f":"CG5+DG5+EG5+FG5+GG5+HG5+MP5","v":0},{"$f":"CH5+DH5+EH5+FH5+GH5+HH5+MH5","v":0},{"$f":"CM5+DM5+EM5+FM5+JM5+HM5+IM5","v":0},{"$f":"SUM(BD5:BF5)","v":0},{"$f":"SUM(LD5:LJ5)","v":0},{"$f":"SUM(LK5:LQ5)+BM5","v":0},null,{"$f":"IF(($J5=\"H\"),1,0)","v":0},{"$f":"IF(($J5=\"2B\"),1,0)","v":0},{"$f":"IF(($J5=\"3B\"),1,0)","v":0},{"$f":"IF(($J5=\"HR\"),1,0)","v":0},{"$f":"IF(($J5=\"Hrb\"),1,0)","v":0},{"$f":"IF(($J5=\"H2rb\"),1,0)","v":0},{"$f":"IF(($J5=\"H3rb\"),1,0)","v":0},{"$f":"IF(($J5=\"2Brb\"),1,0)","v":0},{"$f":"IF(($J5=\"2B2rb\"),1,0)","v":0},{"$f":"IF(($J5=\"2B3rb\"),1,0)","v":0},{"$f":"IF(($J5=\"3Brb\"),1,0)","v":0},{"$f":"IF(($J5=\"3B2rb\"),1,0)","v":0},{"$f":"IF(($J5=\"3B3rb\"),1,0)","v":0},{"$f":"IF(($J5=\"HR2\"),1,0)","v":0},{"$f":"IF(($J5=\"HR3\"),1,0)","v":0},{"$f":"IF(($J5=\"GS\"),1,0)","v":0},{"$f":"IF(($J5=\"AO\"),1,0)","v":0},{"$f":"IF(($J5=\"GO\"),1,0)","v":0},{"$f":"IF(($J5=\"DP\"),1,0)","v":0},{"$f":"IF(($J5=\"HBP\"),1,0)","v":0},{"$f":"IF(($J5=\"BB\"),1,0)","v":0},{"$f":"IF(($J5=\"BBrb\"),1,0)","v":0},{"$f":"IF(($J5=\"K\"),1,0)","v":0},{"$f":"IF(($J5=\"rbe\"),1,0)","v":0},{"$f":"IF(($J5=\"sf\"),1,0)","v":0},null,{"$f":"IF(($O5=\"H\"),1,0)","v":0},{"$f":"IF(($O5=\"2B\"),1,0)","v":0},{"$f":"IF(($O5=\"3B\"),1,0)","v":0},{"$f":"IF(($O5=\"HR\"),1,0)","v":0},{"$f":"IF(($O5=\"Hrb\"),1,0)","v":0},{"$f":"IF(($O5=\"H2rb\"),1,0)","v":0},{"$f":"IF(($O5=\"H3rb\"),1,0)","v":0},{"$f":"IF(($O5=\"2Brb\"),1,0)","v":0},{"$f":"IF(($O5=\"2B2rb\"),1,0)","v":0},{"$f":"IF(($O5=\"2B3rb\"),1,0)","v":0},{"$f":"IF(($O5=\"3Brb\"),1,0)","v":0},{"$f":"IF(($O5=\"3B2rb\"),1,0)","v":0},{"$f":"IF(($O5=\"3B3rb\"),1,0)","v":0},{"$f":"IF(($O5=\"HR2\"),1,0)","v":0},{"$f":"IF(($O5=\"HR3\"),1,0)","v":0},{"$f":"IF(($O5=\"GS\"),1,0)","v":0},{"$f":"IF(($O5=\"AO\"),1,0)","v":0},{"$f":"IF(($O5=\"GO\"),1,0)","v":0},{"$f":"IF(($O5=\"DP\"),1,0)","v":0},{"$f":"IF(($O5=\"HBP\"),1,0)","v":0},{"$f":"IF(($O5=\"BB\"),1,0)","v":0},{"$f":"IF(($O5=\"BBrb\"),1,0)","v":0},{"$f":"IF(($O5=\"K\"),1,0)","v":0},{"$f":"IF(($O5=\"rbe\"),1,0)","v":0},{"$f":"IF(($O5=\"sf\"),1,0)","v":0},null,{"$f":"IF(($T5=\"H\"),1,0)","v":0},{"$f":"IF(($T5=\"2B\"),1,0)","v":0},{"$f":"IF(($T5=\"3B\"),1,0)","v":0},{"$f":"IF(($T5=\"HR\"),1,0)","v":0},{"$f":"IF(($T5=\"Hrb\"),1,0)","v":0},{"$f":"IF(($T5=\"H2rb\"),1,0)","v":0},{"$f":"IF(($T5=\"H3rb\"),1,0)","v":0},{"$f":"IF(($T5=\"2Brb\"),1,0)","v":0},{"$f":"IF(($T5=\"2B2rb\"),1,0)","v":0},{"$f":"IF(($T5=\"2B3rb\"),1,0)","v":0},{"$f":"IF(($T5=\"3Brb\"),1,0)","v":0},{"$f":"IF(($T5=\"3B2rb\"),1,0)","v":0},{"$f":"IF(($T5=\"3B3rb\"),1,0)","v":0},{"$f":"IF(($T5=\"HR2\"),1,0)","v":0},{"$f":"IF(($T5=\"HR3\"),1,0)","v":0},{"$f":"IF(($T5=\"GS\"),1,0)","v":0},{"$f":"IF(($T5=\"AO\"),1,0)","v":0},{"$f":"IF(($T5=\"GO\"),1,0)","v":0},{"$f":"IF(($T5=\"DP\"),1,0)","v":0},{"$f":"IF(($T5=\"HBP\"),1,0)","v":0},{"$f":"IF(($T5=\"BB\"),1,0)","v":0},{"$f":"IF(($T5=\"BBrb\"),1,0)","v":0},{"$f":"IF(($T5=\"K\"),1,0)","v":0},{"$f":"IF(($T5=\"rbe\"),1,0)","v":0},{"$f":"IF(($T5=\"sf\"),1,0)","v":0},null,{"$f":"IF(($Y5=\"H\"),1,0)","v":0},{"$f":"IF(($Y5=\"2B\"),1,0)","v":0},{"$f":"IF(($Y5=\"3B\"),1,0)","v":0},{"$f":"IF(($Y5=\"HR\"),1,0)","v":0},{"$f":"IF(($Y5=\"Hrb\"),1,0)","v":0},{"$f":"IF(($Y5=\"H2rb\"),1,0)","v":0},{"$f":"IF(($Y5=\"H3rb\"),1,0)","v":0},{"$f":"IF(($Y5=\"2Brb\"),1,0)","v":0},{"$f":"IF(($Y5=\"2B2rb\"),1,0)","v":0},{"$f":"IF(($Y5=\"2B3rb\"),1,0)","v":0},{"$f":"IF(($Y5=\"3Brb\"),1,0)","v":0},{"$f":"IF(($Y5=\"3B2rb\"),1,0)","v":0},{"$f":"IF(($Y5=\"3B3rb\"),1,0)","v":0},{"$f":"IF(($Y5=\"HR2\"),1,0)","v":0},{"$f":"IF(($Y5=\"HR3\"),1,0)","v":0},{"$f":"IF(($Y5=\"GS\"),1,0)","v":0},{"$f":"IF(($Y5=\"AO\"),1,0)","v":0},{"$f":"IF(($Y5=\"GO\"),1,0)","v":0},{"$f":"IF(($Y5=\"DP\"),1,0)","v":0},{"$f":"IF(($Y5=\"HBP\"),1,0)","v":0},{"$f":"IF(($Y5=\"BB\"),1,0)","v":0},{"$f":"IF(($Y5=\"BBrb\"),1,0)","v":0},{"$f":"IF(($Y5=\"K\"),1,0)","v":0},{"$f":"IF(($Y5=\"rbe\"),1,0)","v":0},{"$f":"IF(($Y5=\"sf\"),1,0)","v":0},null,{"$f":"IF(($AD5=\"H\"),1,0)","v":0},{"$f":"IF(($AD5=\"2B\"),1,0)","v":0},{"$f":"IF(($AD5=\"3B\"),1,0)","v":0},{"$f":"IF(($AD5=\"HR\"),1,0)","v":0},{"$f":"IF(($AD5=\"Hrb\"),1,0)","v":0},{"$f":"IF(($AD5=\"H2rb\"),1,0)","v":0},{"$f":"IF(($AD5=\"H3rb\"),1,0)","v":0},{"$f":"IF(($AD5=\"2Brb\"),1,0)","v":0},{"$f":"IF(($AD5=\"2B2rb\"),1,0)","v":0},{"$f":"IF(($AD5=\"2B3rb\"),1,0)","v":0},{"$f":"IF(($AD5=\"3Brb\"),1,0)","v":0},{"$f":"IF(($AD5=\"3B2rb\"),1,0)","v":0},{"$f":"IF(($AD5=\"3B3rb\"),1,0)","v":0},{"$f":"IF(($AD5=\"HR2\"),1,0)","v":0},{"$f":"IF(($AD5=\"HR3\"),1,0)","v":0},{"$f":"IF(($AD5=\"GS\"),1,0)","v":0},{"$f":"IF(($AD5=\"AO\"),1,0)","v":0},{"$f":"IF(($AD5=\"GO\"),1,0)","v":0},{"$f":"IF(($AD5=\"DP\"),1,0)","v":0},{"$f":"IF(($AD5=\"HBP\"),1,0)","v":0},{"$f":"IF(($AD5=\"BB\"),1,0)","v":0},{"$f":"IF(($AD5=\"BBrb\"),1,0)","v":0},{"$f":"IF(($AD5=\"K\"),1,0)","v":0},{"$f":"IF(($AD5=\"rbe\"),1,0)","v":0},{"$f":"IF(($AD5=\"sf\"),1,0)","v":0},null,{"$f":"IF(($AI5=\"H\"),1,0)","v":0},{"$f":"IF(($AI5=\"2B\"),1,0)","v":0},{"$f":"IF(($AI5=\"3B\"),1,0)","v":0},{"$f":"IF(($AI5=\"HR\"),1,0)","v":0},{"$f":"IF(($AI5=\"Hrb\"),1,0)","v":0},{"$f":"IF(($AI5=\"H2rb\"),1,0)","v":0},{"$f":"IF(($AI5=\"H3rb\"),1,0)","v":0},{"$f":"IF(($AI5=\"2Brb\"),1,0)","v":0},{"$f":"IF(($AI5=\"2B2rb\"),1,0)","v":0},{"$f":"IF(($AI5=\"2B3rb\"),1,0)","v":0},{"$f":"IF(($AI5=\"3Brb\"),1,0)","v":0},{"$f":"IF(($AI5=\"3B2rb\"),1,0)","v":0},{"$f":"IF(($AI5=\"3B3rb\"),1,0)","v":0},{"$f":"IF(($AI5=\"HR2\"),1,0)","v":0},{"$f":"IF(($AI5=\"HR3\"),1,0)","v":0},{"$f":"IF(($AI5=\"GS\"),1,0)","v":0},{"$f":"IF(($AI5=\"AO\"),1,0)","v":0},{"$f":"IF(($AI5=\"GO\"),1,0)","v":0},{"$f":"IF(($AI5=\"DP\"),1,0)","v":0},{"$f":"IF(($AI5=\"HBP\"),1,0)","v":0},{"$f":"IF(($AI5=\"BB\"),1,0)","v":0},{"$f":"IF(($AI5=\"BBrb\"),1,0)","v":0},{"$f":"IF(($AI5=\"K\"),1,0)","v":0},{"$f":"IF(($AI5=\"rbe\"),1,0)","v":0},{"$f":"IF(($AI5=\"sf\"),1,0)","v":0},null,{"$f":"IF(($AN5=\"H\"),1,0)","v":0},{"$f":"IF(($AN5=\"2B\"),1,0)","v":0},{"$f":"IF(($AN5=\"3B\"),1,0)","v":0},{"$f":"IF(($AN5=\"HR\"),1,0)","v":0},{"$f":"IF(($AN5=\"Hrb\"),1,0)","v":0},{"$f":"IF(($AN5=\"H2rb\"),1,0)","v":0},{"$f":"IF(($AN5=\"H3rb\"),1,0)","v":0},{"$f":"IF(($AN5=\"2Brb\"),1,0)","v":0},{"$f":"IF(($AN5=\"2B2rb\"),1,0)","v":0},{"$f":"IF(($AN5=\"2B3rb\"),1,0)","v":0},{"$f":"IF(($AN5=\"3Brb\"),1,0)","v":0},{"$f":"IF(($AN5=\"3B2rb\"),1,0)","v":0},{"$f":"IF(($AN5=\"3B3rb\"),1,0)","v":0},{"$f":"IF(($AN5=\"HR2\"),1,0)","v":0},{"$f":"IF(($AN5=\"HR3\"),1,0)","v":0},{"$f":"IF(($AN5=\"GS\"),1,0)","v":0},{"$f":"IF(($AN5=\"AO\"),1,0)","v":0},{"$f":"IF(($AN5=\"GO\"),1,0)","v":0},{"$f":"IF(($AN5=\"DP\"),1,0)","v":0},{"$f":"IF(($AN5=\"HBP\"),1,0)","v":0},{"$f":"IF(($AN5=\"BB\"),1,0)","v":0},{"$f":"IF(($AN5=\"BBrb\"),1,0)","v":0},{"$f":"IF(($AN5=\"K\"),1,0)","v":0},{"$f":"IF(($AN5=\"rbe\"),1,0)","v":0},{"$f":"IF(($AN5=\"sf\"),1,0)","v":0},null,{"$f":"BW5","v":0},{"$f":"BX5","v":0},0,{"$f":"CW5","v":0},{"$f":"CX5","v":0},0,{"$f":"DW5","v":0},{"$f":"DX5","v":0},0,{"$f":"EW5","v":0},{"$f":"EX5","v":0},0,{"$f":"FW5","v":0},{"$f":"FX5","v":0},0,{"$f":"GW5","v":0},{"$f":"GX5","v":0},0,{"$f":"HW5","v":0},{"$f":"HX5","v":0},0,null,{"$f":"BZ5","v":0},{"$f":"CA5","v":0},0,{"$f":"CZ5","v":0},{"$f":"DA5","v":0},0,{"$f":"DZ5","v":0},{"$f":"EA5","v":0},0,{"$f":"EZ5","v":0},{"$f":"FA5","v":0},0,{"$f":"FZ5","v":0},{"$f":"GA5","v":0},0,{"$f":"GZ5","v":0},{"$f":"HA5","v":0},0,{"$f":"HZ5","v":0},{"$f":"IA5","v":0},0,null,{"$f":"CC5","v":0},{"$f":"CD5","v":0},0,{"$f":"DC5","v":0},{"$f":"DD5","v":0},0,{"$f":"EC5","v":0},{"$f":"ED5","v":0},0,{"$f":"FC5","v":0},{"$f":"FD5","v":0},0,{"$f":"GC5","v":0},{"$f":"GD5","v":0},0,{"$f":"HC5","v":0},{"$f":"HD5","v":0},0,{"$f":"IC5","v":0},{"$f":"ID5","v":0},0,null,{"$f":"IF(($N5=\"s\"),1,0)","v":0},{"$f":"IF(($S5=\"s\"),1,0)","v":0},{"$f":"IF(($X5=\"s\"),1,0)","v":0},{"$f":"IF(($AC5=\"s\"),1,0)","v":0},{"$f":"IF(($AH5=\"s\"),1,0)","v":0},{"$f":"IF(($AM5=\"s\"),1,0)","v":0},{"$f":"IF(($AR5=\"s\"),1,0)","v":0},{"$f":"IF(($N5=\"a\"),1,0)","v":0},{"$f":"IF(($S5=\"a\"),1,0)","v":0},{"$f":"IF(($X5=\"a\"),1,0)","v":0},{"$f":"IF(($AC5=\"a\"),1,0)","v":0},{"$f":"IF(($AH5=\"a\"),1,0)","v":0},{"$f":"IF(($AM5=\"a\"),1,0)","v":0},{"$f":"IF(($AR5=\"a\"),1,0)","v":0},null,{"$f":"IF(($J5=\"sac\"),1,0)","v":0},{"$f":"IF(($O5=\"sac\"),1,0)","v":0},{"$f":"IF((T5=\"sac\"),1,0)","v":0},{"$f":"IF((Y5=\"sac\"),1,0)","v":0},{"$f":"IF((AD5=\"sac\"),1,0)","v":0},{"$f":"IF((AI5=\"sac\"),1,0)","v":0},{"$f":"IF((AN5=\"sac\"),1,0)","v":0},null,{"$f":"IF((J5=\"dpr\"),1,0)","v":0},{"$f":"IF((O5=\"dpr\"),1,0)","v":0},{"$f":"IF((T5=\"dpr\"),1,0)","v":0},{"$f":"IF((Y5=\"dpr\"),1,0)","v":0},{"$f":"IF((AD5=\"dpr\"),1,0)","v":0},{"$f":"IF((AI5=\"dpr\"),1,0)","v":0},{"$f":"IF((AN5=\"dpr\"),1,0)","v":0},{"$f":"SUM(MA5:MG5)","v":0},{"$f":"IF(($J5=\"gorbi\"),1,0)","v":0},{"$f":"IF(($O5=\"gorbi\"),1,0)","v":0},{"$f":"IF(($T5=\"gorbi\"),1,0)","v":0},{"$f":"IF(($Y5=\"gorbi\"),1,0)","v":0},{"$f":"IF(($AD5=\"gorbi\"),1,0)","v":0},{"$f":"IF(($AI5=\"gorbi\"),1,0)","v":0},{"$f":"IF(($AN5=\"gorbi\"),1,0)","v":0},{"$f":"SUM(MI5:MO5)","v":0},null,{"$f":"IF(AND($M5=\"r\",$K5=1),1,0)","v":0},{"$f":"IF(AND($M5=\"r\",$K5=2),1,0)","v":0},{"$f":"IF(AND($M5=\"r\",$K5=3),1,0)","v":0},{"$f":"IF(AND($M5=\"r\",$K5=4),1,0)","v":0},{"$f":"IF(AND($M5=\"r\",$K5=5),1,0)","v":0},{"$f":"IF(AND($M5=\"r\",$K5=6),1,0)","v":0},{"$f":"IF(AND($R5=\"r\",$P5=1),1,0)","v":0},{"$f":"IF(AND($R5=\"r\",$P5=2),1,0)","v":0},{"$f":"IF(AND($R5=\"r\",$P5=3),1,0)","v":0},{"$f":"IF(AND($R5=\"r\",$P5=4),1,0)","v":0},{"$f":"IF(AND($R5=\"r\",$P5=5),1,0)","v":0},{"$f":"IF(AND($R5=\"r\",$P5=6),1,0)","v":0},{"$f":"IF(AND($W5=\"r\",$U5=1),1,0)","v":0},{"$f":"IF(AND($W5=\"r\",$U5=2),1,0)","v":0},{"$f":"IF(AND($W5=\"r\",$U5=3),1,0)","v":0},{"$f":"IF(AND($W5=\"r\",$U5=4),1,0)","v":0},{"$f":"IF(AND($W5=\"r\",$U5=5),1,0)","v":0},{"$f":"IF(AND($W5=\"r\",$U5=6),1,0)","v":0},{"$f":"IF(AND($AQ5=\"r\",$AO5=1),1,0)","v":0},{"$f":"IF(AND($AQ5=\"r\",$AO5=2),1,0)","v":0},{"$f":"IF(AND($AQ5=\"r\",$AO5=3),1,0)","v":0},{"$f":"IF(AND($AQ5=\"r\",$AO5=4),1,0)","v":0},{"$f":"IF(AND($AQ5=\"r\",$AO5=5),1,0)","v":0},{"$f":"IF(AND($AQ5=\"r\",$AO5=6),1,0)","v":0},{"$f":"IF(AND($AB5=\"r\",$Z5=1),1,0)","v":0},{"$f":"IF(AND($AB5=\"r\",$Z5=2),1,0)","v":0},{"$f":"IF(AND($AB5=\"r\",$Z5=3),1,0)","v":0},{"$f":"IF(AND($AB5=\"r\",$Z5=4),1,0)","v":0},{"$f":"IF(AND($AB5=\"r\",$Z5=5),1,0)","v":0},{"$f":"IF(AND($AB5=\"r\",$Z5=6),1,0)","v":0},{"$f":"IF(AND($AG5=\"r\",$AE5=1),1,0)","v":0},{"$f":"IF(AND($AG5=\"r\",$AE5=2),1,0)","v":0},{"$f":"IF(AND($AG5=\"r\",$AE5=3),1,0)","v":0},{"$f":"IF(AND($AG5=\"r\",$AE5=4),1,0)","v":0},{"$f":"IF(AND($AG5=\"r\",$AE5=5),1,0)","v":0},{"$f":"IF(AND($AG5=\"r\",$AE5=6),1,0)","v":0},{"$f":"IF(AND($AL5=\"r\",$AJ5=1),1,0)","v":0},{"$f":"IF(AND($AL5=\"r\",$AJ5=2),1,0)","v":0},{"$f":"IF(AND($AL5=\"r\",$AJ5=3),1,0)","v":0},{"$f":"IF(AND($AL5=\"r\",$AJ5=4),1,0)","v":0},{"$f":"IF(AND($AL5=\"r\",$AJ5=5),1,0)","v":0},{"$f":"IF(AND($AL5=\"r\",$AJ5=6),1,0)","v":0},null,{"$f":"IF(AND($M5=\"u\",$K5=1),1,0)","v":0},{"$f":"IF(AND($M5=\"u\",$K5=2),1,0)","v":0},{"$f":"IF(AND($M5=\"u\",$K5=3),1,0)","v":0},{"$f":"IF(AND($M5=\"u\",$K5=4),1,0)","v":0},{"$f":"IF(AND($M5=\"u\",$K5=5),1,0)","v":0},{"$f":"IF(AND($M5=\"u\",$K5=6),1,0)","v":0},{"$f":"IF(AND($R5=\"u\",$P5=1),1,0)","v":0},{"$f":"IF(AND($R5=\"u\",$P5=2),1,0)","v":0},{"$f":"IF(AND($R5=\"u\",$P5=3),1,0)","v":0},{"$f":"IF(AND($R5=\"u\",$P5=4),1,0)","v":0},{"$f":"IF(AND($R5=\"u\",$P5=5),1,0)","v":0},{"$f":"IF(AND($R5=\"u\",$P5=6),1,0)","v":0},{"$f":"IF(AND($W5=\"u\",$U5=1),1,0)","v":0},{"$f":"IF(AND($W5=\"u\",$U5=2),1,0)","v":0},{"$f":"IF(AND($W5=\"u\",$U5=3),1,0)","v":0},{"$f":"IF(AND($W5=\"u\",$U5=4),1,0)","v":0},{"$f":"IF(AND($W5=\"u\",$U5=5),1,0)","v":0},{"$f":"IF(AND($W5=\"u\",$U5=6),1,0)","v":0},{"$f":"IF(AND($AQ5=\"u\",$AO5=1),1,0)","v":0},{"$f":"IF(AND($AQ5=\"u\",$AO5=2),1,0)","v":0},{"$f":"IF(AND($AQ5=\"u\",$AO5=3),1,0)","v":0},{"$f":"IF(AND($AQ5=\"u\",$AO5=4),1,0)","v":0},{"$f":"IF(AND($AQ5=\"u\",$AO5=5),1,0)","v":0},{"$f":"IF(AND($AQ5=\"u\",$AO5=6),1,0)","v":0},{"$f":"IF(AND($AB5=\"u\",$Z5=1),1,0)","v":0},{"$f":"IF(AND($AB5=\"u\",$Z5=2),1,0)","v":0},{"$f":"IF(AND($AB5=\"u\",$Z5=3),1,0)","v":0},{"$f":"IF(AND($AB5=\"u\",$Z5=4),1,0)","v":0},{"$f":"IF(AND($AB5=\"u\",$Z5=5),1,0)","v":0},{"$f":"IF(AND($AB5=\"u\",$Z5=6),1,0)","v":0},{"$f":"IF(AND($AG5=\"u\",$AE5=1),1,0)","v":0},{"$f":"IF(AND($AG5=\"u\",$AE5=2),1,0)","v":0},{"$f":"IF(AND($AG5=\"u\",$AE5=3),1,0)","v":0},{"$f":"IF(AND($AG5=\"u\",$AE5=4),1,0)","v":0},{"$f":"IF(AND($AG5=\"u\",$AE5=5),1,0)","v":0},{"$f":"IF(AND($AG5=\"u\",$AE5=6),1,0)","v":0},{"$f":"IF(AND($AL5=\"u\",$AJ5=1),1,0)","v":0},{"$f":"IF(AND($AL5=\"u\",$AJ5=2),1,0)","v":0},{"$f":"IF(AND($AL5=\"u\",$AJ5=3),1,0)","v":0},{"$f":"IF(AND($AL5=\"u\",$AJ5=4),1,0)","v":0},{"$f":"IF(AND($AL5=\"u\",$AJ5=5),1,0)","v":0},{"$f":"IF(AND($AL5=\"u\",$AJ5=6),1,0)","v":0},null,{"$f":"IF(OR($M5=\"r\",$M5=\"u\"),1,0)","v":0},{"$f":"IF(OR($R5=\"r\",$R5=\"u\"),1,0)","v":0},{"$f":"IF(OR($W5=\"r\",$W5=\"u\"),1,0)","v":0},{"$f":"IF(OR($AB5=\"r\",$AB5=\"u\"),1,0)","v":0},{"$f":"IF(OR($AG5=\"r\",$AG5=\"u\"),1,0)","v":0},{"$f":"IF(OR($AL5=\"r\",$AL5=\"u\"),1,0)","v":0},{"$f":"IF(OR($AQ5=\"r\",$AQ5=\"u\"),1,0)","v":0},{"$f":"SUM(PZ5:QF5)","v":0}]
[{"$f":"QG6","v":0},2,{"$nulls":44},{"$f":"SUM(AV6,BA6,BD6:BF6,BH6:BJ6)-BL6","v":0},{"$f":"SUM(BP6:CE6,CP6:DE6,DP6:EE6,EP6:FE6,FP6:GE6,GP6:HE6,HP6:IE6)","v":0},{"$f":"CJ6+DJ6+EJ6+FJ6+GJ6+HJ6","v":0},{"$f":"(BS6)+(BT6)+(BU6*2)+(BV6*3)+(BW6)+(BX6*2)+(BY6*3)+(BZ6)+(CA6*2)+(CB6*3)+(CC6*2)+(CD6*3)+(CE6*4)+(CS6)+(CT6)+(CU6*2)+(CV6*3)+(CW6)+(CX6*2)+(CY6*3)+(CZ6)+(DA6*2)+(DB6*3)+(DC6*2)+(DD6*3)+(DE6*4)+(DS6)+(DT6)+(DU6*2)+(DV6*3)+(DW6)+(DX6*2)+(DY6*3)+(DZ6)+(EA6*2)+(EB6*3)+(EC6*2)+(ED6*3)+(EE6*4)+(ES6)+(ET6)+(EU6*2)+(EV6*3)+(EW6)+(EX6*2)+(EY6*3)+(EZ6)+(FA6*2)+(FB6*3)+(FC6*2)+(FD6*3)+(FE6*4)+(FS6)+(FT6)+(FU6*2)+(FV6*3)+(FW6)+(FX6*2)+(FY6*3)+(FZ6)+(GA6*2)+(GB6*3)+(GC6*2)+(GD6*3)+(GE6*4)+(GS6)+(GT6)+(GU6*2)+(GV6*3)+(GW6)+(GX6*2)+(GY6*3)+(GZ6)+(HA6*2)+(HB6*3)+(HC6*2)+(HD6*3)+(HE6*4)+(HS6)+(HT6)+(HU6*2)+(HV6*3)+(HW6)+(HX6*2)+(HY6*3)+(HZ6)+(IA6*2)+(IB6*3)+(IC6*2)+(ID6*3)+(IE6*4)+(CN6+DN6+EN6+FN6+GN6+IN6+JO6)+MH6+MP6","v":0},{"$f":"CI6+DI6+EI6+FI6+GI6+HI6","v":0},{"$f":"(CN6+DN6+EN6+FN6+GN6+IN6+JO6)","v":0},{"$f":"CL6+DL6+EL6+FL6+GL6+IL6+JL6","v":0},{"$f":"SUM(LS6:LY6)","v":0},0,{"$f":"BS6+CS6+DS6+ES6+FS6+GS6+HS6+SUM(KH6:LB6)","v":0},{"$f":"BQ6+CQ6+DQ6+EQ6+FQ6+GQ6+HQ6+SUM(IP6:JJ6)","v":0},{"$f":"BR6+CR6+DR6+ER6+FR6+GR6+HR6+SUM(JL6:KF6)","v":0},{"$f":"AU6+AW6+AY6","v":0},{"$f":"CF6+DF6+EF6+FF6+GF6+HF6","v":0},{"$f":"CG6+DG6+EG6+FG6+GG6+HG6+MP6","v":0},{"$f":"CH6+DH6+EH6+FH6+GH6+HH6+MH6","v":0},{"$f":"CM6+DM6+EM6+FM6+JM6+HM6+IM6","v":0},{"$f":"SUM(BD6:BF6)","v":0},{"$f":"SUM(LD6:LJ6)","v":0},{"$f":"SUM(LK6:LQ6)+BM6","v":0},null,0,0,0,0,0,0,0,0,0,0,0,0,0,0,0,0,0,0,0,0,0,0,0,0,0,null,0,0,0,0,0,0,0,0,0,0,0,0,0,0,0,0,0,0,0,0,0,0,0,0,0,null,0,0,0,0,0,0,0,0,0,0,0,0,0,0,0,0,0,0,0,0,0,0,0,0,0,null,0,0,0,0,0,0,0,0,0,0,0,0,0,0,0,0,0,0,0,0,0,0,0,0,0,null,0,0,0,0,0,0,0,0,0,0,0,0,0,0,0,0,0,0,0,0,0,0,0,0,0,null,0,0,0,0,0,0,0,0,0,0,0,0,0,0,0,0,0,0,0,0,0,0,0,0,0,null,0,0,0,0,0,0,0,0,0,0,0,0,0,0,0,0,0,0,0,0,0,0,0,0,0,null,{"$f":"BW6","v":0},{"$f":"BX6","v":0},{"$f":"BY6","v":0},{"$f":"CW6","v":0},{"$f":"CX6","v":0},{"$f":"CY6","v":0},{"$f":"DW6","v":0},{"$f":"DX6","v":0},{"$f":"DY6","v":0},{"$f":"EW6","v":0},{"$f":"EX6","v":0},{"$f":"EY6","v":0},{"$f":"FW6","v":0},{"$f":"FX6","v":0},{"$f":"FY6","v":0},{"$f":"GW6","v":0},{"$f":"GX6","v":0},{"$f":"GY6","v":0},{"$f":"HW6","v":0},{"$f":"HX6","v":0},{"$f":"HY6","v":0},null,{"$f":"BZ6","v":0},{"$f":"CA6","v":0},{"$f":"CB6","v":0},{"$f":"CZ6","v":0},{"$f":"DA6","v":0},{"$f":"DB6","v":0},{"$f":"DZ6","v":0},{"$f":"EA6","v":0},{"$f":"EB6","v":0},{"$f":"EZ6","v":0},{"$f":"FA6","v":0},{"$f":"FB6","v":0},{"$f":"FZ6","v":0},{"$f":"GA6","v":0},{"$f":"GB6","v":0},{"$f":"GZ6","v":0},{"$f":"HA6","v":0},{"$f":"HB6","v":0},{"$f":"HZ6","v":0},{"$f":"IA6","v":0},{"$f":"IB6","v":0},null,{"$f":"CC6","v":0},{"$f":"CD6","v":0},{"$f":"CE6","v":0},{"$f":"DC6","v":0},{"$f":"DD6","v":0},{"$f":"DE6","v":0},{"$f":"EC6","v":0},{"$f":"ED6","v":0},{"$f":"EE6","v":0},{"$f":"FC6","v":0},{"$f":"FD6","v":0},{"$f":"FE6","v":0},{"$f":"GC6","v":0},{"$f":"GD6","v":0},{"$f":"GE6","v":0},{"$f":"HC6","v":0},{"$f":"HD6","v":0},{"$f":"HE6","v":0},{"$f":"IC6","v":0},{"$f":"ID6","v":0},{"$f":"IE6","v":0},null,{"$f":"IF(($N6=\"s\"),1,0)","v":0},{"$f":"IF(($S6=\"s\"),1,0)","v":0},{"$f":"IF(($X6=\"s\"),1,0)","v":0},{"$f":"IF(($AC6=\"s\"),1,0)","v":0},{"$f":"IF(($AH6=\"s\"),1,0)","v":0},{"$f":"IF(($AM6=\"s\"),1,0)","v":0},{"$f":"IF(($AR6=\"s\"),1,0)","v":0},{"$f":"IF(($N6=\"a\"),1,0)","v":0},{"$f":"IF(($S6=\"a\"),1,0)","v":0},{"$f":"IF(($X6=\"a\"),1,0)","v":0},{"$f":"IF(($AC6=\"a\"),1,0)","v":0},{"$f":"IF(($AH6=\"a\"),1,0)","v":0},{"$f":"IF(($AM6=\"a\"),1,0)","v":0},{"$f":"IF(($AR6=\"a\"),1,0)","v":0},null,{"$f":"IF(($J6=\"sac\"),1,0)","v":0},{"$f":"IF(($O6=\"sac\"),1,0)","v":0},0,0,0,0,0,null,0,0,0,0,0,0,0,{"$f":"SUM(MA6:MG6)","v":0},{"$f":"IF(($J6=\"gorbi\"),1,0)","v":0},{"$f":"IF(($O6=\"gorbi\"),1,0)","v":0},{"$f":"IF(($T6=\"gorbi\"),1,0)","v":0},{"$f":"IF(($Y6=\"gorbi\"),1,0)","v":0},{"$f":"IF(($AD6=\"gorbi\"),1,0)","v":0},{"$f":"IF(($AI6=\"gorbi\"),1,0)","v":0},{"$f":"IF(($AN6=\"gorbi\"),1,0)","v":0},{"$f":"SUM(MI6:MO6)","v":0},null,{"$f":"IF(AND($M6=\"r\",$K6=1),1,0)","v":0},{"$f":"IF(AND($M6=\"r\",$K6=2),1,0)","v":0},{"$f":"IF(AND($M6=\"r\",$K6=3),1,0)","v":0},{"$f":"IF(AND($M6=\"r\",$K6=4),1,0)","v":0},{"$f":"IF(AND($M6=\"r\",$K6=5),1,0)","v":0},{"$f":"IF(AND($M6=\"r\",$K6=6),1,0)","v":0},{"$f":"IF(AND($R6=\"r\",$P6=1),1,0)","v":0},{"$f":"IF(AND($R6=\"r\",$P6=2),1,0)","v":0},{"$f":"IF(AND($R6=\"r\",$P6=3),1,0)","v":0},{"$f":"IF(AND($R6=\"r\",$P6=4),1,0)","v":0},{"$f":"IF(AND($R6=\"r\",$P6=5),1,0)","v":0},{"$f":"IF(AND($R6=\"r\",$P6=6),1,0)","v":0},{"$f":"IF(AND($W6=\"r\",$U6=1),1,0)","v":0},{"$f":"IF(AND($W6=\"r\",$U6=2),1,0)","v":0},{"$f":"IF(AND($W6=\"r\",$U6=3),1,0)","v":0},{"$f":"IF(AND($W6=\"r\",$U6=4),1,0)","v":0},{"$f":"IF(AND($W6=\"r\",$U6=5),1,0)","v":0},{"$f":"IF(AND($W6=\"r\",$U6=6),1,0)","v":0},{"$f":"IF(AND($AQ6=\"r\",$AO6=1),1,0)","v":0},{"$f":"IF(AND($AQ6=\"r\",$AO6=2),1,0)","v":0},{"$f":"IF(AND($AQ6=\"r\",$AO6=3),1,0)","v":0},{"$f":"IF(AND($AQ6=\"r\",$AO6=4),1,0)","v":0},{"$f":"IF(AND($AQ6=\"r\",$AO6=5),1,0)","v":0},{"$f":"IF(AND($AQ6=\"r\",$AO6=6),1,0)","v":0},{"$f":"IF(AND($AB6=\"r\",$Z6=1),1,0)","v":0},{"$f":"IF(AND($AB6=\"r\",$Z6=2),1,0)","v":0},{"$f":"IF(AND($AB6=\"r\",$Z6=3),1,0)","v":0},{"$f":"IF(AND($AB6=\"r\",$Z6=4),1,0)","v":0},{"$f":"IF(AND($AB6=\"r\",$Z6=5),1,0)","v":0},{"$f":"IF(AND($AB6=\"r\",$Z6=6),1,0)","v":0},{"$f":"IF(AND($AG6=\"r\",$AE6=1),1,0)","v":0},{"$f":"IF(AND($AG6=\"r\",$AE6=2),1,0)","v":0},{"$f":"IF(AND($AG6=\"r\",$AE6=3),1,0)","v":0},{"$f":"IF(AND($AG6=\"r\",$AE6=4),1,0)","v":0},{"$f":"IF(AND($AG6=\"r\",$AE6=5),1,0)","v":0},{"$f":"IF(AND($AG6=\"r\",$AE6=6),1,0)","v":0},{"$f":"IF(AND($AL6=\"r\",$AJ6=1),1,0)","v":0},{"$f":"IF(AND($AL6=\"r\",$AJ6=2),1,0)","v":0},{"$f":"IF(AND($AL6=\"r\",$AJ6=3),1,0)","v":0},{"$f":"IF(AND($AL6=\"r\",$AJ6=4),1,0)","v":0},{"$f":"IF(AND($AL6=\"r\",$AJ6=5),1,0)","v":0},{"$f":"IF(AND($AL6=\"r\",$AJ6=6),1,0)","v":0},null,0,0,0,0,0,{"$f":"IF(AND($M6=\"u\",$K6=6),1,0)","v":0},{"$f":"IF(AND($R6=\"u\",$P6=1),1,0)","v":0},{"$f":"IF(AND($R6=\"u\",$P6=2),1,0)","v":0},{"$f":"IF(AND($R6=\"u\",$P6=3),1,0)","v":0},{"$f":"IF(AND($R6=\"u\",$P6=4),1,0)","v":0},{"$f":"IF(AND($R6=\"u\",$P6=5),1,0)","v":0},{"$f":"IF(AND($R6=\"u\",$P6=6),1,0)","v":0},{"$f":"IF(AND($W6=\"u\",$U6=1),1,0)","v":0},{"$f":"IF(AND($W6=\"u\",$U6=2),1,0)","v":0},{"$f":"IF(AND($W6=\"u\",$U6=3),1,0)","v":0},{"$f":"IF(AND($W6=\"u\",$U6=4),1,0)","v":0},{"$f":"IF(AND($W6=\"u\",$U6=5),1,0)","v":0},{"$f":"IF(AND($W6=\"u\",$U6=6),1,0)","v":0},{"$f":"IF(AND($AQ6=\"u\",$AO6=1),1,0)","v":0},{"$f":"IF(AND($AQ6=\"u\",$AO6=2),1,0)","v":0},{"$f":"IF(AND($AQ6=\"u\",$AO6=3),1,0)","v":0},{"$f":"IF(AND($AQ6=\"u\",$AO6=4),1,0)","v":0},{"$f":"IF(AND($AQ6=\"u\",$AO6=5),1,0)","v":0},{"$f":"IF(AND($AQ6=\"u\",$AO6=6),1,0)","v":0},{"$f":"IF(AND($AB6=\"u\",$Z6=1),1,0)","v":0},{"$f":"IF(AND($AB6=\"u\",$Z6=2),1,0)","v":0},{"$f":"IF(AND($AB6=\"u\",$Z6=3),1,0)","v":0},{"$f":"IF(AND($AB6=\"u\",$Z6=4),1,0)","v":0},{"$f":"IF(AND($AB6=\"u\",$Z6=5),1,0)","v":0},{"$f":"IF(AND($AB6=\"u\",$Z6=6),1,0)","v":0},{"$f":"IF(AND($AG6=\"u\",$AE6=1),1,0)","v":0},{"$f":"IF(AND($AG6=\"u\",$AE6=2),1,0)","v":0},{"$f":"IF(AND($AG6=\"u\",$AE6=3),1,0)","v":0},{"$f":"IF(AND($AG6=\"u\",$AE6=4),1,0)","v":0},{"$f":"IF(AND($AG6=\"u\",$AE6=5),1,0)","v":0},{"$f":"IF(AND($AG6=\"u\",$AE6=6),1,0)","v":0},{"$f":"IF(AND($AL6=\"u\",$AJ6=1),1,0)","v":0},{"$f":"IF(AND($AL6=\"u\",$AJ6=2),1,0)","v":0},{"$f":"IF(AND($AL6=\"u\",$AJ6=3),1,0)","v":0},{"$f":"IF(AND($AL6=\"u\",$AJ6=4),1,0)","v":0},{"$f":"IF(AND($AL6=\"u\",$AJ6=5),1,0)","v":0},{"$f":"IF(AND($AL6=\"u\",$AJ6=6),1,0)","v":0},null,{"$f":"IF(OR($M6=\"r\",$M6=\"u\"),1,0)","v":0},{"$f":"IF(OR($R6=\"r\",$R6=\"u\"),1,0)","v":0},{"$f":"IF(OR($W6=\"r\",$W6=\"u\"),1,0)","v":0},{"$f":"IF(OR($AB6=\"r\",$AB6=\"u\"),1,0)","v":0},{"$f":"IF(OR($AG6=\"r\",$AG6=\"u\"),1,0)","v":0},{"$f":"IF(OR($AL6=\"r\",$AL6=\"u\"),1,0)","v":0},{"$f":"IF(OR($AQ6=\"r\",$AQ6=\"u\"),1,0)","v":0},{"$f":"SUM(PZ6:QF6)","v":0}]
[0,3,{"$nulls":44},0,0,0,0,0,0,0,0,0,0,0,0,0,0,0,0,0,0,0,0,null,0,0,0,0,0,0,0,0,0,0,0,0,0,0,0,0,0,0,0,0,0,0,0,0,0,null,0,0,0,0,0,0,0,0,0,0,0,0,0,0,0,0,0,0,0,0,0,0,0,0,0,null,0,0,0,0,0,0,0,0,0,0,0,0,0,0,0,0,0,0,0,0,0,0,0,0,0,null,0,0,0,0,0,0,0,0,0,0,0,0,0,0,0,0,0,0,0,0,0,0,0,0,0,null,0,0,0,0,0,0,0,0,0,0,0,0,0,0,0,0,0,0,0,0,0,0,0,0,0,null,0,0,0,0,0,0,0,0,0,0,0,0,0,0,0,0,0,0,0,0,0,0,0,0,0,null,0,0,0,0,0,0,0,0,0,0,0,0,0,0,0,0,0,0,0,0,0,0,0,0,0,null,0,0,0,0,0,0,0,0,0,0,0,0,0,0,0,0,0,0,0,0,0,null,0,0,0,0,0,0,0,0,0,0,0,0,0,0,0,0,0,0,0,0,0,null,0,0,0,0,0,0,0,0,0,0,0,0,0,0,0,0,0,0,0,0,0,null,0,0,0,0,0,0,0,0,0,0,0,0,0,0,null,0,0,0,0,0,0,0,null,0,0,0,0,0,0,0,0,0,0,0,0,0,0,0,0,null,0,0,0,0,0,0,0,0,0,0,0,0,0,0,0,0,0,0,0,0,0,0,0,0,0,0,0,0,0,0,0,0,0,0,0,0,0,0,0,0,0,0,null,0,0,0,0,0,0,0,0,0,0,0,0,0,0,0,0,0,0,0,0,0,0,0,0,0,0,0,0,0,0,0,0,0,0,0,0,0,0,0,0,0,0,null,0,0,0,0,0,0,0,0]
[0,4,{"$nulls":44},0,0,0,0,0,0,0,0,0,0,0,0,0,0,0,0,0,0,0,0,null,0,0,0,0,0,0,0,0,0,0,0,0,0,0,0,0,0,0,0,0,0,0,0,0,0,null,0,0,0,0,0,0,0,0,0,0,0,0,0,0,0,0,0,0,0,0,0,0,0,0,0,null,0,0,0,0,0,0,0,0,0,0,0,0,0,0,0,0,0,0,0,0,0,0,0,0,0,null,0,0,0,0,0,0,0,0,0,0,0,0,0,0,0,0,0,0,0,0,0,0,0,0,0,null,0,0,0,0,0,0,0,0,0,0,0,0,0,0,0,0,0,0,0,0,0,0,0,0,0,null,0,0,0,0,0,0,0,0,0,0,0,0,0,0,0,0,0,0,0,0,0,0,0,0,0,null,0,0,0,0,0,0,0,0,0,0,0,0,0,0,0,0,0,0,0,0,0,0,0,0,0,null,0,0,0,0,0,0,0,0,0,0,0,0,0,0,0,0,0,0,0,0,0,null,0,0,0,0,0,0,0,0,0,0,0,0,0,0,0,0,0,0,0,0,0,null,0,0,0,0,0,0,0,0,0,0,0,0,0,0,0,0,0,0,0,0,0,null,0,0,0,0,0,0,0,0,0,0,0,0,0,0,null,0,0,0,0,0,0,0,null,0,0,0,0,0,0,0,0,0,0,0,0,0,0,0,0,null,0,0,0,0,0,0,0,0,0,0,0,0,0,0,0,0,0,0,0,0,0,0,0,0,0,0,0,0,0,0,0,0,0,0,0,0,0,0,0,0,0,0,null,0,0,0,0,0,0,0,0,0,0,0,0,0,0,0,0,0,0,0,0,0,0,0,0,0,0,0,0,0,0,0,0,0,0,0,0,0,0,0,0,0,0,null,0,0,0,0,0,0,0,0]
[0,5,{"$nulls":44},0,0,0,0,0,0,0,0,0,0,0,0,0,0,0,0,0,0,0,0,null,0,0,0,0,0,0,0,0,0,0,0,0,0,0,0,0,0,0,0,0,0,0,0,0,0,null,0,0,0,0,0,0,0,0,0,0,0,0,0,0,0,0,0,0,0,0,0,0,0,0,0,null,0,0,0,0,0,0,0,0,0,0,0,0,0,0,0,0,0,0,0,0,0,0,0,0,0,null,0,0,0,0,0,0,0,0,0,0,0,0,0,0,0,0,0,0,0,0,0,0,0,0,0,null,0,0,0,0,0,0,0,0,0,0,0,0,0,0,0,0,0,0,0,0,0,0,0,0,0,null,0,0,0,0,0,0,0,0,0,0,0,0,0,0,0,0,0,0,0,0,0,0,0,0,0,null,0,0,0,0,0,0,0,0,0,0,0,0,0,0,0,0,0,0,0,0,0,0,0,0,0,null,0,0,0,0,0,0,0,0,0,0,0,0,0,0,0,0,0,0,0,0,0,null,0,0,0,0,0,0,0,0,0,0,0,0,0,0,0,0,0,0,0,0,0,null,0,0,0,0,0,0,0,0,0,0,0,0,0,0,0,0,0,0,0,0,0,null,0,0,0,0,0,0,0,0,0,0,0,0,0,0,null,0,0,0,0,0,0,0,null,0,0,0,0,0,0,0,0,0,0,0,0,0,0,0,0,null,0,0,0,0,0,0,0,0,0,0,0,0,0,0,0,0,0,0,0,0,0,0,0,0,0,0,0,0,0,0,0,0,0,0,0,0,0,0,0,0,0,0,null,0,0,0,0,0,0,0,0,0,0,0,0,0,0,0,0,0,0,0,0,0,0,0,0,0,0,0,0,0,0,0,0,0,0,0,0,0,0,0,0,0,0,null,0,0,0,0,0,0,0,0]
[0,6,{"$nulls":44},{"$f":"SUM(AV10,BA10,BD10:BF10,BH10:BJ10)-BL10","v":0},{"$f":"SUM(BP10:CE10,CP10:DE10,DP10:EE10,EP10:FE10,FP10:GE10,GP10:HE10,HP10:IE10)","v":0},{"$f":"CJ10+DJ10+EJ10+FJ10+GJ10+HJ10","v":0},0,{"$f":"CI10+DI10+EI10+FI10+GI10+HI10","v":0},{"$f":"(CN10+DN10+EN10+FN10+GN10+IN10+JO10)","v":0},{"$f":"CL10+DL10+EL10+FL10+GL10+IL10+JL10","v":0},0,0,{"$f":"BS10+CS10+DS10+ES10+FS10+GS10+HS10+SUM(KH10:LB10)","v":0},{"$f":"BQ10+CQ10+DQ10+EQ10+FQ10+GQ10+HQ10+SUM(IP10:JJ10)","v":0},{"$f":"BR10+CR10+DR10+ER10+FR10+GR10+HR10+SUM(JL10:KF10)","v":0},{"$f":"AU10+AW10+AY10","v":0},{"$f":"CF10+DF10+EF10+FF10+GF10+HF10","v":0},0,0,{"$f":"CM10+DM10+EM10+FM10+JM10+HM10+IM10","v":0},{"$f":"SUM(BD10:BF10)","v":0},{"$f":"SUM(LD10:LJ10)","v":0},{"$f":"SUM(LK10:LQ10)+BM10","v":0},null,{"$f":"IF(($J10=\"H\"),1,0)","v":0},{"$f":"IF(($J10=\"2B\"),1,0)","v":0},{"$f":"IF(($J10=\"3B\"),1,0)","v":0},{"$f":"IF(($J10=\"HR\"),1,0)","v":0},{"$f":"IF(($J10=\"Hrb\"),1,0)","v":0},{"$f":"IF(($J10=\"H2rb\"),1,0)","v":0},{"$f":"IF(($J10=\"H3rb\"),1,0)","v":0},{"$f":"IF(($J10=\"2Brb\"),1,0)","v":0},{"$f":"IF(($J10=\"2B2rb\"),1,0)","v":0},{"$f":"IF(($J10=\"2B3rb\"),1,0)","v":0},{"$f":"IF(($J10=\"3Brb\"),1,0)","v":0},{"$f":"IF(($J10=\"3B2rb\"),1,0)","v":0},{"$f":"IF(($J10=\"3B3rb\"),1,0)","v":0},{"$f":"IF(($J10=\"HR2\"),1,0)","v":0},{"$f":"IF(($J10=\"HR3\"),1,0)","v":0},{"$f":"IF(($J10=\"GS\"),1,0)","v":0},{"$f":"IF(($J10=\"AO\"),1,0)","v":0},{"$f":"IF(($J10=\"GO\"),1,0)","v":0},{"$f":"IF(($J10=\"DP\"),1,0)","v":0},{"$f":"IF(($J10=\"HBP\"),1,0)","v":0},{"$f":"IF(($J10=\"BB\"),1,0)","v":0},{"$f":"IF(($J10=\"BBrb\"),1,0)","v":0},{"$f":"IF(($J10=\"K\"),1,0)","v":0},{"$f":"IF(($J10=\"rbe\"),1,0)","v":0},{"$f":"IF(($J10=\"sf\"),1,0)","v":0},null,{"$f":"IF(($O10=\"H\"),1,0)","v":0},{"$f":"IF(($O10=\"2B\"),1,0)","v":0},{"$f":"IF(($O10=\"3B\"),1,0)","v":0},{"$f":"IF(($O10=\"HR\"),1,0)","v":0},{"$f":"IF(($O10=\"Hrb\"),1,0)","v":0},{"$f":"IF(($O10=\"H2rb\"),1,0)","v":0},{"$f":"IF(($O10=\"H3rb\"),1,0)","v":0},{"$f":"IF(($O10=\"2Brb\"),1,0)","v":0},{"$f":"IF(($O10=\"2B2rb\"),1,0)","v":0},{"$f":"IF(($O10=\"2B3rb\"),1,0)","v":0},{"$f":"IF(($O10=\"3Brb\"),1,0)","v":0},{"$f":"IF(($O10=\"3B2rb\"),1,0)","v":0},{"$f":"IF(($O10=\"3B3rb\"),1,0)","v":0},{"$f":"IF(($O10=\"HR2\"),1,0)","v":0},{"$f":"IF(($O10=\"HR3\"),1,0)","v":0},{"$f":"IF(($O10=\"GS\"),1,0)","v":0},{"$f":"IF(($O10=\"AO\"),1,0)","v":0},{"$f":"IF(($O10=\"GO\"),1,0)","v":0},{"$f":"IF(($O10=\"DP\"),1,0)","v":0},{"$f":"IF(($O10=\"HBP\"),1,0)","v":0},{"$f":"IF(($O10=\"BB\"),1,0)","v":0},{"$f":"IF(($O10=\"BBrb\"),1,0)","v":0},{"$f":"IF(($O10=\"K\"),1,0)","v":0},{"$f":"IF(($O10=\"rbe\"),1,0)","v":0},{"$f":"IF(($O10=\"sf\"),1,0)","v":0},null,{"$f":"IF(($T10=\"H\"),1,0)","v":0},{"$f":"IF(($T10=\"2B\"),1,0)","v":0},{"$f":"IF(($T10=\"3B\"),1,0)","v":0},{"$f":"IF(($T10=\"HR\"),1,0)","v":0},{"$f":"IF(($T10=\"Hrb\"),1,0)","v":0},{"$f":"IF(($T10=\"H2rb\"),1,0)","v":0},{"$f":"IF(($T10=\"H3rb\"),1,0)","v":0},{"$f":"IF(($T10=\"2Brb\"),1,0)","v":0},{"$f":"IF(($T10=\"2B2rb\"),1,0)","v":0},{"$f":"IF(($T10=\"2B3rb\"),1,0)","v":0},{"$f":"IF(($T10=\"3Brb\"),1,0)","v":0},{"$f":"IF(($T10=\"3B2rb\"),1,0)","v":0},{"$f":"IF(($T10=\"3B3rb\"),1,0)","v":0},{"$f":"IF(($T10=\"HR2\"),1,0)","v":0},{"$f":"IF(($T10=\"HR3\"),1,0)","v":0},{"$f":"IF(($T10=\"GS\"),1,0)","v":0},{"$f":"IF(($T10=\"AO\"),1,0)","v":0},{"$f":"IF(($T10=\"GO\"),1,0)","v":0},{"$f":"IF(($T10=\"DP\"),1,0)","v":0},{"$f":"IF(($T10=\"HBP\"),1,0)","v":0},{"$f":"IF(($T10=\"BB\"),1,0)","v":0},{"$f":"IF(($T10=\"BBrb\"),1,0)","v":0},{"$f":"IF(($T10=\"K\"),1,0)","v":0},{"$f":"IF(($T10=\"rbe\"),1,0)","v":0},{"$f":"IF(($T10=\"sf\"),1,0)","v":0},null,{"$f":"IF(($Y10=\"H\"),1,0)","v":0},{"$f":"IF(($Y10=\"2B\"),1,0)","v":0},{"$f":"IF(($Y10=\"3B\"),1,0)","v":0},{"$f":"IF(($Y10=\"HR\"),1,0)","v":0},{"$f":"IF(($Y10=\"Hrb\"),1,0)","v":0},{"$f":"IF(($Y10=\"H2rb\"),1,0)","v":0},{"$f":"IF(($Y10=\"H3rb\"),1,0)","v":0},{"$f":"IF(($Y10=\"2Brb\"),1,0)","v":0},{"$f":"IF(($Y10=\"2B2rb\"),1,0)","v":0},{"$f":"IF(($Y10=\"2B3rb\"),1,0)","v":0},{"$f":"IF(($Y10=\"3Brb\"),1,0)","v":0},{"$f":"IF(($Y10=\"3B2rb\"),1,0)","v":0},{"$f":"IF(($Y10=\"3B3rb\"),1,0)","v":0},{"$f":"IF(($Y10=\"HR2\"),1,0)","v":0},{"$f":"IF(($Y10=\"HR3\"),1,0)","v":0},{"$f":"IF(($Y10=\"GS\"),1,0)","v":0},{"$f":"IF(($Y10=\"AO\"),1,0)","v":0},{"$f":"IF(($Y10=\"GO\"),1,0)","v":0},{"$f":"IF(($Y10=\"DP\"),1,0)","v":0},{"$f":"IF(($Y10=\"HBP\"),1,0)","v":0},{"$f":"IF(($Y10=\"BB\"),1,0)","v":0},{"$f":"IF(($Y10=\"BBrb\"),1,0)","v":0},{"$f":"IF(($Y10=\"K\"),1,0)","v":0},{"$f":"IF(($Y10=\"rbe\"),1,0)","v":0},{"$f":"IF(($Y10=\"sf\"),1,0)","v":0},null,{"$f":"IF(($AD10=\"H\"),1,0)","v":0},{"$f":"IF(($AD10=\"2B\"),1,0)","v":0},{"$f":"IF(($AD10=\"3B\"),1,0)","v":0},{"$f":"IF(($AD10=\"HR\"),1,0)","v":0},{"$f":"IF(($AD10=\"Hrb\"),1,0)","v":0},{"$f":"IF(($AD10=\"H2rb\"),1,0)","v":0},{"$f":"IF(($AD10=\"H3rb\"),1,0)","v":0},{"$f":"IF(($AD10=\"2Brb\"),1,0)","v":0},{"$f":"IF(($AD10=\"2B2rb\"),1,0)","v":0},{"$f":"IF(($AD10=\"2B3rb\"),1,0)","v":0},{"$f":"IF(($AD10=\"3Brb\"),1,0)","v":0},{"$f":"IF(($AD10=\"3B2rb\"),1,0)","v":0},{"$f":"IF(($AD10=\"3B3rb\"),1,0)","v":0},{"$f":"IF(($AD10=\"HR2\"),1,0)","v":0},{"$f":"IF(($AD10=\"HR3\"),1,0)","v":0},{"$f":"IF(($AD10=\"GS\"),1,0)","v":0},{"$f":"IF(($AD10=\"AO\"),1,0)","v":0},{"$f":"IF(($AD10=\"GO\"),1,0)","v":0},{"$f":"IF(($AD10=\"DP\"),1,0)","v":0},{"$f":"IF(($AD10=\"HBP\"),1,0)","v":0},{"$f":"IF(($AD10=\"BB\"),1,0)","v":0},{"$f":"IF(($AD10=\"BBrb\"),1,0)","v":0},{"$f":"IF(($AD10=\"K\"),1,0)","v":0},{"$f":"IF(($AD10=\"rbe\"),1,0)","v":0},{"$f":"IF(($AD10=\"sf\"),1,0)","v":0},null,{"$f":"IF(($AI10=\"H\"),1,0)","v":0},{"$f":"IF(($AI10=\"2B\"),1,0)","v":0},{"$f":"IF(($AI10=\"3B\"),1,0)","v":0},{"$f":"IF(($AI10=\"HR\"),1,0)","v":0},{"$f":"IF(($AI10=\"Hrb\"),1,0)","v":0},{"$f":"IF(($AI10=\"H2rb\"),1,0)","v":0},{"$f":"IF(($AI10=\"H3rb\"),1,0)","v":0},{"$f":"IF(($AI10=\"2Brb\"),1,0)","v":0},{"$f":"IF(($AI10=\"2B2rb\"),1,0)","v":0},{"$f":"IF(($AI10=\"2B3rb\"),1,0)","v":0},{"$f":"IF(($AI10=\"3Brb\"),1,0)","v":0},{"$f":"IF(($AI10=\"3B2rb\"),1,0)","v":0},{"$f":"IF(($AI10=\"3B3rb\"),1,0)","v":0},{"$f":"IF(($AI10=\"HR2\"),1,0)","v":0},{"$f":"IF(($AI10=\"HR3\"),1,0)","v":0},{"$f":"IF(($AI10=\"GS\"),1,0)","v":0},{"$f":"IF(($AI10=\"AO\"),1,0)","v":0},{"$f":"IF(($AI10=\"GO\"),1,0)","v":0},{"$f":"IF(($AI10=\"DP\"),1,0)","v":0},{"$f":"IF(($AI10=\"HBP\"),1,0)","v":0},{"$f":"IF(($AI10=\"BB\"),1,0)","v":0},{"$f":"IF(($AI10=\"BBrb\"),1,0)","v":0},{"$f":"IF(($AI10=\"K\"),1,0)","v":0},{"$f":"IF(($AI10=\"rbe\"),1,0)","v":0},{"$f":"IF(($AI10=\"sf\"),1,0)","v":0},null,{"$f":"IF(($AN10=\"H\"),1,0)","v":0},{"$f":"IF(($AN10=\"2B\"),1,0)","v":0},{"$f":"IF(($AN10=\"3B\"),1,0)","v":0},{"$f":"IF(($AN10=\"HR\"),1,0)","v":0},{"$f":"IF(($AN10=\"Hrb\"),1,0)","v":0},{"$f":"IF(($AN10=\"H2rb\"),1,0)","v":0},{"$f":"IF(($AN10=\"H3rb\"),1,0)","v":0},{"$f":"IF(($AN10=\"2Brb\"),1,0)","v":0},{"$f":"IF(($AN10=\"2B2rb\"),1,0)","v":0},{"$f":"IF(($AN10=\"2B3rb\"),1,0)","v":0},{"$f":"IF(($AN10=\"3Brb\"),1,0)","v":0},{"$f":"IF(($AN10=\"3B2rb\"),1,0)","v":0},{"$f":"IF(($AN10=\"3B3rb\"),1,0)","v":0},{"$f":"IF(($AN10=\"HR2\"),1,0)","v":0},{"$f":"IF(($AN10=\"HR3\"),1,0)","v":0},{"$f":"IF(($AN10=\"GS\"),1,0)","v":0},{"$f":"IF(($AN10=\"AO\"),1,0)","v":0},{"$f":"IF(($AN10=\"GO\"),1,0)","v":0},{"$f":"IF(($AN10=\"DP\"),1,0)","v":0},{"$f":"IF(($AN10=\"HBP\"),1,0)","v":0},{"$f":"IF(($AN10=\"BB\"),1,0)","v":0},{"$f":"IF(($AN10=\"BBrb\"),1,0)","v":0},{"$f":"IF(($AN10=\"K\"),1,0)","v":0},{"$f":"IF(($AN10=\"rbe\"),1,0)","v":0},{"$f":"IF(($AN10=\"sf\"),1,0)","v":0},null,{"$f":"BW10","v":0},0,0,{"$f":"CW10","v":0},0,0,{"$f":"DW10","v":0},0,0,{"$f":"EW10","v":0},0,0,{"$f":"FW10","v":0},0,0,{"$f":"GW10","v":0},0,0,{"$f":"HW10","v":0},0,0,null,{"$f":"BZ10","v":0},0,0,{"$f":"CZ10","v":0},0,0,{"$f":"DZ10","v":0},0,0,{"$f":"EZ10","v":0},0,0,{"$f":"FZ10","v":0},0,0,{"$f":"GZ10","v":0},0,0,{"$f":"HZ10","v":0},0,0,null,{"$f":"CC10","v":0},0,0,{"$f":"DC10","v":0},0,0,{"$f":"EC10","v":0},0,0,{"$f":"FC10","v":0},0,0,{"$f":"GC10","v":0},0,0,{"$f":"HC10","v":0},0,0,{"$f":"IC10","v":0},0,0,null,{"$f":"IF(($N10=\"s\"),1,0)","v":0},{"$f":"IF(($S10=\"s\"),1,0)","v":0},{"$f":"IF(($X10=\"s\"),1,0)","v":0},{"$f":"IF(($AC10=\"s\"),1,0)","v":0},{"$f":"IF(($AH10=\"s\"),1,0)","v":0},{"$f":"IF(($AM10=\"s\"),1,0)","v":0},{"$f":"IF(($AR10=\"s\"),1,0)","v":0},{"$f":"IF(($N10=\"a\"),1,0)","v":0},{"$f":"IF(($S10=\"a\"),1,0)","v":0},{"$f":"IF(($X10=\"a\"),1,0)","v":0},{"$f":"IF(($AC10=\"a\"),1,0)","v":0},{"$f":"IF(($AH10=\"a\"),1,0)","v":0},{"$f":"IF(($AM10=\"a\"),1,0)","v":0},{"$f":"IF(($AR10=\"a\"),1,0)","v":0},null,0,0,0,0,0,0,0,null,0,0,0,0,0,0,0,0,0,0,0,0,0,0,0,0,null,0,0,0,0,0,0,0,0,0,0,0,0,0,0,0,0,0,0,0,0,0,0,0,0,0,0,0,0,0,0,0,0,0,0,0,0,0,0,0,0,0,0,null,0,0,0,0,0,0,0,0,0,0,0,0,0,0,0,0,0,0,0,0,0,0,0,0,0,0,0,0,0,0,0,0,0,0,0,0,0,0,0,0,0,0,null,0,0,0,0,0,0,0,0]
[0,7,{"$nulls":44},0,0,0,0,0,0,0,0,0,0,0,0,0,0,0,0,0,0,0,0,null,0,0,0,0,0,0,0,0,0,0,0,0,0,0,0,0,0,0,0,0,0,0,0,0,0,null,0,0,0,0,0,0,0,0,0,0,0,0,0,0,0,0,0,0,0,0,0,0,0,0,0,null,0,0,0,0,0,0,0,0,0,0,0,0,0,0,0,0,0,0,0,0,0,0,0,0,0,null,0,0,0,0,0,0,0,0,0,0,0,0,0,0,0,0,0,0,0,0,0,0,0,0,0,null,0,0,0,0,0,0,0,0,0,0,0,0,0,0,0,0,0,0,0,0,0,0,0,0,0,null,0,0,0,0,0,0,0,0,0,0,0,0,0,0,0,0,0,0,0,0,0,0,0,0,0,null,0,0,0,0,0,0,0,0,0,0,0,0,0,0,0,0,0,0,0,0,0,0,0,0,0,null,0,0,0,0,0,0,0,0,0,0,0,0,0,0,0,0,0,0,0,0,0,null,0,0,0,0,0,0,0,0,0,0,0,0,0,0,0,0,0,0,0,0,0,null,0,0,0,0,0,0,0,0,0,0,0,0,0,0,0,0,0,0,0,0,0,null,0,0,0,0,0,0,0,0,0,0,0,0,0,0,null,0,0,0,0,0,0,0,null,0,0,0,0,0,0,0,0,0,0,0,0,0,0,0,0,null,0,0,0,0,0,0,0,0,0,0,0,0,0,0,0,0,0,0,0,0,0,0,0,0,0,0,0,0,0,0,0,0,0,0,0,0,0,0,0,0,0,0,null,0,0,0,0,0,0,0,0,0,0,0,0,0,0,0,0,0,0,0,0,0,0,0,0,0,0,0,0,0,0,0,0,0,0,0,0,0,0,0,0,0,0,null,0,0,0,0,0,0,0,0]
[0,8,{"$nulls":44},0,0,0,0,0,0,0,0,0,0,0,0,0,0,0,0,0,0,0,0,null,0,0,0,0,0,0,0,0,0,0,0,0,0,0,0,0,0,0,0,0,0,0,0,0,0,null,0,0,0,0,0,0,0,0,0,0,0,0,0,0,0,0,0,0,0,0,0,0,0,0,0,null,0,0,0,0,0,0,0,0,0,0,0,0,0,0,0,0,0,0,0,0,0,0,0,0,0,null,0,0,0,0,0,0,0,0,0,0,0,0,0,0,0,0,0,0,0,0,0,0,0,0,0,null,0,0,0,0,0,0,0,0,0,0,0,0,0,0,0,0,0,0,0,0,0,0,0,0,0,null,0,0,0,0,0,0,0,0,0,0,0,0,0,0,0,0,0,0,0,0,0,0,0,0,0,null,0,0,0,0,0,0,0,0,0,0,0,0,0,0,0,0,0,0,0,0,0,0,0,0,0,null,0,0,0,0,0,0,0,0,0,0,0,0,0,0,0,0,0,0,0,0,0,null,0,0,0,0,0,0,0,0,0,0,0,0,0,0,0,0,0,0,0,0,0,null,0,0,0,0,0,0,0,0,0,0,0,0,0,0,0,0,0,0,0,0,0,null,0,0,0,0,0,0,0,0,0,0,0,0,0,0,null,0,0,0,0,0,0,0,null,0,0,0,0,0,0,0,0,0,0,0,0,0,0,0,0,null,0,0,0,0,0,0,0,0,0,0,0,0,0,0,0,0,0,0,0,0,0,0,0,0,0,0,0,0,0,0,0,0,0,0,0,0,0,0,0,0,0,0,null,0,0,0,0,0,0,0,0,0,0,0,0,0,0,0,0,0,0,0,0,0,0,0,0,0,0,0,0,0,0,0,0,0,0,0,0,0,0,0,0,0,0,null,0,0,0,0,0,0,0,0]
[0,9,{"$nulls":44},0,0,0,0,0,0,0,0,0,0,0,0,0,0,0,0,0,0,0,0,null,0,0,0,0,0,0,0,0,0,0,0,0,0,0,0,0,0,0,0,0,0,0,0,0,0,null,0,0,0,0,0,0,0,0,0,0,0,0,0,0,0,0,0,0,0,0,0,0,0,0,0,null,0,0,0,0,0,0,0,0,0,0,0,0,0,0,0,0,0,0,0,0,0,0,0,0,0,null,0,0,0,0,0,0,0,0,0,0,0,0,0,0,0,0,0,0,0,0,0,0,0,0,0,null,0,0,0,0,0,0,0,0,0,0,0,0,0,0,0,0,0,0,0,0,0,0,0,0,0,null,0,0,0,0,0,0,0,0,0,0,0,0,0,0,0,0,0,0,0,0,0,0,0,0,0,null,0,0,0,0,0,0,0,0,0,0,0,0,0,0,0,0,0,0,0,0,0,0,0,0,0,null,0,0,0,0,0,0,0,0,0,0,0,0,0,0,0,0,0,0,0,0,0,null,0,0,0,0,0,0,0,0,0,0,0,0,0,0,0,0,0,0,0,0,0,null,0,0,0,0,0,0,0,0,0,0,0,0,0,0,0,0,0,0,0,0,0,null,0,0,0,0,0,0,0,0,0,0,0,0,0,0,null,0,0,0,0,0,0,0,null,0,0,0,0,0,0,0,0,0,0,0,0,0,0,0,0,null,0,0,0,0,0,0,0,0,0,0,0,0,0,0,0,0,0,0,0,0,0,0,0,0,0,0,0,0,0,0,0,0,0,0,0,0,0,0,0,0,0,0,null,0,0,0,0,0,0,0,0,0,0,0,0,0,0,0,0,0,0,0,0,0,0,0,0,0,0,0,0,0,0,0,0,0,0,0,0,0,0,0,0,0,0,null,0,0,0,0,0,0,0,0]
[0,10,{"$nulls":44},0,0,0,0,0,0,0,0,0,0,0,0,0,0,0,0,0,0,0,0,null,0,0,0,0,0,0,0,0,0,0,0,0,0,0,0,0,0,0,0,0,0,0,0,0,0,null,0,0,0,0,0,0,0,0,0,0,0,0,0,0,0,0,0,0,0,0,0,0,0,0,0,null,0,0,0,0,0,0,0,0,0,0,0,0,0,0,0,0,0,0,0,0,0,0,0,0,0,null,0,0,0,0,0,0,0,0,0,0,0,0,0,0,0,0,0,0,0,0,0,0,0,0,0,null,0,0,0,0,0,0,0,0,0,0,0,0,0,0,0,0,0,0,0,0,0,0,0,0,0,null,0,0,0,0,0,0,0,0,0,0,0,0,0,0,0,0,0,0,0,0,0,0,0,0,0,null,0,0,0,0,0,0,0,0,0,0,0,0,0,0,0,0,0,0,0,0,0,0,0,0,0,null,0,0,0,0,0,0,0,0,0,0,0,0,0,0,0,0,0,0,0,0,0,null,0,0,0,0,0,0,0,0,0,0,0,0,0,0,0,0,0,0,0,0,0,null,0,0,0,0,0,0,0,0,0,0,0,0,0,0,0,0,0,0,0,0,0,null,0,0,0,0,0,0,0,0,0,0,0,0,0,0,null,0,0,0,0,0,0,0,null,0,0,0,0,0,0,0,0,0,0,0,0,0,0,0,0,null,0,0,0,0,0,0,0,0,0,0,0,0,0,0,0,0,0,0,0,0,0,0,0,0,0,0,0,0,0,0,0,0,0,0,0,0,0,0,0,0,0,0,null,0,0,0,0,0,0,0,0,0,0,0,0,0,0,0,0,0,0,0,0,0,0,0,0,0,0,0,0,0,0,0,0,0,0,0,0,0,0,0,0,0,0,null,0,0,0,0,0,0,0,0]
[0,11,{"$nulls":44},0,0,0,0,0,0,0,0,0,0,0,0,0,0,0,0,0,0,0,0,null,0,0,0,0,0,0,0,0,0,0,0,0,0,0,0,0,0,0,0,0,0,0,0,0,0,null,0,0,0,0,0,0,0,0,0,0,0,0,0,0,0,0,0,0,0,0,0,0,0,0,0,null,0,0,0,0,0,0,0,0,0,0,0,0,0,0,0,0,0,0,0,0,0,0,0,0,0,null,0,0,0,0,0,0,0,0,0,0,0,0,0,0,0,0,0,0,0,0,0,0,0,0,0,null,0,0,0,0,0,0,0,0,0,0,0,0,0,0,0,0,0,0,0,0,0,0,0,0,0,null,0,0,0,0,0,0,0,0,0,0,0,0,0,0,0,0,0,0,0,0,0,0,0,0,0,null,0,0,0,0,0,0,0,0,0,0,0,0,0,0,0,0,0,0,0,0,0,0,0,0,0,null,0,0,0,0,0,0,0,0,0,0,0,0,0,0,0,0,0,0,0,0,0,null,0,0,0,0,0,0,0,0,0,0,0,0,0,0,0,0,0,0,0,0,0,null,0,0,0,0,0,0,0,0,0,0,0,0,0,0,0,0,0,0,0,0,0,null,0,0,0,0,0,0,0,0,0,0,0,0,0,0,null,0,0,0,0,0,0,0,null,0,0,0,0,0,0,0,0,0,0,0,0,0,0,0,0,null,0,0,0,0,0,0,0,0,0,0,0,0,0,0,0,0,0,0,0,0,0,0,0,0,0,0,0,0,0,0,0,0,0,0,0,0,0,0,0,0,0,0,null,0,0,0,0,0,0,0,0,0,0,0,0,0,0,0,0,0,0,0,0,0,0,0,0,0,0,0,0,0,0,0,0,0,0,0,0,0,0,0,0,0,0,null,0,0,0,0,0,0,0,0]
[0,12,{"$nulls":44},0,0,0,0,0,0,0,0,0,0,0,0,0,0,0,0,0,0,0,0,null,0,0,0,0,0,0,0,0,0,0,0,0,0,0,0,0,0,0,0,0,0,0,0,0,0,null,0,0,0,0,0,0,0,0,0,0,0,0,0,0,0,0,0,0,0,0,0,0,0,0,0,null,0,0,0,0,0,0,0,0,0,0,0,0,0,0,0,0,0,0,0,0,0,0,0,0,0,null,0,0,0,0,0,0,0,0,0,0,0,0,0,0,0,0,0,0,0,0,0,0,0,0,0,null,0,0,0,0,0,0,0,0,0,0,0,0,0,0,0,0,0,0,0,0,0,0,0,0,0,null,0,0,0,0,0,0,0,0,0,0,0,0,0,0,0,0,0,0,0,0,0,0,0,0,0,null,0,0,0,0,0,0,0,0,0,0,0,0,0,0,0,0,0,0,0,0,0,0,0,0,0,null,0,0,0,0,0,0,0,0,0,0,0,0,0,0,0,0,0,0,0,0,0,null,0,0,0,0,0,0,0,0,0,0,0,0,0,0,0,0,0,0,0,0,0,null,0,0,0,0,0,0,0,0,0,0,0,0,0,0,0,0,0,0,0,0,0,null,0,0,0,0,0,0,0,0,0,0,0,0,0,0,null,0,0,0,0,0,0,0,null,0,0,0,0,0,0,0,0,0,0,0,0,0,0,0,0,null,0,0,0,0,0,0,0,0,0,0,0,0,0,0,0,0,0,0,0,0,0,0,0,0,0,0,0,0,0,0,0,0,0,0,0,0,0,0,0,0,0,0,null,0,0,0,0,0,0,0,0,0,0,0,0,0,0,0,0,0,0,0,0,0,0,0,0,0,0,0,0,0,0,0,0,0,0,0,0,0,0,0,0,0,0,null,0,0,0,0,0,0,0,0]
[0,13,{"$nulls":44},0,0,0,0,0,0,0,0,0,0,0,0,0,0,0,0,0,0,0,0,null,0,0,0,0,0,0,0,0,0,0,0,0,0,0,0,0,0,0,0,0,0,0,0,0,0,null,0,0,0,0,0,0,0,0,0,0,0,0,0,0,0,0,0,0,0,0,0,0,0,0,0,null,0,0,0,0,0,0,0,0,0,0,0,0,0,0,0,0,0,0,0,0,0,0,0,0,0,null,0,0,0,0,0,0,0,0,0,0,0,0,0,0,0,0,0,0,0,0,0,0,0,0,0,null,0,0,0,0,0,0,0,0,0,0,0,0,0,0,0,0,0,0,0,0,0,0,0,0,0,null,0,0,0,0,0,0,0,0,0,0,0,0,0,0,0,0,0,0,0,0,0,0,0,0,0,null,0,0,0,0,0,0,0,0,0,0,0,0,0,0,0,0,0,0,0,0,0,0,0,0,0,null,0,0,0,0,0,0,0,0,0,0,0,0,0,0,0,0,0,0,0,0,0,null,0,0,0,0,0,0,0,0,0,0,0,0,0,0,0,0,0,0,0,0,0,null,0,0,0,0,0,0,0,0,0,0,0,0,0,0,0,0,0,0,0,0,0,null,0,0,0,0,0,0,0,0,0,0,0,0,0,0,null,0,0,0,0,0,0,0,null,0,0,0,0,0,0,0,0,0,0,0,0,0,0,0,0,null,0,0,0,0,0,0,0,0,0,0,0,0,0,0,0,0,0,0,0,0,0,0,0,0,0,0,0,0,0,0,0,0,0,0,0,0,0,0,0,0,0,0,null,0,0,0,0,0,0,0,0,0,0,0,0,0,0,0,0,0,0,0,0,0,0,0,0,0,0,0,0,0,0,0,0,0,0,0,0,0,0,0,0,0,0,null,0,0,0,0,0,0,0,0]
[{"$nulls":14},"IP",{"$nulls":4},"IP",{"$nulls":4},"IP",{"$nulls":23},1,2,3,4,5,6,7,8,9,10,11,12,13,14,{"$nulls":293},{"$f":"SUM(MR5:MR17)","v":0},{"$f":"SUM(MS5:MS17)","v":0},0,0,0,0,0,0,0,0,0,0,0,0,0,0,0,0,0,0,0,0,0,0,0,0,0,0,0,0,0,0,0,0,0,0,0,0,0,0,0,0,null,{"$f":"SUM(OI5:OI17)","v":0},{"$f":"SUM(OJ5:OJ17)","v":0},0,0,0,0,0,0,0,0,0,0,0,0,0,0,0,0,0,0,0,0,0,0,0,0,0,0,0,0,0,0,0,0,0,0,0,0,0,0,0,0,null,0,0,0,0,0,0,0]
[{"$nulls":9},"S.Pitcher",{"$nulls":4},0,"Pitcher 2",{"$nulls":3},0,"Pitcher 3",{"$nulls":3},0,{"$nulls":20},"R","H","E",{"$nulls":307},{"$f":"MR18+MX18+ND18+NJ18+NP18+NV18+OB18","v":0},{"$nulls":42},{"$f":"OI18+OO18+OU18+PA18+PG18+PM18+PS18","v":0},{"$nulls":42},{"$f":"SUM(PZ18:QF18)","v":0}]
[null,null,{"$f":"E3","v":"Away Team"},{"$nulls":6},"Pitcher 4",{"$nulls":4},0,"Pitcher 5",{"$nulls":3},0,"Pitcher 6",{"$nulls":3},0,{"$nulls":4},{"$f":"CONCATENATE(\"<-- \",E3,\" Pitching\")","v":"<-- Away Team Pitching"},{"$nulls":13},{"$f":"C20","v":"Away Team"},null,{"$f":"PZ19","v":0},{"$f":"SUM(AV5:AV17)","v":0},{"$f":"SUM(AT5:AT17)","v":0},{"$nulls":307},{"$f":"MS18+MY18+NE18+NK18+NQ18+NW18+OC18","v":0},{"$nulls":42},{"$f":"OJ18+OP18+OV18+PB18+PH18+PN18+PT18","v":0}]
[null,null,{"$f":"E23","v":"Home Team"},{"$nulls":6},"Starting Pitcher",{"$nulls":4},0,"Pitcher 2",{"$nulls":3},0,"Pitcher 3",{"$nulls":3},0,{"$nulls":4},{"$f":"CONCATENATE(\"<-- \",E23,\" Pitching\")","v":"<-- Home Team Pitching"},{"$nulls":13},{"$f":"C21","v":"Home Team"},null,{"$f":"PZ24","v":0},{"$f":"SUM(AV25:AV37)","v":0},{"$f":"SUM(AT25:AT37)","v":0},{"$nulls":307},{"$f":"MT18+MZ18+NF18+NL18+NR18+NX18+OD18","v":0},{"$nulls":42},{"$f":"OK18+OQ18+OW18+PC18+PI18+PO18+PU18","v":0}]
[{"$nulls":9},"Pitcher 4",{"$nulls":4},0,"Pitcher 5",{"$nulls":3},0,"Pitcher 6",{"$nulls":3},0,{"$nulls":330},{"$f":"MU18+NA18+NG18+NM18+NS18+NY18+OE18","v":0},{"$nulls":42},{"$f":"OL18+OR18+OX18+PD18+PJ18+PP18+PV18","v":0}]
["HOME",{"$nulls":3},"Home Team",{"$nulls":350},{"$f":"MV18+NB18+NH18+NN18+NT18+NZ18+OF18","v":0},{"$nulls":42},{"$f":"OM18+OS18+OY18+PE18+PK18+PQ18+PW18","v":0}]
["R",null,"Pos",null,"PLAYERS",{"$nulls":4},"1AB","P","I","R","S","2AB","P","I","R","S","3AB","P","I","R","S","4AB","P","I","R","S","5AB","P","I","R","S","6AB","P","I","R","S","7AB","P","I","R","S",null,"E","ab","h","bb","rbi","hbp","sf","K","sac","r","hr","2b","3b","pa","ao","go","gidp","rbe","xbh","sb","sba",{"$nulls":24},"1rbe","1sf",{"$nulls":24},"1rbe","1sf",{"$nulls":24},"1rbe","1sf",{"$nulls":24},"1rbe","1sf",{"$nulls":24},"1rbe","1sf",{"$nulls":24},"1rbe","1sf",{"$nulls":24},"1rbe","1sf",{"$nulls":107},{"$f":"MW18+NC18+NI18+NO18+NU18+OG18","v":0},{"$nulls":42},{"$f":"ON18+OT18+OZ18+PF18+PL18+PX18","v":0},{"$nulls":42},{"$f":"SUM(PZ38:QF38)","v":0}]
[{"$f":"QG25","v":0},1,{"$nulls":44},{"$f":"SUM(AV25,BA25,BD25:BF25,BH25:BJ25)-BL25","v":0},{"$f":"SUM(BP25:CE25,CP25:DE25,DP25:EE25,EP25:FE25,FP25:GE25,GP25:HE25,HP25:IE25)","v":0},{"$f":"CJ25+DJ25+EJ25+FJ25+GJ25+HJ25","v":0},{"$f":"(BS25)+(BT25)+(BU25*2)+(BV25*3)+(BW25)+(BX25*2)+(BY25*3)+(BZ25)+(CA25*2)+(CB25*3)+(CC25*2)+(CD25*3)+(CE25*4)+(CS25)+(CT25)+(CU25*2)+(CV25*3)+(CW25)+(CX25*2)+(CY25*3)+(CZ25)+(DA25*2)+(DB25*3)+(DC25*2)+(DD25*3)+(DE25*4)+(DS25)+(DT25)+(DU25*2)+(DV25*3)+(DW25)+(DX25*2)+(DY25*3)+(DZ25)+(EA25*2)+(EB25*3)+(EC25*2)+(ED25*3)+(EE25*4)+(ES25)+(ET25)+(EU25*2)+(EV25*3)+(EW25)+(EX25*2)+(EY25*3)+(EZ25)+(FA25*2)+(FB25*3)+(FC25*2)+(FD25*3)+(FE25*4)+(FS25)+(FT25)+(FU25*2)+(FV25*3)+(FW25)+(FX25*2)+(FY25*3)+(FZ25)+(GA25*2)+(GB25*3)+(GC25*2)+(GD25*3)+(GE25*4)+(GS25)+(GT25)+(GU25*2)+(GV25*3)+(GW25)+(GX25*2)+(GY25*3)+(GZ25)+(HA25*2)+(HB25*3)+(HC25*2)+(HD25*3)+(HE25*4)+(HS25)+(HT25)+(HU25*2)+(HV25*3)+(HW25)+(HX25*2)+(HY25*3)+(HZ25)+(IA25*2)+(IB25*3)+(IC25*2)+(ID25*3)+(IE25*4)+(CN25+DN25+EN25+FN25+GN25+IN25+JO25)+MH25+MP25","v":0},{"$f":"CI25+DI25+EI25+FI25+GI25+HI25","v":0},{"$f":"(CN25+DN25+EN25+FN25+GN25+IN25+JO25)","v":0},{"$f":"CL25+DL25+EL25+FL25+GL25+IL25+JL25","v":0},{"$f":"SUM(LS25:LY25)","v":0},{"$f":"A25","v":0},{"$f":"BS25+CS25+DS25+ES25+FS25+GS25+HS25+SUM(KH25:LB25)","v":0},{"$f":"BQ25+CQ25+DQ25+EQ25+FQ25+GQ25+HQ25+SUM(IP25:JJ25)","v":0},{"$f":"BR25+CR25+DR25+ER25+FR25+GR25+HR25+SUM(JL25:KF25)","v":0},{"$f":"AU25+AW25+AY25","v":0},{"$f":"CF25+DF25+EF25+FF25+GF25+HF25","v":0},{"$f":"CG25+DG25+EG25+FG25+GG25+HG25+MP25","v":0},{"$f":"CH25+DH25+EH25+FH25+GH25+HH25+MH25","v":0},{"$f":"CM25+DM25+EM25+FM25+JM25+HM25+IM25","v":0},{"$f":"SUM(BD25:BF25)","v":0},{"$f":"SUM(LD25:LJ25)","v":0},{"$f":"SUM(LK25:LQ25)+BM25","v":0},null,{"$f":"IF(($J25=\"H\"),1,0)","v":0},{"$f":"IF(($J25=\"2B\"),1,0)","v":0},{"$f":"IF(($J25=\"3B\"),1,0)","v":0},{"$f":"IF(($J25=\"HR\"),1,0)","v":0},{"$f":"IF(($J25=\"Hrb\"),1,0)","v":0},{"$f":"IF(($J25=\"H2rb\"),1,0)","v":0},{"$f":"IF(($J25=\"H3rb\"),1,0)","v":0},{"$f":"IF(($J25=\"2Brb\"),1,0)","v":0},{"$f":"IF(($J25=\"2B2rb\"),1,0)","v":0},{"$f":"IF(($J25=\"2B3rb\"),1,0)","v":0},{"$f":"IF(($J25=\"3Brb\"),1,0)","v":0},{"$f":"IF(($J25=\"3B2rb\"),1,0)","v":0},{"$f":"IF(($J25=\"3B3rb\"),1,0)","v":0},{"$f":"IF(($J25=\"HR2\"),1,0)","v":0},{"$f":"IF(($J25=\"HR3\"),1,0)","v":0},{"$f":"IF(($J25=\"GS\"),1,0)","v":0},{"$f":"IF(($J25=\"AO\"),1,0)","v":0},{"$f":"IF(($J25=\"GO\"),1,0)","v":0},{"$f":"IF(($J25=\"DP\"),1,0)","v":0},{"$f":"IF(($J25=\"HBP\"),1,0)","v":0},{"$f":"IF(($J25=\"BB\"),1,0)","v":0},{"$f":"IF(($J25=\"BBrb\"),1,0)","v":0},{"$f":"IF(($J25=\"K\"),1,0)","v":0},{"$f":"IF(($J25=\"rbe\"),1,0)","v":0},{"$f":"IF(($J25=\"sf\"),1,0)","v":0},null,{"$f":"IF(($O25=\"H\"),1,0)","v":0},{"$f":"IF(($O25=\"2B\"),1,0)","v":0},{"$f":"IF(($O25=\"3B\"),1,0)","v":0},{"$f":"IF(($O25=\"HR\"),1,0)","v":0},{"$f":"IF(($O25=\"Hrb\"),1,0)","v":0},{"$f":"IF(($O25=\"H2rb\"),1,0)","v":0},{"$f":"IF(($O25=\"H3rb\"),1,0)","v":0},{"$f":"IF(($O25=\"2Brb\"),1,0)","v":0},{"$f":"IF(($O25=\"2B2rb\"),1,0)","v":0},{"$f":"IF(($O25=\"2B3rb\"),1,0)","v":0},{"$f":"IF(($O25=\"3Brb\"),1,0)","v":0},{"$f":"IF(($O25=\"3B2rb\"),1,0)","v":0},{"$f":"IF(($O25=\"3B3rb\"),1,0)","v":0},{"$f":"IF(($O25=\"HR2\"),1,0)","v":0},{"$f":"IF(($O25=\"HR3\"),1,0)","v":0},{"$f":"IF(($O25=\"GS\"),1,0)","v":0},{"$f":"IF(($O25=\"AO\"),1,0)","v":0},{"$f":"IF(($O25=\"GO\"),1,0)","v":0},{"$f":"IF(($O25=\"DP\"),1,0)","v":0},{"$f":"IF(($O25=\"HBP\"),1,0)","v":0},{"$f":"IF(($O25=\"BB\"),1,0)","v":0},{"$f":"IF(($O25=\"BBrb\"),1,0)","v":0},{"$f":"IF(($O25=\"K\"),1,0)","v":0},{"$f":"IF(($O25=\"rbe\"),1,0)","v":0},{"$f":"IF(($O25=\"sf\"),1,0)","v":0},null,{"$f":"IF(($T25=\"H\"),1,0)","v":0},{"$f":"IF(($T25=\"2B\"),1,0)","v":0},{"$f":"IF(($T25=\"3B\"),1,0)","v":0},{"$f":"IF(($T25=\"HR\"),1,0)","v":0},{"$f":"IF(($T25=\"Hrb\"),1,0)","v":0},{"$f":"IF(($T25=\"H2rb\"),1,0)","v":0},{"$f":"IF(($T25=\"H3rb\"),1,0)","v":0},{"$f":"IF(($T25=\"2Brb\"),1,0)","v":0},{"$f":"IF(($T25=\"2B2rb\"),1,0)","v":0},{"$f":"IF(($T25=\"2B3rb\"),1,0)","v":0},{"$f":"IF(($T25=\"3Brb\"),1,0)","v":0},{"$f":"IF(($T25=\"3B2rb\"),1,0)","v":0},{"$f":"IF(($T25=\"3B3rb\"),1,0)","v":0},{"$f":"IF(($T25=\"HR2\"),1,0)","v":0},{"$f":"IF(($T25=\"HR3\"),1,0)","v":0},{"$f":"IF(($T25=\"GS\"),1,0)","v":0},{"$f":"IF(($T25=\"AO\"),1,0)","v":0},{"$f":"IF(($T25=\"GO\"),1,0)","v":0},{"$f":"IF(($T25=\"DP\"),1,0)","v":0},{"$f":"IF(($T25=\"HBP\"),1,0)","v":0},{"$f":"IF(($T25=\"BB\"),1,0)","v":0},{"$f":"IF(($T25=\"BBrb\"),1,0)","v":0},{"$f":"IF(($T25=\"K\"),1,0)","v":0},{"$f":"IF(($T25=\"rbe\"),1,0)","v":0},{"$f":"IF(($T25=\"sf\"),1,0)","v":0},null,{"$f":"IF(($Y25=\"H\"),1,0)","v":0},{"$f":"IF(($Y25=\"2B\"),1,0)","v":0},{"$f":"IF(($Y25=\"3B\"),1,0)","v":0},{"$f":"IF(($Y25=\"HR\"),1,0)","v":0},{"$f":"IF(($Y25=\"Hrb\"),1,0)","v":0},{"$f":"IF(($Y25=\"H2rb\"),1,0)","v":0},{"$f":"IF(($Y25=\"H3rb\"),1,0)","v":0},{"$f":"IF(($Y25=\"2Brb\"),1,0)","v":0},{"$f":"IF(($Y25=\"2B2rb\"),1,0)","v":0},{"$f":"IF(($Y25=\"2B3rb\"),1,0)","v":0},{"$f":"IF(($Y25=\"3Brb\"),1,0)","v":0},{"$f":"IF(($Y25=\"3B2rb\"),1,0)","v":0},{"$f":"IF(($Y25=\"3B3rb\"),1,0)","v":0},{"$f":"IF(($Y25=\"HR2\"),1,0)","v":0},{"$f":"IF(($Y25=\"HR3\"),1,0)","v":0},{"$f":"IF(($Y25=\"GS\"),1,0)","v":0},{"$f":"IF(($Y25=\"AO\"),1,0)","v":0},{"$f":"IF(($Y25=\"GO\"),1,0)","v":0},{"$f":"IF(($Y25=\"DP\"),1,0)","v":0},{"$f":"IF(($Y25=\"HBP\"),1,0)","v":0},{"$f":"IF(($Y25=\"BB\"),1,0)","v":0},{"$f":"IF(($Y25=\"BBrb\"),1,0)","v":0},{"$f":"IF(($Y25=\"K\"),1,0)","v":0},{"$f":"IF(($Y25=\"rbe\"),1,0)","v":0},{"$f":"IF(($Y25=\"sf\"),1,0)","v":0},null,{"$f":"IF(($AD25=\"H\"),1,0)","v":0},{"$f":"IF(($AD25=\"2B\"),1,0)","v":0},{"$f":"IF(($AD25=\"3B\"),1,0)","v":0},{"$f":"IF(($AD25=\"HR\"),1,0)","v":0},{"$f":"IF(($AD25=\"Hrb\"),1,0)","v":0},{"$f":"IF(($AD25=\"H2rb\"),1,0)","v":0},{"$f":"IF(($AD25=\"H3rb\"),1,0)","v":0},{"$f":"IF(($AD25=\"2Brb\"),1,0)","v":0},{"$f":"IF(($AD25=\"2B2rb\"),1,0)","v":0},{"$f":"IF(($AD25=\"2B3rb\"),1,0)","v":0},{"$f":"IF(($AD25=\"3Brb\"),1,0)","v":0},{"$f":"IF(($AD25=\"3B2rb\"),1,0)","v":0},{"$f":"IF(($AD25=\"3B3rb\"),1,0)","v":0},{"$f":"IF(($AD25=\"HR2\"),1,0)","v":0},{"$f":"IF(($AD25=\"HR3\"),1,0)","v":0},{"$f":"IF(($AD25=\"GS\"),1,0)","v":0},{"$f":"IF(($AD25=\"AO\"),1,0)","v":0},{"$f":"IF(($AD25=\"GO\"),1,0)","v":0},{"$f":"IF(($AD25=\"DP\"),1,0)","v":0},{"$f":"IF(($AD25=\"HBP\"),1,0)","v":0},{"$f":"IF(($AD25=\"BB\"),1,0)","v":0},{"$f":"IF(($AD25=\"BBrb\"),1,0)","v":0},{"$f":"IF(($AD25=\"K\"),1,0)","v":0},{"$f":"IF(($AD25=\"rbe\"),1,0)","v":0},{"$f":"IF(($AD25=\"sf\"),1,0)","v":0},null,{"$f":"IF(($AI25=\"H\"),1,0)","v":0},{"$f":"IF(($AI25=\"2B\"),1,0)","v":0},{"$f":"IF(($AI25=\"3B\"),1,0)","v":0},{"$f":"IF(($AI25=\"HR\"),1,0)","v":0},{"$f":"IF(($AI25=\"Hrb\"),1,0)","v":0},{"$f":"IF(($AI25=\"H2rb\"),1,0)","v":0},{"$f":"IF(($AI25=\"H3rb\"),1,0)","v":0},{"$f":"IF(($AI25=\"2Brb\"),1,0)","v":0},{"$f":"IF(($AI25=\"2B2rb\"),1,0)","v":0},{"$f":"IF(($AI25=\"2B3rb\"),1,0)","v":0},{"$f":"IF(($AI25=\"3Brb\"),1,0)","v":0},{"$f":"IF(($AI25=\"3B2rb\"),1,0)","v":0},{"$f":"IF(($AI25=\"3B3rb\"),1,0)","v":0},{"$f":"IF(($AI25=\"HR2\"),1,0)","v":0},{"$f":"IF(($AI25=\"HR3\"),1,0)","v":0},{"$f":"IF(($AI25=\"GS\"),1,0)","v":0},{"$f":"IF(($AI25=\"AO\"),1,0)","v":0},{"$f":"IF(($AI25=\"GO\"),1,0)","v":0},{"$f":"IF(($AI25=\"DP\"),1,0)","v":0},{"$f":"IF(($AI25=\"HBP\"),1,0)","v":0},{"$f":"IF(($AI25=\"BB\"),1,0)","v":0},{"$f":"IF(($AI25=\"BBrb\"),1,0)","v":0},{"$f":"IF(($AI25=\"K\"),1,0)","v":0},{"$f":"IF(($AI25=\"rbe\"),1,0)","v":0},{"$f":"IF(($AI25=\"sf\"),1,0)","v":0},null,{"$f":"IF(($AN25=\"H\"),1,0)","v":0},{"$f":"IF(($AN25=\"2B\"),1,0)","v":0},{"$f":"IF(($AN25=\"3B\"),1,0)","v":0},{"$f":"IF(($AN25=\"HR\"),1,0)","v":0},{"$f":"IF(($AN25=\"Hrb\"),1,0)","v":0},{"$f":"IF(($AN25=\"H2rb\"),1,0)","v":0},{"$f":"IF(($AN25=\"H3rb\"),1,0)","v":0},{"$f":"IF(($AN25=\"2Brb\"),1,0)","v":0},{"$f":"IF(($AN25=\"2B2rb\"),1,0)","v":0},{"$f":"IF(($AN25=\"2B3rb\"),1,0)","v":0},{"$f":"IF(($AN25=\"3Brb\"),1,0)","v":0},{"$f":"IF(($AN25=\"3B2rb\"),1,0)","v":0},{"$f":"IF(($AN25=\"3B3rb\"),1,0)","v":0},{"$f":"IF(($AN25=\"HR2\"),1,0)","v":0},{"$f":"IF(($AN25=\"HR3\"),1,0)","v":0},{"$f":"IF(($AN25=\"GS\"),1,0)","v":0},{"$f":"IF(($AN25=\"AO\"),1,0)","v":0},{"$f":"IF(($AN25=\"GO\"),1,0)","v":0},{"$f":"IF(($AN25=\"DP\"),1,0)","v":0},{"$f":"IF(($AN25=\"HBP\"),1,0)","v":0},{"$f":"IF(($AN25=\"BB\"),1,0)","v":0},{"$f":"IF(($AN25=\"BBrb\"),1,0)","v":0},{"$f":"IF(($AN25=\"K\"),1,0)","v":0},{"$f":"IF(($AN25=\"rbe\"),1,0)","v":0},{"$f":"IF(($AN25=\"sf\"),1,0)","v":0},null,{"$f":"BW25","v":0},{"$f":"BX25","v":0},{"$f":"BY25","v":0},{"$f":"CW25","v":0},{"$f":"CX25","v":0},{"$f":"CY25","v":0},{"$f":"DW25","v":0},{"$f":"DX25","v":0},{"$f":"DY25","v":0},{"$f":"EW25","v":0},{"$f":"EX25","v":0},{"$f":"EY25","v":0},{"$f":"FW25","v":0},{"$f":"FX25","v":0},{"$f":"FY25","v":0},{"$f":"GW25","v":0},{"$f":"GX25","v":0},{"$f":"GY25","v":0},{"$f":"HW25","v":0},{"$f":"HX25","v":0},{"$f":"HY25","v":0},null,{"$f":"BZ25","v":0},{"$f":"CA25","v":0},{"$f":"CB25","v":0},{"$f":"CZ25","v":0},{"$f":"DA25","v":0},{"$f":"DB25","v":0},{"$f":"DZ25","v":0},{"$f":"EA25","v":0},{"$f":"EB25","v":0},{"$f":"EZ25","v":0},{"$f":"FA25","v":0},{"$f":"FB25","v":0},{"$f":"FZ25","v":0},{"$f":"GA25","v":0},{"$f":"GB25","v":0},{"$f":"GZ25","v":0},{"$f":"HA25","v":0},{"$f":"HB25","v":0},{"$f":"HZ25","v":0},{"$f":"IA25","v":0},{"$f":"IB25","v":0},null,{"$f":"CC25","v":0},{"$f":"CD25","v":0},{"$f":"CE25","v":0},{"$f":"DC25","v":0},{"$f":"DD25","v":0},{"$f":"DE25","v":0},{"$f":"EC25","v":0},{"$f":"ED25","v":0},{"$f":"EE25","v":0},{"$f":"FC25","v":0},{"$f":"FD25","v":0},{"$f":"FE25","v":0},{"$f":"GC25","v":0},{"$f":"GD25","v":0},{"$f":"GE25","v":0},{"$f":"HC25","v":0},{"$f":"HD25","v":0},{"$f":"HE25","v":0},{"$f":"IC25","v":0},{"$f":"ID25","v":0},{"$f":"IE25","v":0},null,{"$f":"IF(($N25=\"s\"),1,0)","v":0},{"$f":"IF(($S25=\"s\"),1,0)","v":0},{"$f":"IF(($X25=\"s\"),1,0)","v":0},{"$f":"IF(($AC25=\"s\"),1,0)","v":0},{"$f":"IF(($AH25=\"s\"),1,0)","v":0},{"$f":"IF(($AM25=\"s\"),1,0)","v":0},{"$f":"IF(($AR25=\"s\"),1,0)","v":0},{"$f":"IF(($N25=\"a\"),1,0)","v":0},{"$f":"IF(($S25=\"a\"),1,0)","v":0},{"$f":"IF(($X25=\"a\"),1,0)","v":0},{"$f":"IF(($AC25=\"a\"),1,0)","v":0},{"$f":"IF(($AH25=\"a\"),1,0)","v":0},{"$f":"IF(($AM25=\"a\"),1,0)","v":0},{"$f":"IF(($AR25=\"a\"),1,0)","v":0},null,{"$f":"IF(($J25=\"sac\"),1,0)","v":0},{"$f":"IF(($O25=\"sac\"),1,0)","v":0},{"$f":"IF((T25=\"sac\"),1,0)","v":0},{"$f":"IF((Y25=\"sac\"),1,0)","v":0},{"$f":"IF((AD25=\"sac\"),1,0)","v":0},{"$f":"IF((AI25=\"sac\"),1,0)","v":0},{"$f":"IF((AN25=\"sac\"),1,0)","v":0},null,{"$f":"IF((J25=\"dpr\"),1,0)","v":0},{"$f":"IF((O25=\"dpr\"),1,0)","v":0},{"$f":"IF((T25=\"dpr\"),1,0)","v":0},{"$f":"IF((Y25=\"dpr\"),1,0)","v":0},{"$f":"IF((AD25=\"dpr\"),1,0)","v":0},{"$f":"IF((AI25=\"dpr\"),1,0)","v":0},{"$f":"IF((AN25=\"dpr\"),1,0)","v":0},{"$f":"SUM(MA25:MG25)","v":0},{"$f":"IF(($J25=\"gorbi\"),1,0)","v":0},{"$f":"IF(($O25=\"gorbi\"),1,0)","v":0},{"$f":"IF(($T25=\"gorbi\"),1,0)","v":0},{"$f":"IF(($Y25=\"gorbi\"),1,0)","v":0},{"$f":"IF(($AD25=\"gorbi\"),1,0)","v":0},{"$f":"IF(($AI25=\"gorbi\"),1,0)","v":0},{"$f":"IF(($AN25=\"gorbi\"),1,0)","v":0},{"$f":"SUM(MI25:MO25)","v":0},null,{"$f":"IF(AND($M25=\"r\",$K25=1),1,0)","v":0},{"$f":"IF(AND($M25=\"r\",$K25=2),1,0)","v":0},{"$f":"IF(AND($M25=\"r\",$K25=3),1,0)","v":0},{"$f":"IF(AND($M25=\"r\",$K25=4),1,0)","v":0},{"$f":"IF(AND($M25=\"r\",$K25=5),1,0)","v":0},{"$f":"IF(AND($M25=\"r\",$K25=6),1,0)","v":0},{"$f":"IF(AND($R25=\"r\",$P25=1),1,0)","v":0},{"$f":"IF(AND($R25=\"r\",$P25=2),1,0)","v":0},{"$f":"IF(AND($R25=\"r\",$P25=3),1,0)","v":0},{"$f":"IF(AND($R25=\"r\",$P25=4),1,0)","v":0},{"$f":"IF(AND($R25=\"r\",$P25=5),1,0)","v":0},{"$f":"IF(AND($R25=\"r\",$P25=6),1,0)","v":0},{"$f":"IF(AND($W25=\"r\",$U25=1),1,0)","v":0},{"$f":"IF(AND($W25=\"r\",$U25=2),1,0)","v":0},{"$f":"IF(AND($W25=\"r\",$U25=3),1,0)","v":0},{"$f":"IF(AND($W25=\"r\",$U25=4),1,0)","v":0},{"$f":"IF(AND($W25=\"r\",$U25=5),1,0)","v":0},{"$f":"IF(AND($W25=\"r\",$U25=6),1,0)","v":0},{"$f":"IF(AND($AQ25=\"r\",$AO25=1),1,0)","v":0},{"$f":"IF(AND($AQ25=\"r\",$AO25=2),1,0)","v":0},{"$f":"IF(AND($AQ25=\"r\",$AO25=3),1,0)","v":0},{"$f":"IF(AND($AQ25=\"r\",$AO25=4),1,0)","v":0},{"$f":"IF(AND($AQ25=\"r\",$AO25=5),1,0)","v":0},{"$f":"IF(AND($AQ25=\"r\",$AO25=6),1,0)","v":0},{"$f":"IF(AND($AB25=\"r\",$Z25=1),1,0)","v":0},{"$f":"IF(AND($AB25=\"r\",$Z25=2),1,0)","v":0},{"$f":"IF(AND($AB25=\"r\",$Z25=3),1,0)","v":0},{"$f":"IF(AND($AB25=\"r\",$Z25=4),1,0)","v":0},{"$f":"IF(AND($AB25=\"r\",$Z25=5),1,0)","v":0},{"$f":"IF(AND($AB25=\"r\",$Z25=6),1,0)","v":0},{"$f":"IF(AND($AG25=\"r\",$AE25=1),1,0)","v":0},{"$f":"IF(AND($AG25=\"r\",$AE25=2),1,0)","v":0},{"$f":"IF(AND($AG25=\"r\",$AE25=3),1,0)","v":0},{"$f":"IF(AND($AG25=\"r\",$AE25=4),1,0)","v":0},{"$f":"IF(AND($AG25=\"r\",$AE25=5),1,0)","v":0},{"$f":"IF(AND($AG25=\"r\",$AE25=6),1,0)","v":0},{"$f":"IF(AND($AL25=\"r\",$AJ25=1),1,0)","v":0},{"$f":"IF(AND($AL25=\"r\",$AJ25=2),1,0)","v":0},{"$f":"IF(AND($AL25=\"r\",$AJ25=3),1,0)","v":0},{"$f":"IF(AND($AL25=\"r\",$AJ25=4),1,0)","v":0},{"$f":"IF(AND($AL25=\"r\",$AJ25=5),1,0)","v":0},{"$f":"IF(AND($AL25=\"r\",$AJ25=6),1,0)","v":0},null,{"$f":"IF(AND($M25=\"u\",$K25=1),1,0)","v":0},{"$f":"IF(AND($M25=\"u\",$K25=2),1,0)","v":0},{"$f":"IF(AND($M25=\"u\",$K25=3),1,0)","v":0},{"$f":"IF(AND($M25=\"u\",$K25=4),1,0)","v":0},{"$f":"IF(AND($M25=\"u\",$K25=5),1,0)","v":0},{"$f":"IF(AND($M25=\"u\",$K25=6),1,0)","v":0},{"$f":"IF(AND($R25=\"u\",$P25=1),1,0)","v":0},{"$f":"IF(AND($R25=\"u\",$P25=2),1,0)","v":0},{"$f":"IF(AND($R25=\"u\",$P25=3),1,0)","v":0},{"$f":"IF(AND($R25=\"u\",$P25=4),1,0)","v":0},{"$f":"IF(AND($R25=\"u\",$P25=5),1,0)","v":0},{"$f":"IF(AND($R25=\"u\",$P25=6),1,0)","v":0},{"$f":"IF(AND($W25=\"u\",$U25=1),1,0)","v":0},{"$f":"IF(AND($W25=\"u\",$U25=2),1,0)","v":0},{"$f":"IF(AND($W25=\"u\",$U25=3),1,0)","v":0},{"$f":"IF(AND($W25=\"u\",$U25=4),1,0)","v":0},{"$f":"IF(AND($W25=\"u\",$U25=5),1,0)","v":0},{"$f":"IF(AND($W25=\"u\",$U25=6),1,0)","v":0},{"$f":"IF(AND($AQ25=\"u\",$AO25=1),1,0)","v":0},{"$f":"IF(AND($AQ25=\"u\",$AO25=2),1,0)","v":0},{"$f":"IF(AND($AQ25=\"u\",$AO25=3),1,0)","v":0},{"$f":"IF(AND($AQ25=\"u\",$AO25=4),1,0)","v":0},{"$f":"IF(AND($AQ25=\"u\",$AO25=5),1,0)","v":0},{"$f":"IF(AND($AQ25=\"u\",$AO25=6),1,0)","v":0},{"$f":"IF(AND($AB25=\"u\",$Z25=1),1,0)","v":0},{"$f":"IF(AND($AB25=\"u\",$Z25=2),1,0)","v":0},{"$f":"IF(AND($AB25=\"u\",$Z25=3),1,0)","v":0},{"$f":"IF(AND($AB25=\"u\",$Z25=4),1,0)","v":0},{"$f":"IF(AND($AB25=\"u\",$Z25=5),1,0)","v":0},{"$f":"IF(AND($AB25=\"u\",$Z25=6),1,0)","v":0},{"$f":"IF(AND($AG25=\"u\",$AE25=1),1,0)","v":0},{"$f":"IF(AND($AG25=\"u\",$AE25=2),1,0)","v":0},{"$f":"IF(AND($AG25=\"u\",$AE25=3),1,0)","v":0},{"$f":"IF(AND($AG25=\"u\",$AE25=4),1,0)","v":0},{"$f":"IF(AND($AG25=\"u\",$AE25=5),1,0)","v":0},{"$f":"IF(AND($AG25=\"u\",$AE25=6),1,0)","v":0},{"$f":"IF(AND($AL25=\"u\",$AJ25=1),1,0)","v":0},{"$f":"IF(AND($AL25=\"u\",$AJ25=2),1,0)","v":0},{"$f":"IF(AND($AL25=\"u\",$AJ25=3),1,0)","v":0},{"$f":"IF(AND($AL25=\"u\",$AJ25=4),1,0)","v":0},{"$f":"IF(AND($AL25=\"u\",$AJ25=5),1,0)","v":0},{"$f":"IF(AND($AL25=\"u\",$AJ25=6),1,0)","v":0},null,{"$f":"IF(OR($M25=\"r\",$M25=\"u\"),1,0)","v":0},{"$f":"IF(OR($R25=\"r\",$R25=\"u\"),1,0)","v":0},{"$f":"IF(OR($W25=\"r\",$W25=\"u\"),1,0)","v":0},{"$f":"IF(OR($AB25=\"r\",$AB25=\"u\"),1,0)","v":0},{"$f":"IF(OR($AG25=\"r\",$AG25=\"u\"),1,0)","v":0},{"$f":"IF(OR($AL25=\"r\",$AL25=\"u\"),1,0)","v":0},{"$f":"IF(OR($AQ25=\"r\",$AQ25=\"u\"),1,0)","v":0},{"$f":"SUM(PZ25:QF25)","v":0}]
[{"$f":"QG26","v":0},2,{"$nulls":44},{"$f":"SUM(AV26,BA26,BD26:BF26,BH26:BJ26)-BL26","v":0},{"$f":"SUM(BP26:CE26,CP26:DE26,DP26:EE26,EP26:FE26,FP26:GE26,GP26:HE26,HP26:IE26)","v":0},{"$f":"CJ26+DJ26+EJ26+FJ26+GJ26+HJ26","v":0},0,{"$f":"CI26+DI26+EI26+FI26+GI26+HI26","v":0},{"$f":"(CN26+DN26+EN26+FN26+GN26+IN26+JO26)","v":0},{"$f":"CL26+DL26+EL26+FL26+GL26+IL26+JL26","v":0},0,0,0,{"$f":"BQ26+CQ26+DQ26+EQ26+FQ26+GQ26+HQ26+SUM(IP26:JJ26)","v":0},{"$f":"BR26+CR26+DR26+ER26+FR26+GR26+HR26+SUM(JL26:KF26)","v":0},{"$f":"AU26+AW26+AY26","v":0},{"$f":"CF26+DF26+EF26+FF26+GF26+HF26","v":0},{"$f":"CG26+DG26+EG26+FG26+GG26+HG26+MP26","v":0},0,{"$f":"CM26+DM26+EM26+FM26+JM26+HM26+IM26","v":0},0,{"$f":"SUM(LD26:LJ26)","v":0},0,null,0,0,0,0,0,0,0,0,0,0,0,0,0,0,0,0,0,0,0,0,0,0,0,0,0,null,0,0,0,0,0,0,0,0,0,0,0,0,0,0,0,0,0,0,0,0,0,0,0,0,0,null,0,0,0,0,0,0,0,0,0,0,0,0,0,0,0,0,0,0,0,0,0,0,0,0,0,null,0,0,0,0,0,0,0,0,0,0,0,0,0,0,0,0,0,0,0,0,0,0,0,0,0,null,0,0,0,0,0,0,0,0,0,0,0,0,0,0,0,0,0,0,0,0,0,0,0,0,0,null,0,0,0,0,0,0,0,0,0,0,0,0,0,0,0,0,0,0,0,0,0,0,0,0,0,null,0,0,0,0,0,0,0,0,0,0,0,0,0,0,0,0,0,0,0,0,0,0,0,0,0,null,{"$f":"BW26","v":0},0,0,{"$f":"CW26","v":0},0,0,{"$f":"DW26","v":0},0,0,{"$f":"EW26","v":0},0,0,{"$f":"FW26","v":0},0,0,{"$f":"GW26","v":0},0,0,{"$f":"HW26","v":0},0,0,null,{"$f":"BZ26","v":0},0,0,{"$f":"CZ26","v":0},0,0,{"$f":"DZ26","v":0},0,0,{"$f":"EZ26","v":0},0,0,{"$f":"FZ26","v":0},0,0,{"$f":"GZ26","v":0},0,0,{"$f":"HZ26","v":0},0,0,null,{"$f":"CC26","v":0},0,0,{"$f":"DC26","v":0},0,0,{"$f":"EC26","v":0},0,0,{"$f":"FC26","v":0},0,0,{"$f":"GC26","v":0},0,0,{"$f":"HC26","v":0},0,0,{"$f":"IC26","v":0},0,0,null,{"$f":"IF(($N26=\"s\"),1,0)","v":0},{"$f":"IF(($S26=\"s\"),1,0)","v":0},{"$f":"IF(($X26=\"s\"),1,0)","v":0},{"$f":"IF(($AC26=\"s\"),1,0)","v":0},{"$f":"IF(($AH26=\"s\"),1,0)","v":0},{"$f":"IF(($AM26=\"s\"),1,0)","v":0},{"$f":"IF(($AR26=\"s\"),1,0)","v":0},{"$f":"IF(($N26=\"a\"),1,0)","v":0},{"$f":"IF(($S26=\"a\"),1,0)","v":0},{"$f":"IF(($X26=\"a\"),1,0)","v":0},{"$f":"IF(($AC26=\"a\"),1,0)","v":0},{"$f":"IF(($AH26=\"a\"),1,0)","v":0},{"$f":"IF(($AM26=\"a\"),1,0)","v":0},{"$f":"IF(($AR26=\"a\"),1,0)","v":0},null,{"$f":"IF(($J26=\"sac\"),1,0)","v":0},{"$f":"IF(($O26=\"sac\"),1,0)","v":0},0,0,0,0,0,null,0,0,0,0,0,0,0,{"$f":"SUM(MA26:MG26)","v":0},{"$f":"IF(($J26=\"gorbi\"),1,0)","v":0},{"$f":"IF(($O26=\"gorbi\"),1,0)","v":0},{"$f":"IF(($T26=\"gorbi\"),1,0)","v":0},{"$f":"IF(($Y26=\"gorbi\"),1,0)","v":0},{"$f":"IF(($AD26=\"gorbi\"),1,0)","v":0},{"$f":"IF(($AI26=\"gorbi\"),1,0)","v":0},{"$f":"IF(($AN26=\"gorbi\"),1,0)","v":0},{"$f":"SUM(MI26:MO26)","v":0},null,{"$f":"IF(AND($M26=\"r\",$K26=1),1,0)","v":0},{"$f":"IF(AND($M26=\"r\",$K26=2),1,0)","v":0},{"$f":"IF(AND($M26=\"r\",$K26=3),1,0)","v":0},{"$f":"IF(AND($M26=\"r\",$K26=4),1,0)","v":0},{"$f":"IF(AND($M26=\"r\",$K26=5),1,0)","v":0},{"$f":"IF(AND($M26=\"r\",$K26=6),1,0)","v":0},{"$f":"IF(AND($R26=\"r\",$P26=1),1,0)","v":0},{"$f":"IF(AND($R26=\"r\",$P26=2),1,0)","v":0},{"$f":"IF(AND($R26=\"r\",$P26=3),1,0)","v":0},{"$f":"IF(AND($R26=\"r\",$P26=4),1,0)","v":0},{"$f":"IF(AND($R26=\"r\",$P26=5),1,0)","v":0},{"$f":"IF(AND($R26=\"r\",$P26=6),1,0)","v":0},{"$f":"IF(AND($W26=\"r\",$U26=1),1,0)","v":0},{"$f":"IF(AND($W26=\"r\",$U26=2),1,0)","v":0},{"$f":"IF(AND($W26=\"r\",$U26=3),1,0)","v":0},{"$f":"IF(AND($W26=\"r\",$U26=4),1,0)","v":0},{"$f":"IF(AND($W26=\"r\",$U26=5),1,0)","v":0},{"$f":"IF(AND($W26=\"r\",$U26=6),1,0)","v":0},{"$f":"IF(AND($AQ26=\"r\",$AO26=1),1,0)","v":0},{"$f":"IF(AND($AQ26=\"r\",$AO26=2),1,0)","v":0},{"$f":"IF(AND($AQ26=\"r\",$AO26=3),1,0)","v":0},{"$f":"IF(AND($AQ26=\"r\",$AO26=4),1,0)","v":0},{"$f":"IF(AND($AQ26=\"r\",$AO26=5),1,0)","v":0},{"$f":"IF(AND($AQ26=\"r\",$AO26=6),1,0)","v":0},{"$f":"IF(AND($AB26=\"r\",$Z26=1),1,0)","v":0},{"$f":"IF(AND($AB26=\"r\",$Z26=2),1,0)","v":0},{"$f":"IF(AND($AB26=\"r\",$Z26=3),1,0)","v":0},{"$f":"IF(AND($AB26=\"r\",$Z26=4),1,0)","v":0},{"$f":"IF(AND($AB26=\"r\",$Z26=5),1,0)","v":0},{"$f":"IF(AND($AB26=\"r\",$Z26=6),1,0)","v":0},{"$f":"IF(AND($AG26=\"r\",$AE26=1),1,0)","v":0},{"$f":"IF(AND($AG26=\"r\",$AE26=2),1,0)","v":0},{"$f":"IF(AND($AG26=\"r\",$AE26=3),1,0)","v":0},{"$f":"IF(AND($AG26=\"r\",$AE26=4),1,0)","v":0},{"$f":"IF(AND($AG26=\"r\",$AE26=5),1,0)","v":0},{"$f":"IF(AND($AG26=\"r\",$AE26=6),1,0)","v":0},{"$f":"IF(AND($AL26=\"r\",$AJ26=1),1,0)","v":0},{"$f":"IF(AND($AL26=\"r\",$AJ26=2),1,0)","v":0},{"$f":"IF(AND($AL26=\"r\",$AJ26=3),1,0)","v":0},{"$f":"IF(AND($AL26=\"r\",$AJ26=4),1,0)","v":0},{"$f":"IF(AND($AL26=\"r\",$AJ26=5),1,0)","v":0},{"$f":"IF(AND($AL26=\"r\",$AJ26=6),1,0)","v":0},null,0,0,0,0,0,{"$f":"IF(AND($M26=\"u\",$K26=6),1,0)","v":0},{"$f":"IF(AND($R26=\"u\",$P26=1),1,0)","v":0},{"$f":"IF(AND($R26=\"u\",$P26=2),1,0)","v":0},{"$f":"IF(AND($R26=\"u\",$P26=3),1,0)","v":0},{"$f":"IF(AND($R26=\"u\",$P26=4),1,0)","v":0},{"$f":"IF(AND($R26=\"u\",$P26=5),1,0)","v":0},{"$f":"IF(AND($R26=\"u\",$P26=6),1,0)","v":0},{"$f":"IF(AND($W26=\"u\",$U26=1),1,0)","v":0},{"$f":"IF(AND($W26=\"u\",$U26=2),1,0)","v":0},{"$f":"IF(AND($W26=\"u\",$U26=3),1,0)","v":0},{"$f":"IF(AND($W26=\"u\",$U26=4),1,0)","v":0},{"$f":"IF(AND($W26=\"u\",$U26=5),1,0)","v":0},{"$f":"IF(AND($W26=\"u\",$U26=6),1,0)","v":0},{"$f":"IF(AND($AQ26=\"u\",$AO26=1),1,0)","v":0},{"$f":"IF(AND($AQ26=\"u\",$AO26=2),1,0)","v":0},{"$f":"IF(AND($AQ26=\"u\",$AO26=3),1,0)","v":0},{"$f":"IF(AND($AQ26=\"u\",$AO26=4),1,0)","v":0},{"$f":"IF(AND($AQ26=\"u\",$AO26=5),1,0)","v":0},{"$f":"IF(AND($AQ26=\"u\",$AO26=6),1,0)","v":0},{"$f":"IF(AND($AB26=\"u\",$Z26=1),1,0)","v":0},{"$f":"IF(AND($AB26=\"u\",$Z26=2),1,0)","v":0},{"$f":"IF(AND($AB26=\"u\",$Z26=3),1,0)","v":0},{"$f":"IF(AND($AB26=\"u\",$Z26=4),1,0)","v":0},{"$f":"IF(AND($AB26=\"u\",$Z26=5),1,0)","v":0},{"$f":"IF(AND($AB26=\"u\",$Z26=6),1,0)","v":0},{"$f":"IF(AND($AG26=\"u\",$AE26=1),1,0)","v":0},{"$f":"IF(AND($AG26=\"u\",$AE26=2),1,0)","v":0},{"$f":"IF(AND($AG26=\"u\",$AE26=3),1,0)","v":0},{"$f":"IF(AND($AG26=\"u\",$AE26=4),1,0)","v":0},{"$f":"IF(AND($AG26=\"u\",$AE26=5),1,0)","v":0},{"$f":"IF(AND($AG26=\"u\",$AE26=6),1,0)","v":0},{"$f":"IF(AND($AL26=\"u\",$AJ26=1),1,0)","v":0},{"$f":"IF(AND($AL26=\"u\",$AJ26=2),1,0)","v":0},{"$f":"IF(AND($AL26=\"u\",$AJ26=3),1,0)","v":0},{"$f":"IF(AND($AL26=\"u\",$AJ26=4),1,0)","v":0},{"$f":"IF(AND($AL26=\"u\",$AJ26=5),1,0)","v":0},{"$f":"IF(AND($AL26=\"u\",$AJ26=6),1,0)","v":0},null,{"$f":"IF(OR($M26=\"r\",$M26=\"u\"),1,0)","v":0},{"$f":"IF(OR($R26=\"r\",$R26=\"u\"),1,0)","v":0},{"$f":"IF(OR($W26=\"r\",$W26=\"u\"),1,0)","v":0},{"$f":"IF(OR($AB26=\"r\",$AB26=\"u\"),1,0)","v":0},{"$f":"IF(OR($AG26=\"r\",$AG26=\"u\"),1,0)","v":0},{"$f":"IF(OR($AL26=\"r\",$AL26=\"u\"),1,0)","v":0},{"$f":"IF(OR($AQ26=\"r\",$AQ26=\"u\"),1,0)","v":0},{"$f":"SUM(PZ26:QF26)","v":0}]
[0,3,{"$nulls":44},0,0,0,0,0,0,0,0,0,0,0,0,0,0,0,0,0,0,0,0,null,0,0,0,0,0,0,0,0,0,0,0,0,0,0,0,0,0,0,0,0,0,0,0,0,0,null,0,0,0,0,0,0,0,0,0,0,0,0,0,0,0,0,0,0,0,0,0,0,0,0,0,null,0,0,0,0,0,0,0,0,0,0,0,0,0,0,0,0,0,0,0,0,0,0,0,0,0,null,0,0,0,0,0,0,0,0,0,0,0,0,0,0,0,0,0,0,0,0,0,0,0,0,0,null,0,0,0,0,0,0,0,0,0,0,0,0,0,0,0,0,0,0,0,0,0,0,0,0,0,null,0,0,0,0,0,0,0,0,0,0,0,0,0,0,0,0,0,0,0,0,0,0,0,0,0,null,0,0,0,0,0,0,0,0,0,0,0,0,0,0,0,0,0,0,0,0,0,0,0,0,0,null,0,0,0,0,0,0,0,0,0,0,0,0,0,0,0,0,0,0,0,0,0,null,0,0,0,0,0,0,0,0,0,0,0,0,0,0,0,0,0,0,0,0,0,null,0,0,0,0,0,0,0,0,0,0,0,0,0,0,0,0,0,0,0,0,0,null,0,0,0,0,0,0,0,0,0,0,0,0,0,0,null,0,0,0,0,0,0,0,null,0,0,0,0,0,0,0,0,0,0,0,0,0,0,0,0,null,0,0,0,0,0,0,0,0,0,0,0,0,0,0,0,0,0,0,0,0,0,0,0,0,0,0,0,0,0,0,0,0,0,0,0,0,0,0,0,0,0,0,null,0,0,0,0,0,0,0,0,0,0,0,0,0,0,0,0,0,0,0,0,0,0,0,0,0,0,0,0,0,0,0,0,0,0,0,0,0,0,0,0,0,0,null,0,0,0,0,0,0,0,0]
[0,4,{"$nulls":44},{"$f":"SUM(AV28,BA28,BD28:BF28,BH28:BJ28)-BL28","v":0},{"$f":"SUM(BP28:CE28,CP28:DE28,DP28:EE28,EP28:FE28,FP28:GE28,GP28:HE28,HP28:IE28)","v":0},{"$f":"CJ28+DJ28+EJ28+FJ28+GJ28+HJ28","v":0},0,{"$f":"CI28+DI28+EI28+FI28+GI28+HI28","v":0},{"$f":"(CN28+DN28+EN28+FN28+GN28+IN28+JO28)","v":0},{"$f":"CL28+DL28+EL28+FL28+GL28+IL28+JL28","v":0},0,0,{"$f":"BS28+CS28+DS28+ES28+FS28+GS28+HS28+SUM(KH28:LB28)","v":0},{"$f":"BQ28+CQ28+DQ28+EQ28+FQ28+GQ28+HQ28+SUM(IP28:JJ28)","v":0},{"$f":"BR28+CR28+DR28+ER28+FR28+GR28+HR28+SUM(JL28:KF28)","v":0},{"$f":"AU28+AW28+AY28","v":0},{"$f":"CF28+DF28+EF28+FF28+GF28+HF28","v":0},0,0,{"$f":"CM28+DM28+EM28+FM28+JM28+HM28+IM28","v":0},{"$f":"SUM(BD28:BF28)","v":0},{"$f":"SUM(LD28:LJ28)","v":0},{"$f":"SUM(LK28:LQ28)+BM28","v":0},null,{"$f":"IF(($J28=\"H\"),1,0)","v":0},{"$f":"IF(($J28=\"2B\"),1,0)","v":0},{"$f":"IF(($J28=\"3B\"),1,0)","v":0},{"$f":"IF(($J28=\"HR\"),1,0)","v":0},{"$f":"IF(($J28=\"Hrb\"),1,0)","v":0},{"$f":"IF(($J28=\"H2rb\"),1,0)","v":0},{"$f":"IF(($J28=\"H3rb\"),1,0)","v":0},{"$f":"IF(($J28=\"2Brb\"),1,0)","v":0},{"$f":"IF(($J28=\"2B2rb\"),1,0)","v":0},{"$f":"IF(($J28=\"2B3rb\"),1,0)","v":0},{"$f":"IF(($J28=\"3Brb\"),1,0)","v":0},{"$f":"IF(($J28=\"3B2rb\"),1,0)","v":0},{"$f":"IF(($J28=\"3B3rb\"),1,0)","v":0},{"$f":"IF(($J28=\"HR2\"),1,0)","v":0},{"$f":"IF(($J28=\"HR3\"),1,0)","v":0},{"$f":"IF(($J28=\"GS\"),1,0)","v":0},{"$f":"IF(($J28=\"AO\"),1,0)","v":0},{"$f":"IF(($J28=\"GO\"),1,0)","v":0},{"$f":"IF(($J28=\"DP\"),1,0)","v":0},{"$f":"IF(($J28=\"HBP\"),1,0)","v":0},{"$f":"IF(($J28=\"BB\"),1,0)","v":0},{"$f":"IF(($J28=\"BBrb\"),1,0)","v":0},{"$f":"IF(($J28=\"K\"),1,0)","v":0},{"$f":"IF(($J28=\"rbe\"),1,0)","v":0},{"$f":"IF(($J28=\"sf\"),1,0)","v":0},null,{"$f":"IF(($O28=\"H\"),1,0)","v":0},{"$f":"IF(($O28=\"2B\"),1,0)","v":0},{"$f":"IF(($O28=\"3B\"),1,0)","v":0},{"$f":"IF(($O28=\"HR\"),1,0)","v":0},{"$f":"IF(($O28=\"Hrb\"),1,0)","v":0},{"$f":"IF(($O28=\"H2rb\"),1,0)","v":0},{"$f":"IF(($O28=\"H3rb\"),1,0)","v":0},{"$f":"IF(($O28=\"2Brb\"),1,0)","v":0},{"$f":"IF(($O28=\"2B2rb\"),1,0)","v":0},{"$f":"IF(($O28=\"2B3rb\"),1,0)","v":0},{"$f":"IF(($O28=\"3Brb\"),1,0)","v":0},{"$f":"IF(($O28=\"3B2rb\"),1,0)","v":0},{"$f":"IF(($O28=\"3B3rb\"),1,0)","v":0},{"$f":"IF(($O28=\"HR2\"),1,0)","v":0},{"$f":"IF(($O28=\"HR3\"),1,0)","v":0},{"$f":"IF(($O28=\"GS\"),1,0)","v":0},{"$f":"IF(($O28=\"AO\"),1,0)","v":0},{"$f":"IF(($O28=\"GO\"),1,0)","v":0},{"$f":"IF(($O28=\"DP\"),1,0)","v":0},{"$f":"IF(($O28=\"HBP\"),1,0)","v":0},{"$f":"IF(($O28=\"BB\"),1,0)","v":0},{"$f":"IF(($O28=\"BBrb\"),1,0)","v":0},{"$f":"IF(($O28=\"K\"),1,0)","v":0},{"$f":"IF(($O28=\"rbe\"),1,0)","v":0},{"$f":"IF(($O28=\"sf\"),1,0)","v":0},null,{"$f":"IF(($T28=\"H\"),1,0)","v":0},{"$f":"IF(($T28=\"2B\"),1,0)","v":0},{"$f":"IF(($T28=\"3B\"),1,0)","v":0},{"$f":"IF(($T28=\"HR\"),1,0)","v":0},{"$f":"IF(($T28=\"Hrb\"),1,0)","v":0},{"$f":"IF(($T28=\"H2rb\"),1,0)","v":0},{"$f":"IF(($T28=\"H3rb\"),1,0)","v":0},{"$f":"IF(($T28=\"2Brb\"),1,0)","v":0},{"$f":"IF(($T28=\"2B2rb\"),1,0)","v":0},{"$f":"IF(($T28=\"2B3rb\"),1,0)","v":0},{"$f":"IF(($T28=\"3Brb\"),1,0)","v":0},{"$f":"IF(($T28=\"3B2rb\"),1,0)","v":0},{"$f":"IF(($T28=\"3B3rb\"),1,0)","v":0},{"$f":"IF(($T28=\"HR2\"),1,0)","v":0},{"$f":"IF(($T28=\"HR3\"),1,0)","v":0},{"$f":"IF(($T28=\"GS\"),1,0)","v":0},{"$f":"IF(($T28=\"AO\"),1,0)","v":0},{"$f":"IF(($T28=\"GO\"),1,0)","v":0},{"$f":"IF(($T28=\"DP\"),1,0)","v":0},{"$f":"IF(($T28=\"HBP\"),1,0)","v":0},{"$f":"IF(($T28=\"BB\"),1,0)","v":0},{"$f":"IF(($T28=\"BBrb\"),1,0)","v":0},{"$f":"IF(($T28=\"K\"),1,0)","v":0},{"$f":"IF(($T28=\"rbe\"),1,0)","v":0},{"$f":"IF(($T28=\"sf\"),1,0)","v":0},null,{"$f":"IF(($Y28=\"H\"),1,0)","v":0},{"$f":"IF(($Y28=\"2B\"),1,0)","v":0},{"$f":"IF(($Y28=\"3B\"),1,0)","v":0},{"$f":"IF(($Y28=\"HR\"),1,0)","v":0},{"$f":"IF(($Y28=\"Hrb\"),1,0)","v":0},{"$f":"IF(($Y28=\"H2rb\"),1,0)","v":0},{"$f":"IF(($Y28=\"H3rb\"),1,0)","v":0},{"$f":"IF(($Y28=\"2Brb\"),1,0)","v":0},{"$f":"IF(($Y28=\"2B2rb\"),1,0)","v":0},{"$f":"IF(($Y28=\"2B3rb\"),1,0)","v":0},{"$f":"IF(($Y28=\"3Brb\"),1,0)","v":0},{"$f":"IF(($Y28=\"3B2rb\"),1,0)","v":0},{"$f":"IF(($Y28=\"3B3rb\"),1,0)","v":0},{"$f":"IF(($Y28=\"HR2\"),1,0)","v":0},{"$f":"IF(($Y28=\"HR3\"),1,0)","v":0},{"$f":"IF(($Y28=\"GS\"),1,0)","v":0},{"$f":"IF(($Y28=\"AO\"),1,0)","v":0},{"$f":"IF(($Y28=\"GO\"),1,0)","v":0},{"$f":"IF(($Y28=\"DP\"),1,0)","v":0},{"$f":"IF(($Y28=\"HBP\"),1,0)","v":0},{"$f":"IF(($Y28=\"BB\"),1,0)","v":0},{"$f":"IF(($Y28=\"BBrb\"),1,0)","v":0},{"$f":"IF(($Y28=\"K\"),1,0)","v":0},{"$f":"IF(($Y28=\"rbe\"),1,0)","v":0},{"$f":"IF(($Y28=\"sf\"),1,0)","v":0},null,{"$f":"IF(($AD28=\"H\"),1,0)","v":0},{"$f":"IF(($AD28=\"2B\"),1,0)","v":0},{"$f":"IF(($AD28=\"3B\"),1,0)","v":0},{"$f":"IF(($AD28=\"HR\"),1,0)","v":0},{"$f":"IF(($AD28=\"Hrb\"),1,0)","v":0},{"$f":"IF(($AD28=\"H2rb\"),1,0)","v":0},{"$f":"IF(($AD28=\"H3rb\"),1,0)","v":0},{"$f":"IF(($AD28=\"2Brb\"),1,0)","v":0},{"$f":"IF(($AD28=\"2B2rb\"),1,0)","v":0},{"$f":"IF(($AD28=\"2B3rb\"),1,0)","v":0},{"$f":"IF(($AD28=\"3Brb\"),1,0)","v":0},{"$f":"IF(($AD28=\"3B2rb\"),1,0)","v":0},{"$f":"IF(($AD28=\"3B3rb\"),1,0)","v":0},{"$f":"IF(($AD28=\"HR2\"),1,0)","v":0},{"$f":"IF(($AD28=\"HR3\"),1,0)","v":0},{"$f":"IF(($AD28=\"GS\"),1,0)","v":0},{"$f":"IF(($AD28=\"AO\"),1,0)","v":0},{"$f":"IF(($AD28=\"GO\"),1,0)","v":0},{"$f":"IF(($AD28=\"DP\"),1,0)","v":0},{"$f":"IF(($AD28=\"HBP\"),1,0)","v":0},{"$f":"IF(($AD28=\"BB\"),1,0)","v":0},{"$f":"IF(($AD28=\"BBrb\"),1,0)","v":0},{"$f":"IF(($AD28=\"K\"),1,0)","v":0},{"$f":"IF(($AD28=\"rbe\"),1,0)","v":0},{"$f":"IF(($AD28=\"sf\"),1,0)","v":0},null,{"$f":"IF(($AI28=\"H\"),1,0)","v":0},{"$f":"IF(($AI28=\"2B\"),1,0)","v":0},{"$f":"IF(($AI28=\"3B\"),1,0)","v":0},{"$f":"IF(($AI28=\"HR\"),1,0)","v":0},{"$f":"IF(($AI28=\"Hrb\"),1,0)","v":0},{"$f":"IF(($AI28=\"H2rb\"),1,0)","v":0},{"$f":"IF(($AI28=\"H3rb\"),1,0)","v":0},{"$f":"IF(($AI28=\"2Brb\"),1,0)","v":0},{"$f":"IF(($AI28=\"2B2rb\"),1,0)","v":0},{"$f":"IF(($AI28=\"2B3rb\"),1,0)","v":0},{"$f":"IF(($AI28=\"3Brb\"),1,0)","v":0},{"$f":"IF(($AI28=\"3B2rb\"),1,0)","v":0},{"$f":"IF(($AI28=\"3B3rb\"),1,0)","v":0},{"$f":"IF(($AI28=\"HR2\"),1,0)","v":0},{"$f":"IF(($AI28=\"HR3\"),1,0)","v":0},{"$f":"IF(($AI28=\"GS\"),1,0)","v":0},{"$f":"IF(($AI28=\"AO\"),1,0)","v":0},{"$f":"IF(($AI28=\"GO\"),1,0)","v":0},{"$f":"IF(($AI28=\"DP\"),1,0)","v":0},{"$f":"IF(($AI28=\"HBP\"),1,0)","v":0},{"$f":"IF(($AI28=\"BB\"),1,0)","v":0},{"$f":"IF(($AI28=\"BBrb\"),1,0)","v":0},{"$f":"IF(($AI28=\"K\"),1,0)","v":0},{"$f":"IF(($AI28=\"rbe\"),1,0)","v":0},{"$f":"IF(($AI28=\"sf\"),1,0)","v":0},null,{"$f":"IF(($AN28=\"H\"),1,0)","v":0},{"$f":"IF(($AN28=\"2B\"),1,0)","v":0},{"$f":"IF(($AN28=\"3B\"),1,0)","v":0},{"$f":"IF(($AN28=\"HR\"),1,0)","v":0},{"$f":"IF(($AN28=\"Hrb\"),1,0)","v":0},{"$f":"IF(($AN28=\"H2rb\"),1,0)","v":0},{"$f":"IF(($AN28=\"H3rb\"),1,0)","v":0},{"$f":"IF(($AN28=\"2Brb\"),1,0)","v":0},{"$f":"IF(($AN28=\"2B2rb\"),1,0)","v":0},{"$f":"IF(($AN28=\"2B3rb\"),1,0)","v":0},{"$f":"IF(($AN28=\"3Brb\"),1,0)","v":0},{"$f":"IF(($AN28=\"3B2rb\"),1,0)","v":0},{"$f":"IF(($AN28=\"3B3rb\"),1,0)","v":0},{"$f":"IF(($AN28=\"HR2\"),1,0)","v":0},{"$f":"IF(($AN28=\"HR3\"),1,0)","v":0},{"$f":"IF(($AN28=\"GS\"),1,0)","v":0},{"$f":"IF(($AN28=\"AO\"),1,0)","v":0},{"$f":"IF(($AN28=\"GO\"),1,0)","v":0},{"$f":"IF(($AN28=\"DP\"),1,0)","v":0},{"$f":"IF(($AN28=\"HBP\"),1,0)","v":0},{"$f":"IF(($AN28=\"BB\"),1,0)","v":0},{"$f":"IF(($AN28=\"BBrb\"),1,0)","v":0},{"$f":"IF(($AN28=\"K\"),1,0)","v":0},{"$f":"IF(($AN28=\"rbe\"),1,0)","v":0},{"$f":"IF(($AN28=\"sf\"),1,0)","v":0},null,{"$f":"BW28","v":0},0,0,{"$f":"CW28","v":0},0,0,{"$f":"DW28","v":0},0,0,{"$f":"EW28","v":0},0,0,{"$f":"FW28","v":0},0,0,{"$f":"GW28","v":0},0,0,{"$f":"HW28","v":0},0,0,null,{"$f":"BZ28","v":0},0,0,{"$f":"CZ28","v":0},0,0,{"$f":"DZ28","v":0},0,0,{"$f":"EZ28","v":0},0,0,{"$f":"FZ28","v":0},0,0,{"$f":"GZ28","v":0},0,0,{"$f":"HZ28","v":0},0,0,null,{"$f":"CC28","v":0},0,0,{"$f":"DC28","v":0},0,0,{"$f":"EC28","v":0},0,0,{"$f":"FC28","v":0},0,0,{"$f":"GC28","v":0},0,0,{"$f":"HC28","v":0},0,0,{"$f":"IC28","v":0},0,0,null,{"$f":"IF(($N28=\"s\"),1,0)","v":0},{"$f":"IF(($S28=\"s\"),1,0)","v":0},{"$f":"IF(($X28=\"s\"),1,0)","v":0},{"$f":"IF(($AC28=\"s\"),1,0)","v":0},{"$f":"IF(($AH28=\"s\"),1,0)","v":0},{"$f":"IF(($AM28=\"s\"),1,0)","v":0},{"$f":"IF(($AR28=\"s\"),1,0)","v":0},{"$f":"IF(($N28=\"a\"),1,0)","v":0},{"$f":"IF(($S28=\"a\"),1,0)","v":0},{"$f":"IF(($X28=\"a\"),1,0)","v":0},{"$f":"IF(($AC28=\"a\"),1,0)","v":0},{"$f":"IF(($AH28=\"a\"),1,0)","v":0},{"$f":"IF(($AM28=\"a\"),1,0)","v":0},{"$f":"IF(($AR28=\"a\"),1,0)","v":0},null,0,0,0,0,0,0,0,null,0,0,0,0,0,0,0,0,0,0,0,0,0,0,0,0,null,0,0,0,0,0,0,0,0,0,0,0,0,0,0,0,0,0,0,0,0,0,0,0,0,0,0,0,0,0,0,0,0,0,0,0,0,0,0,0,0,0,0,null,0,0,0,0,0,0,0,0,0,0,0,0,0,0,0,0,0,0,0,0,0,0,0,0,0,0,0,0,0,0,0,0,0,0,0,0,0,0,0,0,0,0,null,0,0,0,0,0,0,0,0]
[0,5,{"$nulls":44},0,0,0,0,0,0,0,0,0,0,0,0,0,0,0,0,0,0,0,0,null,0,0,0,0,0,0,0,0,0,0,0,0,0,0,0,0,0,0,0,0,0,0,0,0,0,null,0,0,0,0,0,0,0,0,0,0,0,0,0,0,0,0,0,0,0,0,0,0,0,0,0,null,0,0,0,0,0,0,0,0,0,0,0,0,0,0,0,0,0,0,0,0,0,0,0,0,0,null,0,0,0,0,0,0,0,0,0,0,0,0,0,0,0,0,0,0,0,0,0,0,0,0,0,null,0,0,0,0,0,0,0,0,0,0,0,0,0,0,0,0,0,0,0,0,0,0,0,0,0,null,0,0,0,0,0,0,0,0,0,0,0,0,0,0,0,0,0,0,0,0,0,0,0,0,0,null,0,0,0,0,0,0,0,0,0,0,0,0,0,0,0,0,0,0,0,0,0,0,0,0,0,null,0,0,0,0,0,0,0,0,0,0,0,0,0,0,0,0,0,0,0,0,0,null,0,0,0,0,0,0,0,0,0,0,0,0,0,0,0,0,0,0,0,0,0,null,0,0,0,0,0,0,0,0,0,0,0,0,0,0,0,0,0,0,0,0,0,null,0,0,0,0,0,0,0,0,0,0,0,0,0,0,null,0,0,0,0,0,0,0,null,0,0,0,0,0,0,0,0,0,0,0,0,0,0,0,0,null,0,0,0,0,0,0,0,0,0,0,0,0,0,0,0,0,0,0,0,0,0,0,0,0,0,0,0,0,0,0,0,0,0,0,0,0,0,0,0,0,0,0,null,0,0,0,0,0,0,0,0,0,0,0,0,0,0,0,0,0,0,0,0,0,0,0,0,0,0,0,0,0,0,0,0,0,0,0,0,0,0,0,0,0,0,null,0,0,0,0,0,0,0,0]
[0,6,{"$nulls":44},0,0,0,0,0,0,0,0,0,0,0,0,0,0,0,0,0,0,0,0,null,0,0,0,0,0,0,0,0,0,0,0,0,0,0,0,0,0,0,0,0,0,0,0,0,0,null,0,0,0,0,0,0,0,0,0,0,0,0,0,0,0,0,0,0,0,0,0,0,0,0,0,null,0,0,0,0,0,0,0,0,0,0,0,0,0,0,0,0,0,0,0,0,0,0,0,0,0,null,0,0,0,0,0,0,0,0,0,0,0,0,0,0,0,0,0,0,0,0,0,0,0,0,0,null,0,0,0,0,0,0,0,0,0,0,0,0,0,0,0,0,0,0,0,0,0,0,0,0,0,null,0,0,0,0,0,0,0,0,0,0,0,0,0,0,0,0,0,0,0,0,0,0,0,0,0,null,0,0,0,0,0,0,0,0,0,0,0,0,0,0,0,0,0,0,0,0,0,0,0,0,0,null,0,0,0,0,0,0,0,0,0,0,0,0,0,0,0,0,0,0,0,0,0,null,0,0,0,0,0,0,0,0,0,0,0,0,0,0,0,0,0,0,0,0,0,null,0,0,0,0,0,0,0,0,0,0,0,0,0,0,0,0,0,0,0,0,0,null,0,0,0,0,0,0,0,0,0,0,0,0,0,0,null,0,0,0,0,0,0,0,null,0,0,0,0,0,0,0,0,0,0,0,0,0,0,0,0,null,0,0,0,0,0,0,0,0,0,0,0,0,0,0,0,0,0,0,0,0,0,0,0,0,0,0,0,0,0,0,0,0,0,0,0,0,0,0,0,0,0,0,null,0,0,0,0,0,0,0,0,0,0,0,0,0,0,0,0,0,0,0,0,0,0,0,0,0,0,0,0,0,0,0,0,0,0,0,0,0,0,0,0,0,0,null,0,0,0,0,0,0,0,0]
[0,7,{"$nulls":44},0,0,0,0,0,0,0,0,0,0,0,0,0,0,0,0,0,0,0,0,null,0,0,0,0,0,0,0,0,0,0,0,0,0,0,0,0,0,0,0,0,0,0,0,0,0,null,0,0,0,0,0,0,0,0,0,0,0,0,0,0,0,0,0,0,0,0,0,0,0,0,0,null,0,0,0,0,0,0,0,0,0,0,0,0,0,0,0,0,0,0,0,0,0,0,0,0,0,null,0,0,0,0,0,0,0,0,0,0,0,0,0,0,0,0,0,0,0,0,0,0,0,0,0,null,0,0,0,0,0,0,0,0,0,0,0,0,0,0,0,0,0,0,0,0,0,0,0,0,0,null,0,0,0,0,0,0,0,0,0,0,0,0,0,0,0,0,0,0,0,0,0,0,0,0,0,null,0,0,0,0,0,0,0,0,0,0,0,0,0,0,0,0,0,0,0,0,0,0,0,0,0,null,0,0,0,0,0,0,0,0,0,0,0,0,0,0,0,0,0,0,0,0,0,null,0,0,0,0,0,0,0,0,0,0,0,0,0,0,0,0,0,0,0,0,0,null,0,0,0,0,0,0,0,0,0,0,0,0,0,0,0,0,0,0,0,0,0,null,0,0,0,0,0,0,0,0,0,0,0,0,0,0,null,0,0,0,0,0,0,0,null,0,0,0,0,0,0,0,0,0,0,0,0,0,0,0,0,null,0,0,0,0,0,0,0,0,0,0,0,0,0,0,0,0,0,0,0,0,0,0,0,0,0,0,0,0,0,0,0,0,0,0,0,0,0,0,0,0,0,0,null,0,0,0,0,0,0,0,0,0,0,0,0,0,0,0,0,0,0,0,0,0,0,0,0,0,0,0,0,0,0,0,0,0,0,0,0,0,0,0,0,0,0,null,0,0,0,0,0,0,0,0]
[0,8,{"$nulls":44},0,0,0,0,0,0,0,0,0,0,0,0,0,0,0,0,0,0,0,0,null,0,0,0,0,0,0,0,0,0,0,0,0,0,0,0,0,0,0,0,0,0,0,0,0,0,null,0,0,0,0,0,0,0,0,0,0,0,0,0,0,0,0,0,0,0,0,0,0,0,0,0,null,0,0,0,0,0,0,0,0,0,0,0,0,0,0,0,0,0,0,0,0,0,0,0,0,0,null,0,0,0,0,0,0,0,0,0,0,0,0,0,0,0,0,0,0,0,0,0,0,0,0,0,null,0,0,0,0,0,0,0,0,0,0,0,0,0,0,0,0,0,0,0,0,0,0,0,0,0,null,0,0,0,0,0,0,0,0,0,0,0,0,0,0,0,0,0,0,0,0,0,0,0,0,0,null,0,0,0,0,0,0,0,0,0,0,0,0,0,0,0,0,0,0,0,0,0,0,0,0,0,null,0,0,0,0,0,0,0,0,0,0,0,0,0,0,0,0,0,0,0,0,0,null,0,0,0,0,0,0,0,0,0,0,0,0,0,0,0,0,0,0,0,0,0,null,0,0,0,0,0,0,0,0,0,0,0,0,0,0,0,0,0,0,0,0,0,null,0,0,0,0,0,0,0,0,0,0,0,0,0,0,null,0,0,0,0,0,0,0,null,0,0,0,0,0,0,0,0,0,0,0,0,0,0,0,0,null,0,0,0,0,0,0,0,0,0,0,0,0,0,0,0,0,0,0,0,0,0,0,0,0,0,0,0,0,0,0,0,0,0,0,0,0,0,0,0,0,0,0,null,0,0,0,0,0,0,0,0,0,0,0,0,0,0,0,0,0,0,0,0,0,0,0,0,0,0,0,0,0,0,0,0,0,0,0,0,0,0,0,0,0,0,null,0,0,0,0,0,0,0,0]
[0,9,{"$nulls":44},0,0,0,0,0,0,0,0,0,0,0,0,0,0,0,0,0,0,0,0,null,0,0,0,0,0,0,0,0,0,0,0,0,0,0,0,0,0,0,0,0,0,0,0,0,0,null,0,0,0,0,0,0,0,0,0,0,0,0,0,0,0,0,0,0,0,0,0,0,0,0,0,null,0,0,0,0,0,0,0,0,0,0,0,0,0,0,0,0,0,0,0,0,0,0,0,0,0,null,0,0,0,0,0,0,0,0,0,0,0,0,0,0,0,0,0,0,0,0,0,0,0,0,0,null,0,0,0,0,0,0,0,0,0,0,0,0,0,0,0,0,0,0,0,0,0,0,0,0,0,null,0,0,0,0,0,0,0,0,0,0,0,0,0,0,0,0,0,0,0,0,0,0,0,0,0,null,0,0,0,0,0,0,0,0,0,0,0,0,0,0,0,0,0,0,0,0,0,0,0,0,0,null,0,0,0,0,0,0,0,0,0,0,0,0,0,0,0,0,0,0,0,0,0,null,0,0,0,0,0,0,0,0,0,0,0,0,0,0,0,0,0,0,0,0,0,null,0,0,0,0,0,0,0,0,0,0,0,0,0,0,0,0,0,0,0,0,0,null,0,0,0,0,0,0,0,0,0,0,0,0,0,0,null,0,0,0,0,0,0,0,null,0,0,0,0,0,0,0,0,0,0,0,0,0,0,0,0,null,0,0,0,0,0,0,0,0,0,0,0,0,0,0,0,0,0,0,0,0,0,0,0,0,0,0,0,0,0,0,0,0,0,0,0,0,0,0,0,0,0,0,null,0,0,0,0,0,0,0,0,0,0,0,0,0,0,0,0,0,0,0,0,0,0,0,0,0,0,0,0,0,0,0,0,0,0,0,0,0,0,0,0,0,0,null,0,0,0,0,0,0,0,0]
[0,10,{"$nulls":44},0,0,0,0,0,0,0,0,0,0,0,0,0,0,0,0,0,0,0,0,null,0,0,0,0,0,0,0,0,0,0,0,0,0,0,0,0,0,0,0,0,0,0,0,0,0,null,0,0,0,0,0,0,0,0,0,0,0,0,0,0,0,0,0,0,0,0,0,0,0,0,0,null,0,0,0,0,0,0,0,0,0,0,0,0,0,0,0,0,0,0,0,0,0,0,0,0,0,null,0,0,0,0,0,0,0,0,0,0,0,0,0,0,0,0,0,0,0,0,0,0,0,0,0,null,0,0,0,0,0,0,0,0,0,0,0,0,0,0,0,0,0,0,0,0,0,0,0,0,0,null,0,0,0,0,0,0,0,0,0,0,0,0,0,0,0,0,0,0,0,0,0,0,0,0,0,null,0,0,0,0,0,0,0,0,0,0,0,0,0,0,0,0,0,0,0,0,0,0,0,0,0,null,0,0,0,0,0,0,0,0,0,0,0,0,0,0,0,0,0,0,0,0,0,null,0,0,0,0,0,0,0,0,0,0,0,0,0,0,0,0,0,0,0,0,0,null,0,0,0,0,0,0,0,0,0,0,0,0,0,0,0,0,0,0,0,0,0,null,0,0,0,0,0,0,0,0,0,0,0,0,0,0,null,0,0,0,0,0,0,0,null,0,0,0,0,0,0,0,0,0,0,0,0,0,0,0,0,null,0,0,0,0,0,0,0,0,0,0,0,0,0,0,0,0,0,0,0,0,0,0,0,0,0,0,0,0,0,0,0,0,0,0,0,0,0,0,0,0,0,0,null,0,0,0,0,0,0,0,0,0,0,0,0,0,0,0,0,0,0,0,0,0,0,0,0,0,0,0,0,0,0,0,0,0,0,0,0,0,0,0,0,0,0,null,0,0,0,0,0,0,0,0]
[0,11,{"$nulls":44},0,0,0,0,0,0,0,0,0,0,0,0,0,0,0,0,0,0,0,0,null,0,0,0,0,0,0,0,0,0,0,0,0,0,0,0,0,0,0,0,0,0,0,0,0,0,null,0,0,0,0,0,0,0,0,0,0,0,0,0,0,0,0,0,0,0,0,0,0,0,0,0,null,0,0,0,0,0,0,0,0,0,0,0,0,0,0,0,0,0,0,0,0,0,0,0,0,0,null,0,0,0,0,0,0,0,0,0,0,0,0,0,0,0,0,0,0,0,0,0,0,0,0,0,null,0,0,0,0,0,0,0,0,0,0,0,0,0,0,0,0,0,0,0,0,0,0,0,0,0,null,0,0,0,0,0,0,0,0,0,0,0,0,0,0,0,0,0,0,0,0,0,0,0,0,0,null,0,0,0,0,0,0,0,0,0,0,0,0,0,0,0,0,0,0,0,0,0,0,0,0,0,null,0,0,0,0,0,0,0,0,0,0,0,0,0,0,0,0,0,0,0,0,0,null,0,0,0,0,0,0,0,0,0,0,0,0,0,0,0,0,0,0,0,0,0,null,0,0,0,0,0,0,0,0,0,0,0,0,0,0,0,0,0,0,0,0,0,null,0,0,0,0,0,0,0,0,0,0,0,0,0,0,null,0,0,0,0,0,0,0,null,0,0,0,0,0,0,0,0,0,0,0,0,0,0,0,0,null,0,0,0,0,0,0,0,0,0,0,0,0,0,0,0,0,0,0,0,0,0,0,0,0,0,0,0,0,0,0,0,0,0,0,0,0,0,0,0,0,0,0,null,0,0,0,0,0,0,0,0,0,0,0,0,0,0,0,0,0,0,0,0,0,0,0,0,0,0,0,0,0,0,0,0,0,0,0,0,0,0,0,0,0,0,null,0,0,0,0,0,0,0,0]
[0,12,{"$nulls":44},0,0,0,0,0,0,0,0,0,0,0,0,0,0,0,0,0,0,0,0,null,0,0,0,0,0,0,0,0,0,0,0,0,0,0,0,0,0,0,0,0,0,0,0,0,0,null,0,0,0,0,0,0,0,0,0,0,0,0,0,0,0,0,0,0,0,0,0,0,0,0,0,null,0,0,0,0,0,0,0,0,0,0,0,0,0,0,0,0,0,0,0,0,0,0,0,0,0,null,0,0,0,0,0,0,0,0,0,0,0,0,0,0,0,0,0,0,0,0,0,0,0,0,0,null,0,0,0,0,0,0,0,0,0,0,0,0,0,0,0,0,0,0,0,0,0,0,0,0,0,null,0,0,0,0,0,0,0,0,0,0,0,0,0,0,0,0,0,0,0,0,0,0,0,0,0,null,0,0,0,0,0,0,0,0,0,0,0,0,0,0,0,0,0,0,0,0,0,0,0,0,0,null,0,0,0,0,0,0,0,0,0,0,0,0,0,0,0,0,0,0,0,0,0,null,0,0,0,0,0,0,0,0,0,0,0,0,0,0,0,0,0,0,0,0,0,null,0,0,0,0,0,0,0,0,0,0,0,0,0,0,0,0,0,0,0,0,0,null,0,0,0,0,0,0,0,0,0,0,0,0,0,0,null,0,0,0,0,0,0,0,null,0,0,0,0,0,0,0,0,0,0,0,0,0,0,0,0,null,0,0,0,0,0,0,0,0,0,0,0,0,0,0,0,0,0,0,0,0,0,0,0,0,0,0,0,0,0,0,0,0,0,0,0,0,0,0,0,0,0,0,null,0,0,0,0,0,0,0,0,0,0,0,0,0,0,0,0,0,0,0,0,0,0,0,0,0,0,0,0,0,0,0,0,0,0,0,0,0,0,0,0,0,0,null,0,0,0,0,0,0,0,0]
[0,13,{"$nulls":44},0,0,0,0,0,0,0,0,0,0,0,0,0,0,0,0,0,0,0,0,null,0,0,0,0,0,0,0,0,0,0,0,0,0,0,0,0,0,0,0,0,0,0,0,0,0,null,0,0,0,0,0,0,0,0,0,0,0,0,0,0,0,0,0,0,0,0,0,0,0,0,0,null,0,0,0,0,0,0,0,0,0,0,0,0,0,0,0,0,0,0,0,0,0,0,0,0,0,null,0,0,0,0,0,0,0,0,0,0,0,0,0,0,0,0,0,0,0,0,0,0,0,0,0,null,0,0,0,0,0,0,0,0,0,0,0,0,0,0,0,0,0,0,0,0,0,0,0,0,0,null,0,0,0,0,0,0,0,0,0,0,0,0,0,0,0,0,0,0,0,0,0,0,0,0,0,null,0,0,0,0,0,0,0,0,0,0,0,0,0,0,0,0,0,0,0,0,0,0,0,0,0,null,0,0,0,0,0,0,0,0,0,0,0,0,0,0,0,0,0,0,0,0,0,null,0,0,0,0,0,0,0,0,0,0,0,0,0,0,0,0,0,0,0,0,0,null,0,0,0,0,0,0,0,0,0,0,0,0,0,0,0,0,0,0,0,0,0,null,0,0,0,0,0,0,0,0,0,0,0,0,0,0,null,0,0,0,0,0,0,0,null,0,0,0,0,0,0,0,0,0,0,0,0,0,0,0,0,null,0,0,0,0,0,0,0,0,0,0,0,0,0,0,0,0,0,0,0,0,0,0,0,0,0,0,0,0,0,0,0,0,0,0,0,0,0,0,0,0,0,0,null,0,0,0,0,0,0,0,0,0,0,0,0,0,0,0,0,0,0,0,0,0,0,0,0,0,0,0,0,0,0,0,0,0,0,0,0,0,0,0,0,0,0,null,0,0,0,0,0,0,0,0]
[{"$nulls":12},{"$f":"SUM(M25:M37)","v":0},{"$nulls":4},{"$f":"SUM(R25:R37)","v":0},{"$nulls":4},{"$f":"SUM(W25:W37)","v":0},{"$nulls":4},{"$f":"SUM(AB25:AB37)","v":0},{"$nulls":4},{"$f":"SUM(AG25:AG37)","v":0},{"$nulls":4},{"$f":"SUM(AL25:AL37)","v":0},{"$nulls":4},{"$f":"SUM(AQ25:AQ37)","v":0},{"$nulls":312},{"$f":"SUM(MR25:MR37)","v":0},{"$f":"SUM(MS25:MS37)","v":0},0,0,0,0,0,0,0,0,0,0,0,0,0,0,0,0,0,0,0,0,0,0,0,0,0,0,0,0,0,0,0,0,0,0,0,0,0,0,0,0,null,{"$f":"SUM(OI25:OI37)","v":0},{"$f":"SUM(OJ25:OJ37)","v":0},0,0,0,0,0,0,0,0,0,0,0,0,0,0,0,0,0,0,0,0,0,0,0,0,0,0,0,0,0,0,0,0,0,0,0,0,0,0,0,0,null,{"$f":"SUM(PZ25:PZ37)","v":0},0,0,0,0,0,0]
[{"$nulls":355},{"$f":"SUM(MR26:MR38)","v":0},{"$f":"SUM(MS26:MS38)","v":0},0,0,0,0,0,0,0,0,0,0,0,0,0,0,0,0,0,0,0,0,0,0,0,0,0,0,0,0,0,0,0,0,0,0,0,0,0,0,0,0,null,{"$f":"SUM(OI26:OI38)","v":0},{"$f":"SUM(OJ26:OJ38)","v":0},0,0,0,0,0,0,0,0,0,0,0,0,0,0,0,0,0,0,0,0,0,0,0,0,0,0,0,0,0,0,0,0,0,0,0,0,0,0,0,0]
[{"$nulls":355},{"$f":"MR39+MX39+ND39+NJ39+NP39+NV39+OB39","v":0},{"$nulls":42},{"$f":"OI39+OO39+OU39+PA39+PG39+PM39+PS39","v":0}]
[{"$nulls":355},{"$f":"MS39+MY39+NE39+NK39+NQ39+NW39+OC39","v":0},{"$nulls":42},{"$f":"OJ39+OP39+OV39+PB39+PH39+PN39+PT39","v":0}]
[{"$nulls":355},{"$f":"MT39+MZ39+NF39+NL39+NR39+NX39+OD39","v":0},{"$nulls":42},{"$f":"OK39+OQ39+OW39+PC39+PI39+PO39+PU39","v":0}]
[{"$nulls":355},{"$f":"MU39+NA39+NG39+NM39+NS39+NY39+OE39","v":0},{"$nulls":42},{"$f":"OL39+OR39+OX39+PD39+PJ39+PP39+PV39","v":0}]
[{"$nulls":355},{"$f":"MV39+NB39+NH39+NN39+NT39+NZ39+OF39","v":0},{"$nulls":42},{"$f":"OM39+OS39+OY39+PE39+PK39+PQ39+PW39","v":0}]
[{"$nulls":355},{"$f":"MW39+NC39+NI39+NO39+NU39+OG39","v":0},{"$nulls":42},{"$f":"ON39+OT39+OZ39+PF39+PL39+PX39","v":0}]

{"sheet":"BoxScore","index":1,"n_rows":50,"n_cols":23,"rows_kept":50}
[null,{"$f":"Game!E3","v":"Away Team"},{"$nulls":3},"@",null,{"$f":"Game!E23","v":"Home Team"}]
[null,{"$f":"Game!A1","v":"11th of August - Season Game"}]
[]
[{"$nulls":5},1,2,3,4,5,6,7,8,9,"x",null,"R","H","E"]
[null,{"$f":"Game!E3","v":"Away Team"},{"$nulls":3},{"$f":"Game!AW20","v":0},{"$f":"Game!AX20","v":0},{"$f":"Game!AY20","v":0},{"$f":"Game!AZ20","v":0},{"$f":"Game!BA20","v":0},{"$f":"Game!BB20","v":0},{"$f":"Game!BC20","v":0},{"$f":"Game!BD20","v":0},{"$f":"Game!BE20","v":0},{"$f":"(Game!BF20+Game!BG20+Game!BH20+Game!BI20+Game!BJ20)","v":0},null,{"$f":"Game!AT20","v":0},{"$f":"Game!AU20","v":0},{"$f":"Game!AV20","v":0}]
[null,{"$f":"Game!E23","v":"Home Team"},{"$nulls":3},{"$f":"Game!AW21","v":0},{"$f":"Game!AX21","v":0},{"$f":"Game!AY21","v":0},{"$f":"Game!AZ21","v":0},{"$f":"Game!BA21","v":0},{"$f":"Game!BB21","v":0},{"$f":"Game!BC21","v":0},{"$f":"Game!BD21","v":0},{"$f":"Game!BE21","v":0},{"$f":"(Game!BF21+Game!BG21+Game!BH21+Game!BI21+Game!BJ21)","v":0},null,{"$f":"Game!AT21","v":0},{"$f":"Game!AU21","v":0},{"$f":"Game!AV21","v":0}]
[]
[{"$f":"Game!C20","v":"Away Team"},null,null,"AB","H","R","rbi","HR","SO","BB",null,null,{"$f":"Game!C21","v":"Home Team"},{"$nulls":3},"AB","H","R","rbi","HR","SO","BB"]
[{"$f":"Game!E5","v":0},null,{"$f":"Game!C5","v":0},{"$f":"Game!AU5","v":0},{"$f":"Game!AV5","v":0},{"$f":"Game!BC5","v":0},{"$f":"Game!AX5","v":0},{"$f":"Game!BD5","v":0},{"$f":"Game!BA5","v":0},{"$f":"Game!AW5","v":0},null,null,{"$f":"Game!E25","v":0},null,null,{"$f":"Game!C25","v":0},{"$f":"Game!AU25","v":0},{"$f":"Game!AV25","v":0},{"$f":"Game!BC25","v":0},{"$f":"Game!AX25","v":0},{"$f":"Game!BD25","v":0},{"$f":"Game!BA25","v":0},{"$f":"Game!AW25","v":0}]
[{"$f":"Game!E6","v":0},null,{"$f":"Game!C6","v":0},{"$f":"Game!AU6","v":0},{"$f":"Game!AV6","v":0},{"$f":"Game!BC6","v":0},{"$f":"Game!AX6","v":0},{"$f":"Game!BD6","v":0},{"$f":"Game!BA6","v":0},{"$f":"Game!AW6","v":0},null,null,{"$f":"Game!E26","v":0},null,null,{"$f":"Game!C26","v":0},{"$f":"Game!AU26","v":0},{"$f":"Game!AV26","v":0},{"$f":"Game!BC26","v":0},{"$f":"Game!AX26","v":0},{"$f":"Game!BD26","v":0},{"$f":"Game!BA26","v":0},{"$f":"Game!AW26","v":0}]
[{"$f":"Game!E7","v":0},null,{"$f":"Game!C7","v":0},{"$f":"Game!AU7","v":0},{"$f":"Game!AV7","v":0},{"$f":"Game!BC7","v":0},{"$f":"Game!AX7","v":0},{"$f":"Game!BD7","v":0},{"$f":"Game!BA7","v":0},{"$f":"Game!AW7","v":0},null,null,{"$f":"Game!E27","v":0},null,null,{"$f":"Game!C27","v":0},{"$f":"Game!AU27","v":0},{"$f":"Game!AV27","v":0},{"$f":"Game!BC27","v":0},{"$f":"Game!AX27","v":0},{"$f":"Game!BD27","v":0},{"$f":"Game!BA27","v":0},{"$f":"Game!AW27","v":0}]
[{"$f":"Game!E8","v":0},null,{"$f":"Game!C8","v":0},{"$f":"Game!AU8","v":0},{"$f":"Game!AV8","v":0},{"$f":"Game!BC8","v":0},{"$f":"Game!AX8","v":0},{"$f":"Game!BD8","v":0},{"$f":"Game!BA8","v":0},{"$f":"Game!AW8","v":0},null,null,{"$f":"Game!E28","v":0},null,null,{"$f":"Game!C28","v":0},{"$f":"Game!AU28","v":0},{"$f":"Game!AV28","v":0},{"$f":"Game!BC28","v":0},{"$f":"Game!AX28","v":0},{"$f":"Game!BD28","v":0},{"$f":"Game!BA28","v":0},{"$f":"Game!AW28","v":0}]
[{"$f":"Game!E9","v":0},null,{"$f":"Game!C9","v":0},{"$f":"Game!AU9","v":0},{"$f":"Game!AV9","v":0},{"$f":"Game!BC9","v":0},{"$f":"Game!AX9","v":0},{"$f":"Game!BD9","v":0},{"$f":"Game!BA9","v":0},{"$f":"Game!AW9","v":0},null,null,{"$f":"Game!E29","v":0},null,null,{"$f":"Game!C29","v":0},{"$f":"Game!AU29","v":0},{"$f":"Game!AV29","v":0},{"$f":"Game!BC29","v":0},{"$f":"Game!AX29","v":0},{"$f":"Game!BD29","v":0},{"$f":"Game!BA29","v":0},{"$f":"Game!AW29","v":0}]
[{"$f":"Game!E10","v":0},null,{"$f":"Game!C10","v":0},{"$f":"Game!AU10","v":0},{"$f":"Game!AV10","v":0},{"$f":"Game!BC10","v":0},{"$f":"Game!AX10","v":0},{"$f":"Game!BD10","v":0},{"$f":"Game!BA10","v":0},{"$f":"Game!AW10","v":0},null,null,{"$f":"Game!E30","v":0},null,null,{"$f":"Game!C30","v":0},{"$f":"Game!AU30","v":0},{"$f":"Game!AV30","v":0},{"$f":"Game!BC30","v":0},{"$f":"Game!AX30","v":0},{"$f":"Game!BD30","v":0},{"$f":"Game!BA30","v":0},{"$f":"Game!AW30","v":0}]
[{"$f":"Game!E11","v":0},null,{"$f":"Game!C11","v":0},{"$f":"Game!AU11","v":0},{"$f":"Game!AV11","v":0},{"$f":"Game!BC11","v":0},{"$f":"Game!AX11","v":0},{"$f":"Game!BD11","v":0},{"$f":"Game!BA11","v":0},{"$f":"Game!AW11","v":0},null,null,{"$f":"Game!E31","v":0},null,null,{"$f":"Game!C31","v":0},{"$f":"Game!AU31","v":0},{"$f":"Game!AV31","v":0},{"$f":"Game!BC31","v":0},{"$f":"Game!AX31","v":0},{"$f":"Game!BD31","v":0},{"$f":"Game!BA31","v":0},{"$f":"Game!AW31","v":0}]
[{"$f":"Game!E12","v":0},null,{"$f":"Game!C12","v":0},{"$f":"Game!AU12","v":0},{"$f":"Game!AV12","v":0},{"$f":"Game!BC12","v":0},{"$f":"Game!AX12","v":0},{"$f":"Game!BD12","v":0},{"$f":"Game!BA12","v":0},{"$f":"Game!AW12","v":0},null,null,{"$f":"Game!E32","v":0},null,null,{"$f":"Game!C32","v":0},{"$f":"Game!AU32","v":0},{"$f":"Game!AV32","v":0},{"$f":"Game!BC32","v":0},{"$f":"Game!AX32","v":0},{"$f":"Game!BD32","v":0},{"$f":"Game!BA32","v":0},{"$f":"Game!AW32","v":0}]
[{"$f":"Game!E13","v":0},null,{"$f":"Game!C13","v":0},{"$f":"Game!AU13","v":0},{"$f":"Game!AV13","v":0},{"$f":"Game!BC13","v":0},{"$f":"Game!AX13","v":0},{"$f":"Game!BD13","v":0},{"$f":"Game!BA13","v":0},{"$f":"Game!AW13","v":0},null,null,{"$f":"Game!E33","v":0},null,null,{"$f":"Game!C33","v":0},{"$f":"Game!AU33","v":0},{"$f":"Game!AV33","v":0},{"$f":"Game!BC33","v":0},{"$f":"Game!AX33","v":0},{"$f":"Game!BD33","v":0},{"$f":"Game!BA33","v":0},{"$f":"Game!AW33","v":0}]
[{"$f":"Game!E14","v":0},null,{"$f":"Game!C14","v":0},{"$f":"Game!AU14","v":0},{"$f":"Game!AV14","v":0},{"$f":"Game!BC14","v":0},{"$f":"Game!AX14","v":0},{"$f":"Game!BD14","v":0},{"$f":"Game!BA14","v":0},{"$f":"Game!AW14","v":0},null,null,{"$f":"Game!E34","v":0},null,null,{"$f":"Game!C34","v":0},{"$f":"Game!AU34","v":0},{"$f":"Game!AV34","v":0},{"$f":"Game!BC34","v":0},{"$f":"Game!AX34","v":0},{"$f":"Game!BD34","v":0},{"$f":"Game!BA34","v":0},{"$f":"Game!AW34","v":0}]
[{"$f":"Game!E15","v":0},null,{"$f":"Game!C15","v":0},{"$f":"Game!AU15","v":0},{"$f":"Game!AV15","v":0},{"$f":"Game!BC15","v":0},{"$f":"Game!AX15","v":0},{"$f":"Game!BD15","v":0},{"$f":"Game!BA15","v":0},{"$f":"Game!AW15","v":0},null,null,{"$f":"Game!E35","v":0},null,null,{"$f":"Game!C35","v":0},{"$f":"Game!AU35","v":0},{"$f":"Game!AV35","v":0},{"$f":"Game!BC35","v":0},{"$f":"Game!AX35","v":0},{"$f":"Game!BD35","v":0},{"$f":"Game!BA35","v":0},{"$f":"Game!AW35","v":0}]
[{"$f":"Game!E16","v":0},null,{"$f":"Game!C16","v":0},{"$f":"Game!AU16","v":0},{"$f":"Game!AV16","v":0},{"$f":"Game!BC16","v":0},{"$f":"Game!AX16","v":0},{"$f":"Game!BD16","v":0},{"$f":"Game!BA16","v":0},{"$f":"Game!AW16","v":0},null,null,{"$f":"Game!E36","v":0},null,null,{"$f":"Game!C36","v":0},{"$f":"Game!AU36","v":0},{"$f":"Game!AV36","v":0},{"$f":"Game!BC36","v":0},{"$f":"Game!AX36","v":0},{"$f":"Game!BD36","v":0},{"$f":"Game!BA36","v":0},{"$f":"Game!AW36","v":0}]
[{"$f":"Game!E17","v":0},null,{"$f":"Game!C17","v":0},{"$f":"Game!AU17","v":0},{"$f":"Game!AV17","v":0},{"$f":"Game!BC17","v":0},{"$f":"Game!AX17","v":0},{"$f":"Game!BD17","v":0},{"$f":"Game!BA17","v":0},{"$f":"Game!AW17","v":0},null,null,{"$f":"Game!E37","v":0},null,null,{"$f":"Game!C37","v":0},{"$f":"Game!AU37","v":0},{"$f":"Game!AV37","v":0},{"$f":"Game!BC37","v":0},{"$f":"Game!AX37","v":0},{"$f":"Game!BD37","v":0},{"$f":"Game!BA37","v":0},{"$f":"Game!AW37","v":0}]
["TOTALS",null,null,{"$f":"SUM(D9:D21)","v":0},{"$f":"SUM(E9:E21)","v":0},0,0,0,0,0,null,null,"TOTALS",{"$nulls":3},{"$f":"SUM(Q9:Q21)","v":0},{"$f":"SUM(R9:R21)","v":0},{"$f":"SUM(S9:S21)","v":0},{"$f":"SUM(T9:T21)","v":0},{"$f":"SUM(U9:U21)","v":0},{"$f":"SUM(V9:V21)","v":0},{"$f":"SUM(W9:W21)","v":0}]
[]
[]
[{"$f":"Game!C20","v":"Away Team"},null,"IP","H","R","ER","BB","SO","HR",{"$nulls":3},{"$f":"Game!C21","v":"Home Team"},null,null,"IP","H","R","ER","BB","SO","HR"]
[{"$f":"Game!J19","v":"S.Pitcher"},null,{"$f":"Home!C20","v":0},{"$f":"Visitors!D20","v":0},{"$f":"Visitors!E20","v":0},{"$f":"Visitors!F20","v":0},{"$f":"Visitors!G20","v":0},{"$f":"Visitors!H20","v":0},{"$f":"Visitors!I20","v":0},{"$nulls":3},{"$f":"Game!J21","v":"Starting Pitcher"},null,null,{"$f":"Home!C20","v":0},{"$f":"Home!D20","v":0},{"$f":"Home!E20","v":0},{"$f":"Home!F20","v":0},{"$f":"Home!G20","v":0},{"$f":"Home!H20","v":0},{"$f":"Home!I20","v":0}]
[{"$f":"Game!P19","v":"Pitcher 2"},null,{"$f":"Visitors!C21","v":0},{"$f":"Visitors!D21","v":0},{"$f":"Visitors!E21","v":0},{"$f":"Visitors!F21","v":0},{"$f":"Visitors!G21","v":0},{"$f":"Visitors!H21","v":0},{"$f":"Visitors!I21","v":0},{"$nulls":3},{"$f":"Game!P21","v":"Pitcher 2"},null,null,{"$f":"Home!C21","v":0},{"$f":"Home!D21","v":0},{"$f":"Home!E21","v":0},{"$f":"Home!F21","v":0},{"$f":"Home!G21","v":0},{"$f":"Home!H21","v":0},{"$f":"Home!I21","v":0}]
[{"$f":"Game!U19","v":"Pitcher 3"},null,{"$f":"Visitors!C22","v":0},{"$f":"Visitors!D22","v":0},{"$f":"Visitors!E22","v":0},{"$f":"Visitors!F22","v":0},{"$f":"Visitors!G22","v":0},{"$f":"Visitors!H22","v":0},{"$f":"Visitors!I22","v":0},{"$nulls":3},{"$f":"Game!U21","v":"Pitcher 3"},null,null,{"$f":"Home!C22","v":0},{"$f":"Home!D22","v":0},{"$f":"Home!E22","v":0},{"$f":"Home!F22","v":0},{"$f":"Home!G22","v":0},{"$f":"Home!H22","v":0},{"$f":"Home!I22","v":0}]
[{"$f":"Game!J20","v":"Pitcher 4"},null,{"$f":"Visitors!C23","v":0},{"$f":"Visitors!D23","v":0},{"$f":"Visitors!E23","v":0},{"$f":"Visitors!F23","v":0},{"$f":"Visitors!G23","v":0},{"$f":"Visitors!H23","v":0},{"$f":"Visitors!I23","v":0},{"$nulls":3},{"$f":"Game!J22","v":"Pitcher 4"},null,null,{"$f":"Home!C23","v":0},{"$f":"Home!D23","v":0},{"$f":"Home!E23","v":0},{"$f":"Home!F23","v":0},{"$f":"Home!G23","v":0},{"$f":"Home!H23","v":0},{"$f":"Home!I23","v":0}]
[{"$f":"Game!P20","v":"Pitcher 5"},null,{"$f":"Visitors!C24","v":0},{"$f":"Visitors!D24","v":0},{"$f":"Visitors!E24","v":0},{"$f":"Visitors!F24","v":0},{"$f":"Visitors!G24","v":0},{"$f":"Visitors!H24","v":0},{"$f":"Visitors!I24","v":0},{"$nulls":3},{"$f":"Game!P22","v":"Pitcher 5"},null,null,{"$f":"Home!C24","v":0},{"$f":"Home!D24","v":0},{"$f":"Home!E24","v":0},{"$f":"Home!F24","v":0},{"$f":"Home!G24","v":0},{"$f":"Home!H24","v":0},{"$f":"Home!I24","v":0}]
[{"$f":"Game!U20","v":"Pitcher 6"},null,{"$f":"Visitors!C25","v":0},{"$f":"Visitors!D25","v":0},{"$f":"Visitors!E25","v":0},{"$f":"Visitors!F25","v":0},{"$f":"Visitors!G25","v":0},{"$f":"Visitors!H25","v":0},{"$f":"Visitors!I25","v":0},{"$nulls":3},{"$f":"Game!U22","v":"Pitcher 6"},null,null,{"$f":"Home!C25","v":0},{"$f":"Home!D25","v":0},{"$f":"Home!E25","v":0},{"$f":"Home!F25","v":0},{"$f":"Home!G25","v":0},{"$f":"Home!H25","v":0},{"$f":"Home!I25","v":0}]
[]
["TOTALS",null,{"$f":"SUM(C26:C32)","v":0},{"$f":"SUM(D26:D32)","v":0},0,0,0,0,0,{"$nulls":3},"TOTALS",null,null,{"$f":"SUM(P26:P32)","v":0},{"$f":"SUM(Q26:Q32)","v":0},{"$f":"SUM(R26:R32)","v":0},{"$f":"SUM(S26:S32)","v":0},{"$f":"SUM(T26:T32)","v":0},{"$f":"SUM(U26:U32)","v":0},{"$f":"SUM(V26:V32)","v":0}]
[]
["BATTING: ",{"$nulls":11},"BATTING:"]
["2B:",{"$nulls":11},"2B:"]
["3B:",{"$nulls":11},"3B:"]
["HR:",{"$nulls":11},"HR:"]
["SF:",{"$nulls":11},"SF:"]
[]
["BASERUNNING:",{"$nulls":11},"BASERUNNING:"]
[]
[]
["FIELDING:",{"$nulls":11},"FIELDING:"]
["E:",{"$nulls":11},"E:"]
["DP:",{"$nulls":11},"DP:"]
[]
[]
["UMPIRE:","Colleen Rucker"]
["WEATHER:"]

{"sheet":"TeamStats","index":2,"n_rows":30,"n_cols":15,"rows_kept":30}
[{"$nulls":4},"BATTING",{"$nulls":7},"PITCHING"]
[]
[null,null,{"$f":"Visitors!A1","v":"Away Team"},{"$nulls":3},{"$f":"Home!A1","v":"Home Team"},{"$nulls":3},{"$f":"Visitors!A1","v":"Away Team"},{"$nulls":3},{"$f":"Home!A1","v":"Home Team"}]
[]
[null,null,{"$f":"C6/C7","v":{"$error":"#DIV/0!"}},null,"AVG.",null,{"$f":"G6/G7","v":{"$error":"#DIV/0!"}},{"$nulls":3},{"$f":"Visitors!C19","v":0},null,{"$f":"Visitors!C18","v":"IP"},null,{"$f":"Home!C19","v":0}]
[null,null,{"$f":"Visitors!C16","v":0},null,{"$f":"UPPER(Visitors!C2)","v":"AB"},null,{"$f":"Home!C16","v":0},{"$nulls":3},{"$f":"Visitors!D19","v":0},null,{"$f":"Visitors!D18","v":"H"},null,{"$f":"Home!D19","v":0}]
[null,null,{"$f":"Visitors!D16","v":0},null,{"$f":"UPPER(Visitors!D2)","v":"H"},null,{"$f":"Home!D16","v":0},{"$nulls":3},{"$f":"Visitors!E19","v":0},null,{"$f":"Visitors!E18","v":"R"},null,{"$f":"Home!E19","v":0}]
[null,null,{"$f":"Visitors!E16","v":0},null,{"$f":"UPPER(Visitors!E2)","v":"BB"},null,{"$f":"Home!E16","v":0},{"$nulls":3},{"$f":"Visitors!F19","v":0},null,{"$f":"Visitors!F18","v":"ER"},null,{"$f":"Home!F19","v":0}]
[null,null,{"$f":"Visitors!F16","v":0},null,{"$f":"UPPER(Visitors!F2)","v":"RBI"},null,{"$f":"Home!F16","v":0},{"$nulls":3},{"$f":"Visitors!G19","v":0},null,{"$f":"Visitors!G18","v":"BB"},null,{"$f":"Home!G19","v":0}]
[null,null,{"$f":"Visitors!G16","v":0},null,{"$f":"UPPER(Visitors!G2)","v":"HBP"},null,{"$f":"Home!G16","v":0},{"$nulls":3},{"$f":"Visitors!H19","v":0},null,{"$f":"Visitors!H18","v":"SO"},null,{"$f":"Home!H19","v":0}]
[null,null,{"$f":"Visitors!H16","v":0},null,{"$f":"UPPER(Visitors!H2)","v":"SF"},null,{"$f":"Home!H16","v":0},{"$nulls":3},{"$f":"Visitors!I19","v":0},null,{"$f":"Visitors!I18","v":"HR"},null,{"$f":"Home!I19","v":0}]
[null,null,{"$f":"Visitors!I16","v":0},null,{"$f":"UPPER(Visitors!I2)","v":"K"},null,{"$f":"Home!I16","v":0},{"$nulls":3},{"$f":"Visitors!J19","v":0},null,{"$f":"Visitors!J18","v":"AO"},null,{"$f":"Home!J19","v":0}]
[{"$nulls":10},{"$f":"Visitors!K19","v":0},null,{"$f":"Visitors!K18","v":"GO"},null,{"$f":"Home!K19","v":0}]
[null,null,{"$f":"Visitors!K16","v":0},null,{"$f":"UPPER(Visitors!K2)","v":"R"},null,{"$f":"Home!K16","v":0},{"$nulls":3},{"$f":"Visitors!L19","v":0},null,{"$f":"Visitors!L18","v":"BF"},null,{"$f":"Home!L19","v":0}]
[null,null,{"$f":"Visitors!L16","v":0},null,{"$f":"UPPER(Visitors!L2)","v":"HR"},null,{"$f":"Home!L16","v":0},{"$nulls":3},{"$f":"Home!M19","v":0},null,"HB",null,{"$f":"Home!M19","v":0}]
[null,null,{"$f":"Visitors!M16","v":0},null,"Doubles",null,{"$f":"Home!M16","v":0}]
[null,null,{"$f":"Visitors!N16","v":0},null,"Triples",null,{"$f":"Home!N16","v":0},{"$nulls":3},{"$f":"Visitors!AB19","v":0},null,"DraftKings Pts.",null,{"$f":"Home!AB19","v":0}]
[{"$nulls":10},{"$f":"Visitors!AC19","v":{"v":0,"d":"0.00"}},null,"Fanduel Pts.",null,{"$f":"Home!AC19","v":{"v":0,"d":"0.00"}}]
[null,null,{"$f":"Visitors!O16","v":0},null,"PA",null,{"$f":"Home!O16","v":0}]
[null,null,{"$f":"Visitors!P16","v":0},null,"AO",null,{"$f":"Home!P16","v":0}]
[null,null,{"$f":"Visitors!Q16","v":0},null,"GO",null,{"$f":"Home!Q16","v":0},{"$nulls":3},{"$f":"BoxScore!B2","v":"11th of August - Season Game"}]
[null,null,{"$f":"Visitors!R16","v":0},null,"GIDP",null,{"$f":"Home!R16","v":0}]
[null,null,{"$f":"Visitors!S16","v":0},null,"RBE",null,{"$f":"Home!S16","v":0},{"$nulls":5},"R","H","E"]
[null,null,{"$f":"Visitors!T16","v":0},null,"XBH",null,{"$f":"Home!T16","v":0},{"$nulls":3},{"$f":"BoxScore!A8","v":"Away Team"},null,{"$f":"BoxScore!Q5","v":0},{"$f":"BoxScore!R5","v":0},{"$f":"BoxScore!S5","v":0}]
[null,null,{"$f":"Visitors!U16","v":0},null,"SB",null,{"$f":"Home!U16","v":0},{"$nulls":3},{"$f":"BoxScore!M25","v":"Home Team"},null,{"$f":"BoxScore!Q6","v":0},{"$f":"BoxScore!R6","v":0},{"$f":"BoxScore!S6","v":0}]
[null,null,{"$f":"Visitors!V16","v":0},null,"SBA",null,{"$f":"Home!V16","v":0}]
[null,null,{"$f":"Visitors!W16","v":0},null,"E",null,{"$f":"Home!W16","v":0}]
[]
[null,null,{"$f":"Visitors!AB16","v":0},null,"DraftKings Pts.",null,{"$f":"Home!AB16","v":0}]
[null,null,{"$f":"Visitors!AC16","v":0},null,"Fanduel Pts.",null,{"$f":"Home!AC16","v":{"v":0,"d":"0.00"}}]

{"sheet":"Visitors","index":3,"n_rows":25,"n_cols":29,"rows_kept":25}
[{"$f":"Game!E3","v":"Away Team"},{"$nulls":5},{"$f":"Game!AT20","v":0},{"$f":"Game!AU20","v":0},{"$f":"Game!AV20","v":0}]
["Pos","PLAYERS",{"$f":"Game!AU4","v":"ab"},{"$f":"Game!AV4","v":"h"},{"$f":"Game!AW4","v":"bb"},{"$f":"Game!AX4","v":"rbi"},{"$f":"Game!AY4","v":"hbp"},{"$f":"Game!AZ4","v":"sf"},{"$f":"Game!BA4","v":"K"},null,{"$f":"Game!BC4","v":"r"},{"$f":"Game!BD4","v":"hr"},{"$f":"Game!BE4","v":"2b"},{"$f":"Game!BF4","v":"3b"},{"$f":"Game!BG4","v":"pa"},{"$f":"Game!BH4","v":"ao"},{"$f":"Game!BI4","v":"go"},{"$f":"Game!BJ4","v":"gidp"},{"$f":"Game!BK4","v":"rbe"},{"$f":"Game!BL4","v":"xbh"},"sb","sba","Er","g",{"$nulls":3},"DK Pts.","FD Pts."]
[{"$f":"Game!C5","v":0},{"$f":"Game!E5","v":0},{"$f":"Game!AU5","v":0},{"$f":"Game!AV5","v":0},{"$f":"Game!AW5","v":0},{"$f":"Game!AX5","v":0},{"$f":"Game!AY5","v":0},{"$f":"Game!AZ5","v":0},{"$f":"Game!BA5","v":0},null,{"$f":"Game!BC5","v":0},{"$f":"Game!BD5","v":0},{"$f":"Game!BE5","v":0},{"$f":"Game!BF5","v":0},{"$f":"Game!BG5","v":0},{"$f":"Game!BH5","v":0},{"$f":"Game!BI5","v":0},{"$f":"Game!BJ5","v":0},{"$f":"Game!BK5","v":0},{"$f":"Game!BL5","v":0},{"$f":"Game!BM5","v":0},{"$f":"Game!BN5","v":0},{"$f":"Game!AT5","v":0},{"$f":"IF(OR(C3>=1,E3>=1,G3>=1),1,0)","v":0},{"$f":"D3-L3-M3-N3","v":0},{"$f":"V3-U3","v":0},{"$f":"C3-D3","v":0},{"$f":"(Y3*3)+(M3*5)+(N3*8)+(L3*10)+(F3*2)+(K3*2)+(E3*2)+(G3*2)+(U3*5)+(Z3*-2)","v":0},{"$f":"(Y3*1)+(M3*2)+(N3*3)+(L3*4)+(F3*1)+(K3*1)+(E3*1)+(U3*2)+(G3*1)+(AA3*-0.25)","v":{"v":0,"d":"0.00"}}]
[{"$f":"Game!C6","v":0},{"$f":"Game!E6","v":0},{"$f":"Game!AU6","v":0},{"$f":"Game!AV6","v":0},{"$f":"Game!AW6","v":0},{"$f":"Game!AX6","v":0},{"$f":"Game!AY6","v":0},{"$f":"Game!AZ6","v":0},{"$f":"Game!BA6","v":0},null,{"$f":"Game!BC6","v":0},{"$f":"Game!BD6","v":0},{"$f":"Game!BE6","v":0},{"$f":"Game!BF6","v":0},{"$f":"Game!BG6","v":0},{"$f":"Game!BH6","v":0},{"$f":"Game!BI6","v":0},{"$f":"Game!BJ6","v":0},{"$f":"Game!BK6","v":0},{"$f":"Game!BL6","v":0},{"$f":"Game!BM6","v":0},{"$f":"Game!BN6","v":0},{"$f":"Game!AT6","v":0},0,{"$f":"D4-L4-M4-N4","v":0},{"$f":"V4-U4","v":0},{"$f":"C4-D4","v":0},{"$f":"(Y4*3)+(M4*5)+(N4*8)+(L4*10)+(F4*2)+(K4*2)+(E4*2)+(G4*2)+(U4*5)+(Z4*-2)","v":0},{"$f":"(Y4*1)+(M4*2)+(N4*3)+(L4*4)+(F4*1)+(K4*1)+(E4*1)+(U4*2)+(G4*1)+(AA4*-0.25)","v":{"v":0,"d":"0.00"}}]
[{"$f":"Game!C7","v":0},{"$f":"Game!E7","v":0},{"$f":"Game!AU7","v":0},{"$f":"Game!AV7","v":0},{"$f":"Game!AW7","v":0},{"$f":"Game!AX7","v":0},{"$f":"Game!AY7","v":0},{"$f":"Game!AZ7","v":0},{"$f":"Game!BA7","v":0},null,{"$f":"Game!BC7","v":0},{"$f":"Game!BD7","v":0},{"$f":"Game!BE7","v":0},{"$f":"Game!BF7","v":0},{"$f":"Game!BG7","v":0},{"$f":"Game!BH7","v":0},{"$f":"Game!BI7","v":0},{"$f":"Game!BJ7","v":0},{"$f":"Game!BK7","v":0},{"$f":"Game!BL7","v":0},{"$f":"Game!BM7","v":0},{"$f":"Game!BN7","v":0},{"$f":"Game!AT7","v":0},0,0,0,0,0,{"v":0,"d":"0.00"}]
[{"$f":"Game!C8","v":0},{"$f":"Game!E8","v":0},{"$f":"Game!AU8","v":0},{"$f":"Game!AV8","v":0},{"$f":"Game!AW8","v":0},{"$f":"Game!AX8","v":0},{"$f":"Game!AY8","v":0},{"$f":"Game!AZ8","v":0},{"$f":"Game!BA8","v":0},null,{"$f":"Game!BC8","v":0},{"$f":"Game!BD8","v":0},{"$f":"Game!BE8","v":0},{"$f":"Game!BF8","v":0},{"$f":"Game!BG8","v":0},{"$f":"Game!BH8","v":0},{"$f":"Game!BI8","v":0},{"$f":"Game!BJ8","v":0},{"$f":"Game!BK8","v":0},{"$f":"Game!BL8","v":0},{"$f":"Game!BM8","v":0},{"$f":"Game!BN8","v":0},{"$f":"Game!AT8","v":0},0,0,0,0,0,{"v":0,"d":"0.00"}]
[{"$f":"Game!C9","v":0},{"$f":"Game!E9","v":0},{"$f":"Game!AU9","v":0},{"$f":"Game!AV9","v":0},{"$f":"Game!AW9","v":0},{"$f":"Game!AX9","v":0},{"$f":"Game!AY9","v":0},{"$f":"Game!AZ9","v":0},{"$f":"Game!BA9","v":0},null,{"$f":"Game!BC9","v":0},{"$f":"Game!BD9","v":0},{"$f":"Game!BE9","v":0},{"$f":"Game!BF9","v":0},{"$f":"Game!BG9","v":0},{"$f":"Game!BH9","v":0},{"$f":"Game!BI9","v":0},{"$f":"Game!BJ9","v":0},{"$f":"Game!BK9","v":0},{"$f":"Game!BL9","v":0},{"$f":"Game!BM9","v":0},{"$f":"Game!BN9","v":0},{"$f":"Game!AT9","v":0},0,0,0,0,0,{"v":0,"d":"0.00"}]
[{"$f":"Game!C10","v":0},{"$f":"Game!E10","v":0},{"$f":"Game!AU10","v":0},{"$f":"Game!AV10","v":0},{"$f":"Game!AW10","v":0},{"$f":"Game!AX10","v":0},{"$f":"Game!AY10","v":0},{"$f":"Game!AZ10","v":0},{"$f":"Game!BA10","v":0},null,{"$f":"Game!BC10","v":0},{"$f":"Game!BD10","v":0},{"$f":"Game!BE10","v":0},{"$f":"Game!BF10","v":0},{"$f":"Game!BG10","v":0},{"$f":"Game!BH10","v":0},{"$f":"Game!BI10","v":0},{"$f":"Game!BJ10","v":0},{"$f":"Game!BK10","v":0},{"$f":"Game!BL10","v":0},{"$f":"Game!BM10","v":0},{"$f":"Game!BN10","v":0},{"$f":"Game!AT10","v":0},0,0,0,0,0,{"v":0,"d":"0.00"}]
[{"$f":"Game!C11","v":0},{"$f":"Game!E11","v":0},{"$f":"Game!AU11","v":0},{"$f":"Game!AV11","v":0},{"$f":"Game!AW11","v":0},{"$f":"Game!AX11","v":0},{"$f":"Game!AY11","v":0},{"$f":"Game!AZ11","v":0},{"$f":"Game!BA11","v":0},null,{"$f":"Game!BC11","v":0},{"$f":"Game!BD11","v":0},{"$f":"Game!BE11","v":0},{"$f":"Game!BF11","v":0},{"$f":"Game!BG11","v":0},{"$f":"Game!BH11","v":0},{"$f":"Game!BI11","v":0},{"$f":"Game!BJ11","v":0},{"$f":"Game!BK11","v":0},{"$f":"Game!BL11","v":0},{"$f":"Game!BM11","v":0},{"$f":"Game!BN11","v":0},{"$f":"Game!AT11","v":0},0,0,0,0,0,{"v":0,"d":"0.00"}]
[{"$f":"Game!C12","v":0},{"$f":"Game!E12","v":0},{"$f":"Game!AU12","v":0},{"$f":"Game!AV12","v":0},{"$f":"Game!AW12","v":0},{"$f":"Game!AX12","v":0},{"$f":"Game!AY12","v":0},{"$f":"Game!AZ12","v":0},{"$f":"Game!BA12","v":0},null,{"$f":"Game!BC12","v":0},{"$f":"Game!BD12","v":0},{"$f":"Game!BE12","v":0},{"$f":"Game!BF12","v":0},{"$f":"Game!BG12","v":0},{"$f":"Game!BH12","v":0},{"$f":"Game!BI12","v":0},{"$f":"Game!BJ12","v":0},{"$f":"Game!BK12","v":0},{"$f":"Game!BL12","v":0},{"$f":"Game!BM12","v":0},{"$f":"Game!BN12","v":0},{"$f":"Game!AT12","v":0},0,0,0,0,0,{"v":0,"d":"0.00"}]
[{"$f":"Game!C13","v":0},{"$f":"Game!E13","v":0},{"$f":"Game!AU13","v":0},{"$f":"Game!AV13","v":0},{"$f":"Game!AW13","v":0},{"$f":"Game!AX13","v":0},{"$f":"Game!AY13","v":0},{"$f":"Game!AZ13","v":0},{"$f":"Game!BA13","v":0},null,{"$f":"Game!BC13","v":0},{"$f":"Game!BD13","v":0},{"$f":"Game!BE13","v":0},{"$f":"Game!BF13","v":0},{"$f":"Game!BG13","v":0},{"$f":"Game!BH13","v":0},{"$f":"Game!BI13","v":0},{"$f":"Game!BJ13","v":0},{"$f":"Game!BK13","v":0},{"$f":"Game!BL13","v":0},{"$f":"Game!BM13","v":0},{"$f":"Game!BN13","v":0},{"$f":"Game!AT13","v":0},0,0,0,0,0,{"v":0,"d":"0.00"}]
[{"$f":"Game!C14","v":0},{"$f":"Game!E14","v":0},{"$f":"Game!AU14","v":0},{"$f":"Game!AV14","v":0},{"$f":"Game!AW14","v":0},{"$f":"Game!AX14","v":0},{"$f":"Game!AY14","v":0},{"$f":"Game!AZ14","v":0},{"$f":"Game!BA14","v":0},null,{"$f":"Game!BC14","v":0},{"$f":"Game!BD14","v":0},{"$f":"Game!BE14","v":0},{"$f":"Game!BF14","v":0},{"$f":"Game!BG14","v":0},{"$f":"Game!BH14","v":0},{"$f":"Game!BI14","v":0},{"$f":"Game!BJ14","v":0},{"$f":"Game!BK14","v":0},{"$f":"Game!BL14","v":0},{"$f":"Game!BM14","v":0},{"$f":"Game!BN14","v":0},{"$f":"Game!AT14","v":0},0,0,0,0,0,{"v":0,"d":"0.00"}]
[{"$f":"Game!C15","v":0},{"$f":"Game!E15","v":0},{"$f":"Game!AU15","v":0},{"$f":"Game!AV15","v":0},{"$f":"Game!AW15","v":0},{"$f":"Game!AX15","v":0},{"$f":"Game!AY15","v":0},{"$f":"Game!AZ15","v":0},{"$f":"Game!BA15","v":0},null,{"$f":"Game!BC15","v":0},{"$f":"Game!BD15","v":0},{"$f":"Game!BE15","v":0},{"$f":"Game!BF15","v":0},{"$f":"Game!BG15","v":0},{"$f":"Game!BH15","v":0},{"$f":"Game!BI15","v":0},{"$f":"Game!BJ15","v":0},{"$f":"Game!BK15","v":0},{"$f":"Game!BL15","v":0},{"$f":"Game!BM15","v":0},{"$f":"Game!BN15","v":0},{"$f":"Game!AT15","v":0},0,0,0,0,0,{"v":0,"d":"0.00"}]
[{"$f":"Game!C16","v":0},{"$f":"Game!E16","v":0},{"$f":"Game!AU16","v":0},{"$f":"Game!AV16","v":0},{"$f":"Game!AW16","v":0},{"$f":"Game!AX16","v":0},{"$f":"Game!AY16","v":0},{"$f":"Game!AZ16","v":0},{"$f":"Game!BA16","v":0},null,{"$f":"Game!BC16","v":0},{"$f":"Game!BD16","v":0},{"$f":"Game!BE16","v":0},{"$f":"Game!BF16","v":0},{"$f":"Game!BG16","v":0},{"$f":"Game!BH16","v":0},{"$f":"Game!BI16","v":0},{"$f":"Game!BJ16","v":0},{"$f":"Game!BK16","v":0},{"$f":"Game!BL16","v":0},{"$f":"Game!BM16","v":0},{"$f":"Game!BN16","v":0},{"$f":"Game!AT16","v":0},0,0,0,0,0,{"v":0,"d":"0.00"}]
[{"$f":"Game!C17","v":0},{"$f":"Game!E17","v":0},{"$f":"Game!AU17","v":0},{"$f":"Game!AV17","v":0},{"$f":"Game!AW17","v":0},{"$f":"Game!AX17","v":0},{"$f":"Game!AY17","v":0},{"$f":"Game!AZ17","v":0},{"$f":"Game!BA17","v":0},null,{"$f":"Game!BC17","v":0},{"$f":"Game!BD17","v":0},{"$f":"Game!BE17","v":0},{"$f":"Game!BF17","v":0},{"$f":"Game!BG17","v":0},{"$f":"Game!BH17","v":0},{"$f":"Game!BI17","v":0},{"$f":"Game!BJ17","v":0},{"$f":"Game!BK17","v":0},{"$f":"Game!BL17","v":0},{"$f":"Game!BM17","v":0},{"$f":"Game!BN17","v":0},{"$f":"Game!AT17","v":0},0,0,0,0,0,{"v":0,"d":"0.00"}]
["TOTAL",{"$f":"C16/D16","v":{"$error":"#DIV/0!"}},{"$f":"SUM(C3:C15)","v":0},{"$f":"SUM(D3:D15)","v":0},0,0,0,0,0,0,0,0,0,0,0,0,0,0,0,0,0,0,0,{"$nulls":3},0,0,{"v":0,"d":"0.00"}]
["PITCHERS"]
["POS","Name","IP","H","R","ER","BB","SO","HR","AO","GO","BF","HBP",null,"CG","SH","NH","WIN",{"$nulls":9},"DK Pts","FD Pts."]
["TOTALS",null,{"$f":"SUM(C20:C30)","v":0},{"$f":"SUM(D20:D30)","v":0},0,0,0,0,0,0,0,0,0,null,{"$f":"SUM(O20:O30)","v":0},{"$f":"SUM(P20:P30)","v":0},{"$f":"SUM(Q20:Q30)","v":0},0,{"$nulls":9},{"$f":"SUM(AB20:AB30)","v":{"v":0,"d":"0.00"}},{"v":0,"d":"0.00"}]
[null,{"$f":"Game!J19","v":"S.Pitcher"},{"$f":"Game!O19","v":0},{"$f":"Pitchers!AF38+Pitchers!AL38+Pitchers!AR38+Pitchers!AX38+Pitchers!BD38+Pitchers!BJ38+Pitchers!BP38","v":0},{"$f":"Game!OI40+F20","v":0},{"$f":"Game!MR40","v":0},{"$f":"Pitchers!IH38+Pitchers!IN38+Pitchers!IT38+Pitchers!IZ38+Pitchers!JF38+Pitchers!JL38+Pitchers!JR38","v":0},{"$f":"Pitchers!JX38+Pitchers!KD38+Pitchers!KJ38+Pitchers!KP38+Pitchers!KV38+Pitchers!LB38+Pitchers!LH38","v":0},{"$f":"Pitchers!BV38+Pitchers!CB38+Pitchers!CH38+Pitchers!CN38+Pitchers!CT38+Pitchers!CZ38+Pitchers!DF38","v":0},{"$f":"Pitchers!FB38+Pitchers!FH38+Pitchers!FN38+Pitchers!FT38+Pitchers!FZ38+Pitchers!GF38+Pitchers!GL38","v":0},{"$f":"Pitchers!DL38+Pitchers!DR38+Pitchers!DX38+Pitchers!ED38+Pitchers!EJ38+Pitchers!EP38+Pitchers!EV38","v":0},{"$f":"Pitchers!LN38+Pitchers!LT38+Pitchers!LZ38+Pitchers!MF38+Pitchers!ML38+Pitchers!MR38+Pitchers!MX38","v":0},{"$f":"Pitchers!GR38+Pitchers!GX38+Pitchers!HD38+Pitchers!HJ38+Pitchers!HP38+Pitchers!HV38+Pitchers!IB38","v":0},null,{"$f":"IF(AND(C20=9,C19=9),1,0)","v":0},{"$f":"IF(AND(C20=9,F20=0),1,0)","v":0},{"$f":"IF(AND(C20=9,D20=0),1,0)","v":0},0,{"$nulls":9},{"$f":"(C20*2.25)+(H20*2)+(R20*4)+(F20*-2)+(D20*-0.6)+(G20*-0.6)+(M20*-0.6)+(O20*2.5)+(P20*2.5)+(Q20*5)","v":{"v":0,"d":"0.00"}},{"$f":"(R20*4)+(F20*-1)+(H20*1)+(C20*1)","v":{"v":0,"d":"0.00"}}]
[null,{"$f":"Game!P19","v":"Pitcher 2"},{"$f":"Game!T19","v":0},{"$f":"Pitchers!AG38+Pitchers!AM38+Pitchers!AS38+Pitchers!AY38+Pitchers!BE38+Pitchers!BK38+Pitchers!BQ38","v":0},{"$f":"Game!OI41+F21","v":0},{"$f":"Game!MR41","v":0},{"$f":"Pitchers!II38+Pitchers!IO38+Pitchers!IU38+Pitchers!JA38+Pitchers!JG38+Pitchers!JM38+Pitchers!JS38","v":0},{"$f":"Pitchers!JY38+Pitchers!KE38+Pitchers!KK38+Pitchers!KQ38+Pitchers!KW38+Pitchers!LC38+Pitchers!LI38","v":0},{"$f":"Pitchers!BW38+Pitchers!CC38+Pitchers!CI38+Pitchers!CO38+Pitchers!CU38+Pitchers!DA38+Pitchers!DG38","v":0},{"$f":"Pitchers!FC38+Pitchers!FI38+Pitchers!FO38+Pitchers!FU38+Pitchers!GA38+Pitchers!GG38+Pitchers!GM38","v":0},{"$f":"Pitchers!DM38+Pitchers!DS38+Pitchers!DY38+Pitchers!EE38+Pitchers!EK38+Pitchers!EQ38+Pitchers!EW38","v":0},{"$f":"Pitchers!LO38+Pitchers!LU38+Pitchers!MA38+Pitchers!MG38+Pitchers!MM38+Pitchers!MS38+Pitchers!MY38","v":0},{"$f":"Pitchers!GS38+Pitchers!GY38+Pitchers!HE38+Pitchers!HK38+Pitchers!HQ38+Pitchers!HW38+Pitchers!IC38","v":0},{"$nulls":14},{"$f":"(C21*2.25)+(H21*2)+(R21*4)+(F21*-2)+(D21*-0.6)+(G21*-0.6)+(M21*-0.6)+(O21*2.5)+(P21*2.5)+(Q21*5)","v":{"v":0,"d":"0.00"}},{"$f":"(R21*4)+(F21*-1)+(H21*1)+(C21*1)","v":{"v":0,"d":"0.00"}}]
[null,{"$f":"Game!U19","v":"Pitcher 3"},{"$f":"Game!Y19","v":0},{"$f":"Pitchers!AH38+Pitchers!AN38+Pitchers!AT38+Pitchers!AZ38+Pitchers!BF38+Pitchers!BL38+Pitchers!BR38","v":0},{"$f":"Game!OI42+F22","v":0},{"$f":"Game!MR42","v":0},{"$f":"Pitchers!IJ38+Pitchers!IP38+Pitchers!IV38+Pitchers!JB38+Pitchers!JH38+Pitchers!JN38+Pitchers!JT38","v":0},{"$f":"Pitchers!JZ38+Pitchers!KF38+Pitchers!KL38+Pitchers!KR38+Pitchers!KX38+Pitchers!LD38+Pitchers!LJ38","v":0},{"$f":"Pitchers!BX38+Pitchers!CD38+Pitchers!CJ38+Pitchers!CP38+Pitchers!CV38+Pitchers!DB38+Pitchers!DH38","v":0},{"$f":"Pitchers!FD38+Pitchers!FJ38+Pitchers!FP38+Pitchers!FV38+Pitchers!GB38+Pitchers!GH38+Pitchers!GN38","v":0},{"$f":"Pitchers!DN38+Pitchers!DT38+Pitchers!DZ38+Pitchers!EF38+Pitchers!EL38+Pitchers!ER38+Pitchers!EX38","v":0},{"$f":"Pitchers!LP38+Pitchers!LV38+Pitchers!MB38+Pitchers!MH38+Pitchers!MN38+Pitchers!MT38+Pitchers!MZ38","v":0},{"$f":"Pitchers!GT38+Pitchers!GZ38+Pitchers!HF38+Pitchers!HL38+Pitchers!HR38+Pitchers!HX38+Pitchers!ID38","v":0},{"$nulls":14},{"v":0,"d":"0.00"},{"v":0,"d":"0.00"}]
[null,{"$f":"Game!J20","v":"Pitcher 4"},{"$f":"Game!O20","v":0},{"$f":"Pitchers!AI38+Pitchers!AO38+Pitchers!AU38+Pitchers!BA38+Pitchers!BG38+Pitchers!BM38+Pitchers!BS38","v":0},{"$f":"Game!OI43+F23","v":0},{"$f":"Game!MR43","v":0},{"$f":"Pitchers!IK38+Pitchers!IQ38+Pitchers!IW38+Pitchers!JC38+Pitchers!JI38+Pitchers!JO38+Pitchers!JU38","v":0},{"$f":"Pitchers!KA38+Pitchers!KG38+Pitchers!KM38+Pitchers!KS38+Pitchers!KY38+Pitchers!LE38+Pitchers!LK38","v":0},{"$f":"Pitchers!BY38+Pitchers!CE38+Pitchers!CK38+Pitchers!CQ38+Pitchers!CW38+Pitchers!DC38+Pitchers!DI38","v":0},{"$f":"Pitchers!FE38+Pitchers!FK38+Pitchers!FQ38+Pitchers!FW38+Pitchers!GC38+Pitchers!GI38+Pitchers!GO38","v":0},{"$f":"Pitchers!DO38+Pitchers!DU38+Pitchers!EA38+Pitchers!EG38+Pitchers!EM38+Pitchers!ES38+Pitchers!EY38","v":0},{"$f":"Pitchers!LQ38+Pitchers!LW38+Pitchers!MC38+Pitchers!MI38+Pitchers!MO38+Pitchers!MU38+Pitchers!NA38","v":0},{"$f":"Pitchers!GU38+Pitchers!HA38+Pitchers!HG38+Pitchers!HM38+Pitchers!HS38+Pitchers!HY38+Pitchers!IE38","v":0},{"$nulls":14},{"v":0,"d":"0.00"},{"v":0,"d":"0.00"}]
[null,{"$f":"Game!P20","v":"Pitcher 5"},{"$f":"Game!T20","v":0},{"$f":"Pitchers!AJ38+Pitchers!AP38+Pitchers!AV38+Pitchers!BB38+Pitchers!BH38+Pitchers!BN38+Pitchers!BT38","v":0},{"$f":"Game!OI44+F24","v":0},{"$f":"Game!MR44","v":0},{"$f":"Pitchers!IL38+Pitchers!IR38+Pitchers!IX38+Pitchers!JD38+Pitchers!JJ38+Pitchers!JP38+Pitchers!JV38","v":0},{"$f":"Pitchers!KB38+Pitchers!KH38+Pitchers!KN38+Pitchers!KT38+Pitchers!KZ38+Pitchers!LF38+Pitchers!LL38","v":0},{"$f":"Pitchers!BZ38+Pitchers!CF38+Pitchers!CL38+Pitchers!CR38+Pitchers!CX38+Pitchers!DD38+Pitchers!DJ38","v":0},{"$f":"Pitchers!FF38+Pitchers!FL38+Pitchers!FR38+Pitchers!FX38+Pitchers!GD38+Pitchers!GJ38+Pitchers!GP38","v":0},{"$f":"Pitchers!DP38+Pitchers!DV38+Pitchers!EB38+Pitchers!EH38+Pitchers!EN38+Pitchers!ET38+Pitchers!EZ38","v":0},{"$f":"Pitchers!LR38+Pitchers!LX38+Pitchers!MD38+Pitchers!MJ38+Pitchers!MP38+Pitchers!MV38+Pitchers!NB38","v":0},{"$f":"Pitchers!GV38+Pitchers!HB38+Pitchers!HH38+Pitchers!HN38+Pitchers!HT38+Pitchers!HZ38+Pitchers!IF38","v":0},{"$nulls":14},{"v":0,"d":"0.00"},{"v":0,"d":"0.00"}]
[null,{"$f":"Game!U20","v":"Pitcher 6"},{"$f":"Game!Y20","v":0},{"$f":"Pitchers!AK38+Pitchers!AQ38+Pitchers!AW38+Pitchers!BC38+Pitchers!BI38+Pitchers!BO38+Pitchers!BU38","v":0},{"$f":"Game!OI45+F25","v":0},{"$f":"Game!MR45","v":0},{"$f":"Pitchers!IM38+Pitchers!IS38+Pitchers!IY38+Pitchers!JE38+Pitchers!JK38+Pitchers!JQ38+Pitchers!JW38","v":0},{"$f":"Pitchers!KC38+Pitchers!KI38+Pitchers!KO38+Pitchers!KU38+Pitchers!LA38+Pitchers!LG38+Pitchers!LM38","v":0},{"$f":"Pitchers!CA38+Pitchers!CG38+Pitchers!CM38+Pitchers!CS38+Pitchers!CY38+Pitchers!DE38+Pitchers!DK38","v":0},{"$f":"Pitchers!FG38+Pitchers!FM38+Pitchers!FS38+Pitchers!FY38+Pitchers!GE38+Pitchers!GK38+Pitchers!GQ38","v":0},{"$f":"Pitchers!DQ38+Pitchers!DW38+Pitchers!EC38+Pitchers!EI38+Pitchers!EO38+Pitchers!EU38+Pitchers!FA38","v":0},{"$f":"Pitchers!LS38+Pitchers!LY38+Pitchers!ME38+Pitchers!MK38+Pitchers!MQ38+Pitchers!MW38+Pitchers!NC38","v":0},{"$f":"Pitchers!GW38+Pitchers!HC38+Pitchers!HI38+Pitchers!HO38+Pitchers!HU38+Pitchers!IA38+Pitchers!IG38","v":0},{"$nulls":14},{"v":0,"d":"0.00"},{"v":0,"d":"0.00"}]

{"sheet":"Home","index":4,"n_rows":25,"n_cols":29,"rows_kept":25}
[{"$f":"Game!E23","v":"Home Team"},{"$nulls":5},{"$f":"Game!AT21","v":0},{"$f":"Game!AU21","v":0},{"$f":"Game!AV21","v":0}]
["Pos","PLAYERS",{"$f":"Game!AU4","v":"ab"},{"$f":"Game!AV4","v":"h"},{"$f":"Game!AW4","v":"bb"},{"$f":"Game!AX4","v":"rbi"},{"$f":"Game!AY4","v":"hbp"},{"$f":"Game!AZ4","v":"sf"},{"$f":"Game!BA4","v":"K"},null,{"$f":"Game!BC4","v":"r"},{"$f":"Game!BD4","v":"hr"},{"$f":"Game!BE4","v":"2b"},{"$f":"Game!BF4","v":"3b"},{"$f":"Game!BG4","v":"pa"},{"$f":"Game!BH4","v":"ao"},{"$f":"Game!BI4","v":"go"},{"$f":"Game!BJ4","v":"gidp"},{"$f":"Game!BK4","v":"rbe"},{"$f":"Game!BL4","v":"xbh"},"sb","sba","Er","g",{"$nulls":3},"DK Pts.","FD Pts."]
[{"$f":"Game!C25","v":0},{"$f":"Game!E25","v":0},{"$f":"Game!AU25","v":0},{"$f":"Game!AV25","v":0},{"$f":"Game!AW25","v":0},{"$f":"Game!AX25","v":0},{"$f":"Game!AY25","v":0},{"$f":"Game!AZ25","v":0},{"$f":"Game!BA25","v":0},null,{"$f":"Game!BC25","v":0},{"$f":"Game!BD25","v":0},{"$f":"Game!BE25","v":0},{"$f":"Game!BF25","v":0},{"$f":"Game!BG25","v":0},{"$f":"Game!BH25","v":0},{"$f":"Game!BI25","v":0},{"$f":"Game!BJ25","v":0},{"$f":"Game!BK25","v":0},{"$f":"Game!BL25","v":0},{"$f":"Game!BM25","v":0},{"$f":"Game!BN25","v":0},{"$f":"Game!AT25","v":0},{"$f":"IF(OR(C3>=1,E3>=1,G3>=1),1,0)","v":0},{"$f":"D3-L3-M3-N3","v":0},{"$f":"V3-U3","v":0},{"$f":"C3-D3","v":0},{"$f":"(Y3*3)+(M3*5)+(N3*8)+(L3*10)+(F3*2)+(K3*2)+(E3*2)+(G3*2)+(U3*5)+(Z3*-2)","v":0},{"$f":"(Y3*1)+(M3*2)+(N3*3)+(L3*4)+(F3*1)+(K3*1)+(E3*1)+(U3*2)+(G3*1)+(AA3*-0.25)","v":{"v":0,"d":"0.00"}}]
[{"$f":"Game!C26","v":0},{"$f":"Game!E26","v":0},{"$f":"Game!AU26","v":0},{"$f":"Game!AV26","v":0},{"$f":"Game!AW26","v":0},{"$f":"Game!AX26","v":0},{"$f":"Game!AY26","v":0},{"$f":"Game!AZ26","v":0},{"$f":"Game!BA26","v":0},null,{"$f":"Game!BC26","v":0},{"$f":"Game!BD26","v":0},{"$f":"Game!BE26","v":0},{"$f":"Game!BF26","v":0},{"$f":"Game!BG26","v":0},{"$f":"Game!BH26","v":0},{"$f":"Game!BI26","v":0},{"$f":"Game!BJ26","v":0},{"$f":"Game!BK26","v":0},{"$f":"Game!BL26","v":0},{"$f":"Game!BM26","v":0},{"$f":"Game!BN26","v":0},{"$f":"Game!AT26","v":0},0,{"$f":"D4-L4-M4-N4","v":0},{"$f":"V4-U4","v":0},{"$f":"C4-D4","v":0},{"$f":"(Y4*3)+(M4*5)+(N4*8)+(L4*10)+(F4*2)+(K4*2)+(E4*2)+(G4*2)+(U4*5)+(Z4*-2)","v":0},{"$f":"(Y4*1)+(M4*2)+(N4*3)+(L4*4)+(F4*1)+(K4*1)+(E4*1)+(U4*2)+(G4*1)+(AA4*-0.25)","v":{"v":0,"d":"0.00"}}]
[{"$f":"Game!C27","v":0},{"$f":"Game!E27","v":0},{"$f":"Game!AU27","v":0},{"$f":"Game!AV27","v":0},{"$f":"Game!AW27","v":0},{"$f":"Game!AX27","v":0},{"$f":"Game!AY27","v":0},{"$f":"Game!AZ27","v":0},{"$f":"Game!BA27","v":0},null,{"$f":"Game!BC27","v":0},{"$f":"Game!BD27","v":0},{"$f":"Game!BE27","v":0},{"$f":"Game!BF27","v":0},{"$f":"Game!BG27","v":0},{"$f":"Game!BH27","v":0},{"$f":"Game!BI27","v":0},{"$f":"Game!BJ27","v":0},{"$f":"Game!BK27","v":0},{"$f":"Game!BL27","v":0},{"$f":"Game!BM27","v":0},{"$f":"Game!BN27","v":0},{"$f":"Game!AT27","v":0},0,0,0,0,0,{"v":0,"d":"0.00"}]
[{"$f":"Game!C28","v":0},{"$f":"Game!E28","v":0},{"$f":"Game!AU28","v":0},{"$f":"Game!AV28","v":0},{"$f":"Game!AW28","v":0},{"$f":"Game!AX28","v":0},{"$f":"Game!AY28","v":0},{"$f":"Game!AZ28","v":0},{"$f":"Game!BA28","v":0},null,{"$f":"Game!BC28","v":0},{"$f":"Game!BD28","v":0},{"$f":"Game!BE28","v":0},{"$f":"Game!BF28","v":0},{"$f":"Game!BG28","v":0},{"$f":"Game!BH28","v":0},{"$f":"Game!BI28","v":0},{"$f":"Game!BJ28","v":0},{"$f":"Game!BK28","v":0},{"$f":"Game!BL28","v":0},{"$f":"Game!BM28","v":0},{"$f":"Game!BN28","v":0},{"$f":"Game!AT28","v":0},0,0,0,0,0,{"v":0,"d":"0.00"}]
[{"$f":"Game!C29","v":0},{"$f":"Game!E29","v":0},{"$f":"Game!AU29","v":0},{"$f":"Game!AV29","v":0},{"$f":"Game!AW29","v":0},{"$f":"Game!AX29","v":0},{"$f":"Game!AY29","v":0},{"$f":"Game!AZ29","v":0},{"$f":"Game!BA29","v":0},null,{"$f":"Game!BC29","v":0},{"$f":"Game!BD29","v":0},{"$f":"Game!BE29","v":0},{"$f":"Game!BF29","v":0},{"$f":"Game!BG29","v":0},{"$f":"Game!BH29","v":0},{"$f":"Game!BI29","v":0},{"$f":"Game!BJ29","v":0},{"$f":"Game!BK29","v":0},{"$f":"Game!BL29","v":0},{"$f":"Game!BM29","v":0},{"$f":"Game!BN29","v":0},{"$f":"Game!AT29","v":0},0,0,0,0,0,{"v":0,"d":"0.00"}]
[{"$f":"Game!C30","v":0},{"$f":"Game!E30","v":0},{"$f":"Game!AU30","v":0},{"$f":"Game!AV30","v":0},{"$f":"Game!AW30","v":0},{"$f":"Game!AX30","v":0},{"$f":"Game!AY30","v":0},{"$f":"Game!AZ30","v":0},{"$f":"Game!BA30","v":0},null,{"$f":"Game!BC30","v":0},{"$f":"Game!BD30","v":0},{"$f":"Game!BE30","v":0},{"$f":"Game!BF30","v":0},{"$f":"Game!BG30","v":0},{"$f":"Game!BH30","v":0},{"$f":"Game!BI30","v":0},{"$f":"Game!BJ30","v":0},{"$f":"Game!BK30","v":0},{"$f":"Game!BL30","v":0},{"$f":"Game!BM30","v":0},{"$f":"Game!BN30","v":0},{"$f":"Game!AT30","v":0},0,0,0,0,0,{"v":0,"d":"0.00"}]
[{"$f":"Game!C31","v":0},{"$f":"Game!E31","v":0},{"$f":"Game!AU31","v":0},{"$f":"Game!AV31","v":0},{"$f":"Game!AW31","v":0},{"$f":"Game!AX31","v":0},{"$f":"Game!AY31","v":0},{"$f":"Game!AZ31","v":0},{"$f":"Game!BA31","v":0},null,{"$f":"Game!BC31","v":0},{"$f":"Game!BD31","v":0},{"$f":"Game!BE31","v":0},{"$f":"Game!BF31","v":0},{"$f":"Game!BG31","v":0},{"$f":"Game!BH31","v":0},{"$f":"Game!BI31","v":0},{"$f":"Game!BJ31","v":0},{"$f":"Game!BK31","v":0},{"$f":"Game!BL31","v":0},{"$f":"Game!BM31","v":0},{"$f":"Game!BN31","v":0},{"$f":"Game!AT31","v":0},0,0,0,0,0,{"v":0,"d":"0.00"}]
[{"$f":"Game!C32","v":0},{"$f":"Game!E32","v":0},{"$f":"Game!AU32","v":0},{"$f":"Game!AV32","v":0},{"$f":"Game!AW32","v":0},{"$f":"Game!AX32","v":0},{"$f":"Game!AY32","v":0},{"$f":"Game!AZ32","v":0},{"$f":"Game!BA32","v":0},null,{"$f":"Game!BC32","v":0},{"$f":"Game!BD32","v":0},{"$f":"Game!BE32","v":0},{"$f":"Game!BF32","v":0},{"$f":"Game!BG32","v":0},{"$f":"Game!BH32","v":0},{"$f":"Game!BI32","v":0},{"$f":"Game!BJ32","v":0},{"$f":"Game!BK32","v":0},{"$f":"Game!BL32","v":0},{"$f":"Game!BM32","v":0},{"$f":"Game!BN32","v":0},{"$f":"Game!AT32","v":0},0,0,0,0,0,{"v":0,"d":"0.00"}]
[{"$f":"Game!C33","v":0},{"$f":"Game!E33","v":0},{"$f":"Game!AU33","v":0},{"$f":"Game!AV33","v":0},{"$f":"Game!AW33","v":0},{"$f":"Game!AX33","v":0},{"$f":"Game!AY33","v":0},{"$f":"Game!AZ33","v":0},{"$f":"Game!BA33","v":0},null,{"$f":"Game!BC33","v":0},{"$f":"Game!BD33","v":0},{"$f":"Game!BE33","v":0},{"$f":"Game!BF33","v":0},{"$f":"Game!BG33","v":0},{"$f":"Game!BH33","v":0},{"$f":"Game!BI33","v":0},{"$f":"Game!BJ33","v":0},{"$f":"Game!BK33","v":0},{"$f":"Game!BL33","v":0},{"$f":"Game!BM33","v":0},{"$f":"Game!BN33","v":0},{"$f":"Game!AT33","v":0},0,0,0,0,0,{"v":0,"d":"0.00"}]
[{"$f":"Game!C34","v":0},{"$f":"Game!E34","v":0},{"$f":"Game!AU34","v":0},{"$f":"Game!AV34","v":0},{"$f":"Game!AW34","v":0},{"$f":"Game!AX34","v":0},{"$f":"Game!AY34","v":0},{"$f":"Game!AZ34","v":0},{"$f":"Game!BA34","v":0},null,{"$f":"Game!BC34","v":0},{"$f":"Game!BD34","v":0},{"$f":"Game!BE34","v":0},{"$f":"Game!BF34","v":0},{"$f":"Game!BG34","v":0},{"$f":"Game!BH34","v":0},{"$f":"Game!BI34","v":0},{"$f":"Game!BJ34","v":0},{"$f":"Game!BK34","v":0},{"$f":"Game!BL34","v":0},{"$f":"Game!BM34","v":0},{"$f":"Game!BN34","v":0},{"$f":"Game!AT34","v":0},0,0,0,0,0,{"v":0,"d":"0.00"}]
[{"$f":"Game!C35","v":0},{"$f":"Game!E35","v":0},{"$f":"Game!AU35","v":0},{"$f":"Game!AV35","v":0},{"$f":"Game!AW35","v":0},{"$f":"Game!AX35","v":0},{"$f":"Game!AY35","v":0},{"$f":"Game!AZ35","v":0},{"$f":"Game!BA35","v":0},null,{"$f":"Game!BC35","v":0},{"$f":"Game!BD35","v":0},{"$f":"Game!BE35","v":0},{"$f":"Game!BF35","v":0},{"$f":"Game!BG35","v":0},{"$f":"Game!BH35","v":0},{"$f":"Game!BI35","v":0},{"$f":"Game!BJ35","v":0},{"$f":"Game!BK35","v":0},{"$f":"Game!BL35","v":0},{"$f":"Game!BM35","v":0},{"$f":"Game!BN35","v":0},{"$f":"Game!AT35","v":0},0,0,0,0,0,{"v":0,"d":"0.00"}]
[{"$f":"Game!C36","v":0},{"$f":"Game!E36","v":0},{"$f":"Game!AU36","v":0},{"$f":"Game!AV36","v":0},{"$f":"Game!AW36","v":0},{"$f":"Game!AX36","v":0},{"$f":"Game!AY36","v":0},{"$f":"Game!AZ36","v":0},{"$f":"Game!BA36","v":0},null,{"$f":"Game!BC36","v":0},{"$f":"Game!BD36","v":0},{"$f":"Game!BE36","v":0},{"$f":"Game!BF36","v":0},{"$f":"Game!BG36","v":0},{"$f":"Game!BH36","v":0},{"$f":"Game!BI36","v":0},{"$f":"Game!BJ36","v":0},{"$f":"Game!BK36","v":0},{"$f":"Game!BL36","v":0},{"$f":"Game!BM36","v":0},{"$f":"Game!BN36","v":0},{"$f":"Game!AT36","v":0},0,0,0,0,0,{"v":0,"d":"0.00"}]
[0,0,{"$f":"Game!AU37","v":0},{"$f":"Game!AV37","v":0},{"$f":"Game!AW37","v":0},{"$f":"Game!AX37","v":0},{"$f":"Game!AY37","v":0},{"$f":"Game!AZ37","v":0},{"$f":"Game!BA37","v":0},null,{"$f":"Game!BC37","v":0},{"$f":"Game!BD37","v":0},{"$f":"Game!BE37","v":0},{"$f":"Game!BF37","v":0},{"$f":"Game!BG37","v":0},{"$f":"Game!BH37","v":0},{"$f":"Game!BI37","v":0},{"$f":"Game!BJ37","v":0},{"$f":"Game!BK37","v":0},{"$f":"Game!BL37","v":0},{"$f":"Game!BM37","v":0},{"$f":"Game!BN37","v":0},{"$f":"Game!AT37","v":0},0,0,0,0,0,{"v":0,"d":"0.00"}]
["TOTAL",{"$f":"C16/D16","v":{"$error":"#DIV/0!"}},{"$f":"SUM(C3:C15)","v":0},{"$f":"SUM(D3:D15)","v":0},0,0,0,0,0,0,0,0,0,0,0,0,0,0,0,0,0,0,0,{"$nulls":3},0,0,{"v":0,"d":"0.00"}]
["PITCHERS"]
["POS","Name","IP","H","R","ER","BB","SO","HR","AO","GO","BF","HBP",null,"CG","SH","NH","WIN",{"$nulls":9},"DK Pts","FD Pts."]
["TOTALS",null,{"$f":"SUM(C20:C30)","v":0},{"$f":"SUM(D20:D30)","v":0},{"$f":"SUM(E20:E30)","v":0},{"$f":"SUM(F20:F30)","v":0},0,0,0,0,0,0,{"$f":"SUM(J20:J30)","v":0},null,{"$f":"SUM(O20:O30)","v":0},0,0,0,{"$nulls":9},{"$f":"SUM(AB20:AB30)","v":{"v":0,"d":"0.00"}},{"v":0,"d":"0.00"}]
[null,{"$f":"Game!J21","v":"Starting Pitcher"},{"$f":"Game!O21","v":0},{"$f":"Pitchers!AF18+Pitchers!AL18+Pitchers!AR18+Pitchers!AX18+Pitchers!BD18+Pitchers!BJ18+Pitchers!BP18","v":0},{"$f":"Game!OI19+F20","v":0},{"$f":"Game!MR19","v":0},{"$f":"Pitchers!IH18+Pitchers!IN18+Pitchers!IT18+Pitchers!IZ18+Pitchers!JF18+Pitchers!JL18+Pitchers!JR18","v":0},{"$f":"Pitchers!JX18+Pitchers!KD18+Pitchers!KJ18+Pitchers!KP18+Pitchers!KV18+Pitchers!LB18+Pitchers!LH18","v":0},{"$f":"Pitchers!BV18+Pitchers!CB18+Pitchers!CH18+Pitchers!CN18+Pitchers!CT18+Pitchers!CZ18+Pitchers!DF18","v":0},{"$f":"Pitchers!FB18+Pitchers!FH18+Pitchers!FN18+Pitchers!FT18+Pitchers!FZ18+Pitchers!GF18+Pitchers!GL18","v":0},{"$f":"Pitchers!DL18+Pitchers!DR18+Pitchers!DX18+Pitchers!ED18+Pitchers!EJ18+Pitchers!EP18+Pitchers!EV18","v":0},{"$f":"Pitchers!LN18+Pitchers!LT18+Pitchers!LZ18+Pitchers!MF18+Pitchers!ML18+Pitchers!MR18+Pitchers!MX18","v":0},{"$f":"Pitchers!GR18+Pitchers!GX18+Pitchers!HD18+Pitchers!HJ18+Pitchers!HP18+Pitchers!HV18+Pitchers!IB18","v":0},null,{"$f":"IF(AND(C20=9,C19=9),1,0)","v":0},{"$f":"IF(AND(C20=9,F20=0),1,0)","v":0},{"$f":"IF(AND(C20=9,D20=0),1,0)","v":0},0,{"$nulls":9},{"$f":"(C20*2.25)+(H20*2)+(R20*4)+(F20*-2)+(D20*-0.6)+(G20*-0.6)+(M20*-0.6)+(O20*2.5)+(P20*2.5)+(Q20*5)","v":{"v":0,"d":"0.00"}},{"$f":"(R20*4)+(F20*-1)+(H20*1)+(C20*1)","v":{"v":0,"d":"0.00"}}]
[null,{"$f":"Game!P21","v":"Pitcher 2"},{"$f":"Game!T21","v":0},{"$f":"Pitchers!AG18+Pitchers!AM18+Pitchers!AS18+Pitchers!AY18+Pitchers!BE18+Pitchers!BK18+Pitchers!BQ18","v":0},{"$f":"Game!OI20+F21","v":0},{"$f":"Game!MR20","v":0},{"$f":"Pitchers!II18+Pitchers!IO18+Pitchers!IU18+Pitchers!JA18+Pitchers!JG18+Pitchers!JM18+Pitchers!JS18","v":0},{"$f":"Pitchers!JY18+Pitchers!KE18+Pitchers!KK18+Pitchers!KQ18+Pitchers!KW18+Pitchers!LC18+Pitchers!LI18","v":0},{"$f":"Pitchers!BW18+Pitchers!CC18+Pitchers!CI18+Pitchers!CO18+Pitchers!CU18+Pitchers!DA18+Pitchers!DG18","v":0},{"$f":"Pitchers!FC18+Pitchers!FI18+Pitchers!FO18+Pitchers!FU18+Pitchers!GA18+Pitchers!GG18+Pitchers!GM18","v":0},{"$f":"Pitchers!DM18+Pitchers!DS18+Pitchers!DY18+Pitchers!EE18+Pitchers!EK18+Pitchers!EQ18+Pitchers!EW18","v":0},{"$f":"Pitchers!LO18+Pitchers!LU18+Pitchers!MA18+Pitchers!MG18+Pitchers!MM18+Pitchers!MS18+Pitchers!MY18","v":0},{"$f":"Pitchers!GS18+Pitchers!GY18+Pitchers!HE18+Pitchers!HK18+Pitchers!HQ18+Pitchers!HW18+Pitchers!IC18","v":0},{"$nulls":14},{"$f":"(C21*2.25)+(H21*2)+(R21*4)+(F21*-2)+(D21*-0.6)+(G21*-0.6)+(M21*-0.6)+(O21*2.5)+(P21*2.5)+(Q21*5)","v":{"v":0,"d":"0.00"}},{"$f":"(R21*4)+(F21*-1)+(H21*1)+(C21*1)","v":{"v":0,"d":"0.00"}}]
[null,{"$f":"Game!U21","v":"Pitcher 3"},{"$f":"Game!Y21","v":0},{"$f":"Pitchers!AH18+Pitchers!AN18+Pitchers!AT18+Pitchers!AZ18+Pitchers!BF18+Pitchers!BL18+Pitchers!BR18","v":0},{"$f":"Game!OI21+F22","v":0},{"$f":"Game!MR21","v":0},{"$f":"Pitchers!IJ18+Pitchers!IP18+Pitchers!IV18+Pitchers!JB18+Pitchers!JH18+Pitchers!JN18+Pitchers!JT18","v":0},{"$f":"Pitchers!JZ18+Pitchers!KF18+Pitchers!KL18+Pitchers!KR18+Pitchers!KX18+Pitchers!LD18+Pitchers!LJ18","v":0},{"$f":"Pitchers!BX18+Pitchers!CD18+Pitchers!CJ18+Pitchers!CP18+Pitchers!CV18+Pitchers!DB18+Pitchers!DH18","v":0},{"$f":"Pitchers!FD18+Pitchers!FJ18+Pitchers!FP18+Pitchers!FV18+Pitchers!GB18+Pitchers!GH18+Pitchers!GN18","v":0},{"$f":"Pitchers!DN18+Pitchers!DT18+Pitchers!DZ18+Pitchers!EF18+Pitchers!EL18+Pitchers!ER18+Pitchers!EX18","v":0},{"$f":"Pitchers!LP18+Pitchers!LV18+Pitchers!MB18+Pitchers!MH18+Pitchers!MN18+Pitchers!MT18+Pitchers!MZ18","v":0},{"$f":"Pitchers!GT18+Pitchers!GZ18+Pitchers!HF18+Pitchers!HL18+Pitchers!HR18+Pitchers!HX18+Pitchers!ID18","v":0},{"$nulls":14},{"v":0,"d":"0.00"},{"v":0,"d":"0.00"}]
[null,{"$f":"Game!J22","v":"Pitcher 4"},{"$f":"Game!O22","v":0},{"$f":"Pitchers!AI18+Pitchers!AO18+Pitchers!AU18+Pitchers!BA18+Pitchers!BG18+Pitchers!BM18+Pitchers!BS18","v":0},{"$f":"Game!OI22+F23","v":0},{"$f":"Game!MR22","v":0},{"$f":"Pitchers!IK18+Pitchers!IQ18+Pitchers!IW18+Pitchers!JC18+Pitchers!JI18+Pitchers!JO18+Pitchers!JU18","v":0},{"$f":"Pitchers!KA18+Pitchers!KG18+Pitchers!KM18+Pitchers!KS18+Pitchers!KY18+Pitchers!LE18+Pitchers!LK18","v":0},{"$f":"Pitchers!BY18+Pitchers!CE18+Pitchers!CK18+Pitchers!CQ18+Pitchers!CW18+Pitchers!DC18+Pitchers!DI18","v":0},{"$f":"Pitchers!FE18+Pitchers!FK18+Pitchers!FQ18+Pitchers!FW18+Pitchers!GC18+Pitchers!GI18+Pitchers!GO18","v":0},{"$f":"Pitchers!DO18+Pitchers!DU18+Pitchers!EA18+Pitchers!EG18+Pitchers!EM18+Pitchers!ES18+Pitchers!EY18","v":0},{"$f":"Pitchers!LQ18+Pitchers!LW18+Pitchers!MC18+Pitchers!MI18+Pitchers!MO18+Pitchers!MU18+Pitchers!NA18","v":0},{"$f":"Pitchers!GU18+Pitchers!HA18+Pitchers!HG18+Pitchers!HM18+Pitchers!HS18+Pitchers!HY18+Pitchers!IE18","v":0},{"$nulls":14},{"v":0,"d":"0.00"},{"v":0,"d":"0.00"}]
[null,{"$f":"Game!P22","v":"Pitcher 5"},{"$f":"Game!T22","v":0},{"$f":"Pitchers!AJ18+Pitchers!AP18+Pitchers!AV18+Pitchers!BB18+Pitchers!BH18+Pitchers!BN18+Pitchers!BT18","v":0},{"$f":"Game!OI23+F24","v":0},{"$f":"Game!MR23","v":0},{"$f":"Pitchers!IL18+Pitchers!IR18+Pitchers!IX18+Pitchers!JD18+Pitchers!JJ18+Pitchers!JP18+Pitchers!JV18","v":0},{"$f":"Pitchers!KB18+Pitchers!KH18+Pitchers!KN18+Pitchers!KT18+Pitchers!KZ18+Pitchers!LF18+Pitchers!LL18","v":0},{"$f":"Pitchers!BZ18+Pitchers!CF18+Pitchers!CL18+Pitchers!CR18+Pitchers!CX18+Pitchers!DD18+Pitchers!DJ18","v":0},{"$f":"Pitchers!FF18+Pitchers!FL18+Pitchers!FR18+Pitchers!FX18+Pitchers!GD18+Pitchers!GJ18+Pitchers!GP18","v":0},{"$f":"Pitchers!DP18+Pitchers!DV18+Pitchers!EB18+Pitchers!EH18+Pitchers!EN18+Pitchers!ET18+Pitchers!EZ18","v":0},{"$f":"Pitchers!LR18+Pitchers!LX18+Pitchers!MD18+Pitchers!MJ18+Pitchers!MP18+Pitchers!MV18+Pitchers!NB18","v":0},{"$f":"Pitchers!GV18+Pitchers!HB18+Pitchers!HH18+Pitchers!HN18+Pitchers!HT18+Pitchers!HZ18+Pitchers!IF18","v":0},{"$nulls":14},{"v":0,"d":"0.00"},{"v":0,"d":"0.00"}]
[null,{"$f":"Game!U22","v":"Pitcher 6"},{"$f":"Game!Y22","v":0},{"$f":"Pitchers!AK18+Pitchers!AQ18+Pitchers!AW18+Pitchers!BC18+Pitchers!BI18+Pitchers!BO18","v":0},{"$f":"Game!OI24+F25","v":0},{"$f":"Game!MR24","v":0},{"$f":"Pitchers!IM18+Pitchers!IS18+Pitchers!IY18+Pitchers!JE18+Pitchers!JK18+Pitchers!JQ18+Pitchers!JW18","v":0},{"$f":"Pitchers!KC18+Pitchers!KI18+Pitchers!KO18+Pitchers!KU18+Pitchers!LA18+Pitchers!LG18+Pitchers!LM18","v":0},{"$f":"Pitchers!CA18+Pitchers!CG18+Pitchers!CM18+Pitchers!CS18+Pitchers!CY18+Pitchers!DE18+Pitchers!DK18","v":0},{"$f":"Pitchers!FG18+Pitchers!FM18+Pitchers!FS18+Pitchers!FY18+Pitchers!GE18+Pitchers!GK18+Pitchers!GQ18","v":0},{"$f":"Pitchers!DQ18+Pitchers!DW18+Pitchers!EC18+Pitchers!EI18+Pitchers!EO18+Pitchers!EU18+Pitchers!FA18","v":0},{"$f":"Pitchers!LS18+Pitchers!LY18+Pitchers!ME18+Pitchers!MK18+Pitchers!MQ18+Pitchers!MW18+Pitchers!NC18","v":0},{"$f":"Pitchers!GW18+Pitchers!HC18+Pitchers!HI18+Pitchers!HO18+Pitchers!HU18+Pitchers!IA18+Pitchers!IG18","v":0},{"$nulls":14},{"v":0,"d":"0.00"},{"v":0,"d":"0.00"}]

{"sheet":"Pitchers","index":5,"n_rows":39,"n_cols":455,"rows_kept":39}
[{"$f":"Game!E3","v":"Away Team"},{"$nulls":4},"VS:",{"$f":"Home!B20","v":"Starting Pitcher"}]
[]
[{"$nulls":368},"TOTAL OUTS"]
["POS","Name","PA","PIT","R","SB","PA","PIT","R","SB","PA","PIT","R","SB","PA","PIT","R","SB","PA","PIT","R","SB","PA","PIT","R","SB","PA","PIT","R","SB",null,"H1-1","H1-2","H1-3","H1-4","H1-5","H1-6","H2-1","H2-2","H2-3","H2-4","H2-5","H2-6","H3-1","H3-2","H3-3","H3-4","H3-5","H3-6","H4-1","H4-2","H4-3","H4-4","H4-5","H4-6","H5-1","H5-2","H5-3","H5-4","H5-5","H5-6","H6-1","H6-2","H6-3","H6-4","H6-5","H6-6","H7-1","H7-2","H7-3","H7-4","H7-5","H7-6","HR11","HR12","HR13","HR14","HR15","HR16","HR21","HR22","HR23","HR24","HR25","HR26","HR31","HR32","HR33","HR34","HR35","HR36","HR41","HR42","HR43","HR44","HR45","HR46","HR51","HR52","HR53","HR54","HR55","HR56","HR61","HR62","HR63","HR64","HR65","HR66","HR71","HR72","HR73","HR74","HR75","HR76","GO11","GO12","GO13","GO14","GO15","GO16","GO21","GO22","GO23","GO24","GO25","GO26","GO31","GO32","GO33","GO34","GO35","GO36","GO41","GO42","GO43","GO44","GO45","GO46","GO51","GO52","GO53","GO54","GO55","GO56","GO61","GO62","GO63","GO64","GO65","GO66","GO71","GO72","GO73","GO74","GO75","GO76","AO",{"$nulls":41},"HBP",{"$nulls":41},"BB",{"$nulls":41},"K",{"$nulls":41},"BF",2,3,4,5,6,1,2,3,4,5,6,1,2,3,4,5,6,1,2,3,4,5,6,1,2,3,4,5,6,1,2,3,4,5,6,1,2,3,4,5,6,null,1,{"$nulls":44},"DPR"]
[{"$f":"Game!C5","v":0},{"$f":"Game!E5","v":0},{"$f":"Game!J5","v":0},{"$f":"Game!K5","v":0},{"$f":"Game!M5","v":0},{"$f":"Game!N5","v":0},{"$f":"Game!O5","v":0},{"$f":"Game!P5","v":0},{"$f":"Game!R5","v":0},{"$f":"Game!S5","v":0},{"$f":"Game!T5","v":0},{"$f":"Game!U5","v":0},{"$f":"Game!W5","v":0},{"$f":"Game!X5","v":0},{"$f":"Game!Y5","v":0},{"$f":"Game!Z5","v":0},{"$f":"Game!AB5","v":0},{"$f":"Game!AC5","v":0},{"$f":"Game!AD5","v":0},{"$f":"Game!AE5","v":0},{"$f":"Game!AG5","v":0},{"$f":"Game!AH5","v":0},{"$f":"Game!AI5","v":0},{"$f":"Game!AJ5","v":0},{"$f":"Game!AL5","v":0},{"$f":"Game!AM5","v":0},{"$f":"Game!AN5","v":0},{"$f":"Game!AO5","v":0},{"$f":"Game!AQ5","v":0},{"$f":"Game!AR5","v":0},null,{"$f":"IF(AND(OR($C5=\"h\",$C5=\"2b\", $C5=\"3b\", $C5=\"hr\",$C5=\"hrb\",$C5=\"h2rb\",$C5=\"h3rb\",$C5=\"2brb\",$C5=\"2b2rb\",$C5=\"2b3rb\",$C5=\"3brb\",$C5=\"3b2rb\",$C5=\"3b3rb\",$C5=\"hr2\",$C5=\"hr3\",$C5=\"gs\"),$D5=1),1,0)","v":0},{"$f":"IF(AND(OR($C5=\"h\",$C5=\"2b\", $C5=\"3b\", $C5=\"hr\",$C5=\"hrb\",$C5=\"h2rb\",$C5=\"h3rb\",$C5=\"2brb\",$C5=\"2b2rb\",$C5=\"2b3rb\",$C5=\"3brb\",$C5=\"3b2rb\",$C5=\"3b3rb\",$C5=\"hr2\",$C5=\"hr3\",$C5=\"gs\"),$D5=2),1,0)","v":0},{"$f":"IF(AND(OR($C5=\"h\",$C5=\"2b\", $C5=\"3b\", $C5=\"hr\", $C5=\"hrb\",$C5=\"h2rb\",$C5=\"h3rb\",$C5=\"2brb\",$C5=\"2b2rb\",$C5=\"2b3rb\",$C5=\"3brb\",$C5=\"3b2rb\",$C5=\"3b3rb\",$C5=\"hr2\",$C5=\"hr3\",$C5=\"gs\"),$D5=3),1,0)","v":0},{"$f":"IF(AND(OR($C5=\"h\",$C5=\"2b\", $C5=\"3b\", $C5=\"hr\", $C5=\"hrb\",$C5=\"h2rb\",$C5=\"h3rb\",$C5=\"2brb\",$C5=\"2b2rb\",$C5=\"2b3rb\",$C5=\"3brb\",$C5=\"3b2rb\",$C5=\"3b3rb\",$C5=\"hr2\",$C5=\"hr3\",$C5=\"gs\"),$D5=4),1,0)","v":0},{"$f":"IF(AND(OR($C5=\"h\",$C5=\"2b\", $C5=\"3b\", $C5=\"hr\", $C5=\"hrb\",$C5=\"h2rb\",$C5=\"h3rb\",$C5=\"2brb\",$C5=\"2b2rb\",$C5=\"2b3rb\",$C5=\"3brb\",$C5=\"3b2rb\",$C5=\"3b3rb\",$C5=\"hr2\",$C5=\"hr3\",$C5=\"gs\"),$D5=5),1,0)","v":0},{"$f":"IF(AND(OR($C5=\"h\",$C5=\"2b\", $C5=\"3b\", $C5=\"hr\", $C5=\"hrb\",$C5=\"h2rb\",$C5=\"h3rb\",$C5=\"2brb\",$C5=\"2b2rb\",$C5=\"2b3rb\",$C5=\"3brb\",$C5=\"3b2rb\",$C5=\"3b3rb\",$C5=\"hr2\",$C5=\"hr3\",$C5=\"gs\"),$D5=6),1,0)","v":0},{"$f":"IF(AND(OR($G5=\"h\",$G5=\"2b\", $G5=\"3b\", $G5=\"hr\", $G5=\"hrb\",$G5=\"h2rb\",$G5=\"h3rb\",$G5=\"2brb\",$G5=\"2b2rb\",$G5=\"2b3rb\",$G5=\"3brb\",$G5=\"3b2rb\",$G5=\"3b3rb\",$G5=\"hr2\",$G5=\"hr3\",$G5=\"gs\"),$H5=1),1,0)","v":0},{"$f":"IF(AND(OR($G5=\"h\",$G5=\"2b\", $G5=\"3b\", $G5=\"hr\", $G5=\"hrb\",$G5=\"h2rb\",$G5=\"h3rb\",$G5=\"2brb\",$G5=\"2b2rb\",$G5=\"2b3rb\",$G5=\"3brb\",$G5=\"3b2rb\",$G5=\"3b3rb\",$G5=\"hr2\",$G5=\"hr3\",$G5=\"gs\"),$H5=2),1,0)","v":0},{"$f":"IF(AND(OR($G5=\"h\",$G5=\"2b\", $G5=\"3b\", $G5=\"hr\", $G5=\"hrb\",$G5=\"h2rb\",$G5=\"h3rb\",$G5=\"2brb\",$G5=\"2b2rb\",$G5=\"2b3rb\",$G5=\"3brb\",$G5=\"3b2rb\",$G5=\"3b3rb\",$G5=\"hr2\",$G5=\"hr3\",$G5=\"gs\"),$H5=3),1,0)","v":0},{"$f":"IF(AND(OR($G5=\"h\",$G5=\"2b\", $G5=\"3b\", $G5=\"hr\", $G5=\"hrb\",$G5=\"h2rb\",$G5=\"h3rb\",$G5=\"2brb\",$G5=\"2b2rb\",$G5=\"2b3rb\",$G5=\"3brb\",$G5=\"3b2rb\",$G5=\"3b3rb\",$G5=\"hr2\",$G5=\"hr3\",$G5=\"gs\"),$H5=4),1,0)","v":0},{"$f":"IF(AND(OR($G5=\"h\",$G5=\"2b\", $G5=\"3b\", $G5=\"hr\", $G5=\"hrb\",$G5=\"h2rb\",$G5=\"h3rb\",$G5=\"2brb\",$G5=\"2b2rb\",$G5=\"2b3rb\",$G5=\"3brb\",$G5=\"3b2rb\",$G5=\"3b3rb\",$G5=\"hr2\",$G5=\"hr3\",$G5=\"gs\"),$H5=5),1,0)","v":0},{"$f":"IF(AND(OR($G5=\"h\",$G5=\"2b\", $G5=\"3b\", $G5=\"hr\", $G5=\"hrb\",$G5=\"h2rb\",$G5=\"h3rb\",$G5=\"2brb\",$G5=\"2b2rb\",$G5=\"2b3rb\",$G5=\"3brb\",$G5=\"3b2rb\",$G5=\"3b3rb\",$G5=\"hr2\",$G5=\"hr3\",$G5=\"gs\"),$H5=6),1,0)","v":0},{"$f":"IF(AND(OR($K5=\"h\",$K5=\"2b\", $K5=\"3b\", $K5=\"hr\", $K5=\"hrb\",$K5=\"h2rb\",$K5=\"h3rb\",$K5=\"2brb\",$K5=\"2b2rb\",$K5=\"2b3rb\",$K5=\"3brb\",$K5=\"3b2rb\",$K5=\"3b3rb\",$K5=\"hr2\",$K5=\"hr3\",$K5=\"gs\"),$L5=1),1,0)","v":0},{"$f":"IF(AND(OR($K5=\"h\",$K5=\"2b\", $K5=\"3b\", $K5=\"hr\", $K5=\"hrb\",$K5=\"h2rb\",$K5=\"h3rb\",$K5=\"2brb\",$K5=\"2b2rb\",$K5=\"2b3rb\",$K5=\"3brb\",$K5=\"3b2rb\",$K5=\"3b3rb\",$K5=\"hr2\",$K5=\"hr3\",$K5=\"gs\"),$L5=2),1,0)","v":0},{"$f":"IF(AND(OR($K5=\"h\",$K5=\"2b\", $K5=\"3b\", $K5=\"hr\", $K5=\"hrb\",$K5=\"h2rb\",$K5=\"h3rb\",$K5=\"2brb\",$K5=\"2b2rb\",$K5=\"2b3rb\",$K5=\"3brb\",$K5=\"3b2rb\",$K5=\"3b3rb\",$K5=\"hr2\",$K5=\"hr3\",$K5=\"gs\"),$L5=3),1,0)","v":0},{"$f":"IF(AND(OR($K5=\"h\",$K5=\"2b\", $K5=\"3b\", $K5=\"hr\", $K5=\"hrb\",$K5=\"h2rb\",$K5=\"h3rb\",$K5=\"2brb\",$K5=\"2b2rb\",$K5=\"2b3rb\",$K5=\"3brb\",$K5=\"3b2rb\",$K5=\"3b3rb\",$K5=\"hr2\",$K5=\"hr3\",$K5=\"gs\"),$L5=4),1,0)","v":0},{"$f":"IF(AND(OR($K5=\"h\",$K5=\"2b\", $K5=\"3b\", $K5=\"hr\", $K5=\"hrb\",$K5=\"h2rb\",$K5=\"h3rb\",$K5=\"2brb\",$K5=\"2b2rb\",$K5=\"2b3rb\",$K5=\"3brb\",$K5=\"3b2rb\",$K5=\"3b3rb\",$K5=\"hr2\",$K5=\"hr3\",$K5=\"gs\"),$L5=5),1,0)","v":0},{"$f":"IF(AND(OR($K5=\"h\",$K5=\"2b\", $K5=\"3b\", $K5=\"hr\", $K5=\"hrb\",$K5=\"h2rb\",$K5=\"h3rb\",$K5=\"2brb\",$K5=\"2b2rb\",$K5=\"2b3rb\",$K5=\"3brb\",$K5=\"3b2rb\",$K5=\"3b3rb\",$K5=\"hr2\",$K5=\"hr3\",$K5=\"gs\"),$L5=6),1,0)","v":0},{"$f":"IF(AND(OR($O5=\"h\",$O5=\"2b\", $O5=\"3b\", $O5=\"hr\", $O5=\"hrb\",$O5=\"h2rb\",$O5=\"h3rb\",$O5=\"2brb\",$O5=\"2b2rb\",$O5=\"2b3rb\",$O5=\"3brb\",$O5=\"3b2rb\",$O5=\"3b3rb\",$O5=\"hr2\",$O5=\"hr3\",$O5=\"gs\"),$P5=1),1,0)","v":0},{"$f":"IF(AND(OR($O5=\"h\",$O5=\"2b\", $O5=\"3b\", $O5=\"hr\", $O5=\"hrb\",$O5=\"h2rb\",$O5=\"h3rb\",$O5=\"2brb\",$O5=\"2b2rb\",$O5=\"2b3rb\",$O5=\"3brb\",$O5=\"3b2rb\",$O5=\"3b3rb\",$O5=\"hr2\",$O5=\"hr3\",$O5=\"gs\"),$P5=2),1,0)","v":0},{"$f":"IF(AND(OR($O5=\"h\",$O5=\"2b\", $O5=\"3b\", $O5=\"hr\", $O5=\"hrb\",$O5=\"h2rb\",$O5=\"h3rb\",$O5=\"2brb\",$O5=\"2b2rb\",$O5=\"2b3rb\",$O5=\"3brb\",$O5=\"3b2rb\",$O5=\"3b3rb\",$O5=\"hr2\",$O5=\"hr3\",$O5=\"gs\"),$P5=3),1,0)","v":0},{"$f":"IF(AND(OR($O5=\"h\",$O5=\"2b\", $O5=\"3b\", $O5=\"hr\", $O5=\"hrb\",$O5=\"h2rb\",$O5=\"h3rb\",$O5=\"2brb\",$O5=\"2b2rb\",$O5=\"2b3rb\",$O5=\"3brb\",$O5=\"3b2rb\",$O5=\"3b3rb\",$O5=\"hr2\",$O5=\"hr3\",$O5=\"gs\"),$P5=4),1,0)","v":0},{"$f":"IF(AND(OR($O5=\"h\",$O5=\"2b\", $O5=\"3b\", $O5=\"hr\", $O5=\"hrb\",$O5=\"h2rb\",$O5=\"h3rb\",$O5=\"2brb\",$O5=\"2b2rb\",$O5=\"2b3rb\",$O5=\"3brb\",$O5=\"3b2rb\",$O5=\"3b3rb\",$O5=\"hr2\",$O5=\"hr3\",$O5=\"gs\"),$P5=5),1,0)","v":0},{"$f":"IF(AND(OR($O5=\"h\",$O5=\"2b\", $O5=\"3b\", $O5=\"hr\", $O5=\"hrb\",$O5=\"h2rb\",$O5=\"h3rb\",$O5=\"2brb\",$O5=\"2b2rb\",$O5=\"2b3rb\",$O5=\"3brb\",$O5=\"3b2rb\",$O5=\"3b3rb\",$O5=\"hr2\",$O5=\"hr3\",$O5=\"gs\"),$P5=6),1,0)","v":0},{"$f":"IF(AND(OR($S5=\"h\",$S5=\"2b\", $S5=\"3b\", $S5=\"hr\", $S5=\"hrb\",$S5=\"h2rb\",$S5=\"h3rb\",$S5=\"2brb\",$S5=\"2b2rb\",$S5=\"2b3rb\",$S5=\"3brb\",$S5=\"3b2rb\",$S5=\"3b3rb\",$S5=\"hr2\",$S5=\"hr3\",$S5=\"gs\"),$T5=1),1,0)","v":0},{"$f":"IF(AND(OR($S5=\"h\",$S5=\"2b\", $S5=\"3b\", $S5=\"hr\", $S5=\"hrb\",$S5=\"h2rb\",$S5=\"h3rb\",$S5=\"2brb\",$S5=\"2b2rb\",$S5=\"2b3rb\",$S5=\"3brb\",$S5=\"3b2rb\",$S5=\"3b3rb\",$S5=\"hr2\",$S5=\"hr3\",$S5=\"gs\"),$T5=2),1,0)","v":0},{"$f":"IF(AND(OR($S5=\"h\",$S5=\"2b\", $S5=\"3b\", $S5=\"hr\", $S5=\"hrb\",$S5=\"h2rb\",$S5=\"h3rb\",$S5=\"2brb\",$S5=\"2b2rb\",$S5=\"2b3rb\",$S5=\"3brb\",$S5=\"3b2rb\",$S5=\"3b3rb\",$S5=\"hr2\",$S5=\"hr3\",$S5=\"gs\"),$T5=3),1,0)","v":0},{"$f":"IF(AND(OR($S5=\"h\",$S5=\"2b\", $S5=\"3b\", $S5=\"hr\", $S5=\"hrb\",$S5=\"h2rb\",$S5=\"h3rb\",$S5=\"2brb\",$S5=\"2b2rb\",$S5=\"2b3rb\",$S5=\"3brb\",$S5=\"3b2rb\",$S5=\"3b3rb\",$S5=\"hr2\",$S5=\"hr3\",$S5=\"gs\"),$T5=4),1,0)","v":0},{"$f":"IF(AND(OR($S5=\"h\",$S5=\"2b\", $S5=\"3b\", $S5=\"hr\", $S5=\"hrb\",$S5=\"h2rb\",$S5=\"h3rb\",$S5=\"2brb\",$S5=\"2b2rb\",$S5=\"2b3rb\",$S5=\"3brb\",$S5=\"3b2rb\",$S5=\"3b3rb\",$S5=\"hr2\",$S5=\"hr3\",$S5=\"gs\"),$T5=5),1,0)","v":0},{"$f":"IF(AND(OR($S5=\"h\",$S5=\"2b\", $S5=\"3b\", $S5=\"hr\", $S5=\"hrb\",$S5=\"h2rb\",$S5=\"h3rb\",$S5=\"2brb\",$S5=\"2b2rb\",$S5=\"2b3rb\",$S5=\"3brb\",$S5=\"3b2rb\",$S5=\"3b3rb\",$S5=\"hr2\",$S5=\"hr3\",$S5=\"gs\"),$T5=6),1,0)","v":0},{"$f":"IF(AND(OR($W5=\"h\",$W5=\"2b\", $W5=\"3b\", $W5=\"hr\", $W5=\"hrb\",$W5=\"h2rb\",$W5=\"h3rb\",$W5=\"2brb\",$W5=\"2b2rb\",$W5=\"2b3rb\",$W5=\"3brb\",$W5=\"3b2rb\",$W5=\"3b3rb\",$W5=\"hr2\",$W5=\"hr3\",$W5=\"gs\"),$X5=1),1,0)","v":0},{"$f":"IF(AND(OR($W5=\"h\",$W5=\"2b\", $W5=\"3b\", $W5=\"hr\", $W5=\"hrb\",$W5=\"h2rb\",$W5=\"h3rb\",$W5=\"2brb\",$W5=\"2b2rb\",$W5=\"2b3rb\",$W5=\"3brb\",$W5=\"3b2rb\",$W5=\"3b3rb\",$W5=\"hr2\",$W5=\"hr3\",$W5=\"gs\"),$X5=2),1,0)","v":0},{"$f":"IF(AND(OR($W5=\"h\",$W5=\"2b\", $W5=\"3b\", $W5=\"hr\", $W5=\"hrb\",$W5=\"h2rb\",$W5=\"h3rb\",$W5=\"2brb\",$W5=\"2b2rb\",$W5=\"2b3rb\",$W5=\"3brb\",$W5=\"3b2rb\",$W5=\"3b3rb\",$W5=\"hr2\",$W5=\"hr3\",$W5=\"gs\"),$X5=3),1,0)","v":0},{"$f":"IF(AND(OR($W5=\"h\",$W5=\"2b\", $W5=\"3b\", $W5=\"hr\", $W5=\"hrb\",$W5=\"h2rb\",$W5=\"h3rb\",$W5=\"2brb\",$W5=\"2b2rb\",$W5=\"2b3rb\",$W5=\"3brb\",$W5=\"3b2rb\",$W5=\"3b3rb\",$W5=\"hr2\",$W5=\"hr3\",$W5=\"gs\"),$X5=4),1,0)","v":0},{"$f":"IF(AND(OR($W5=\"h\",$W5=\"2b\", $W5=\"3b\", $W5=\"hr\", $W5=\"hrb\",$W5=\"h2rb\",$W5=\"h3rb\",$W5=\"2brb\",$W5=\"2b2rb\",$W5=\"2b3rb\",$W5=\"3brb\",$W5=\"3b2rb\",$W5=\"3b3rb\",$W5=\"hr2\",$W5=\"hr3\",$W5=\"gs\"),$X5=5),1,0)","v":0},{"$f":"IF(AND(OR($W5=\"h\",$W5=\"2b\", $W5=\"3b\", $W5=\"hr\", $W5=\"hrb\",$W5=\"h2rb\",$W5=\"h3rb\",$W5=\"2brb\",$W5=\"2b2rb\",$W5=\"2b3rb\",$W5=\"3brb\",$W5=\"3b2rb\",$W5=\"3b3rb\",$W5=\"hr2\",$W5=\"hr3\",$W5=\"gs\"),$X5=6),1,0)","v":0},{"$f":"IF(AND(OR($AA5=\"h\",$AA5=\"2b\", $AA5=\"3b\", $AA5=\"hr\", $AA5=\"hrb\",$AA5=\"h2rb\",$AA5=\"h3rb\",$AA5=\"2brb\",$AA5=\"2b2rb\",$AA5=\"2b3rb\",$AA5=\"3brb\",$AA5=\"3b2rb\",$AA5=\"3b3rb\",$AA5=\"hr2\",$AA5=\"hr3\",$AA5=\"gs\"),$AB5=1),1,0)","v":0},{"$f":"IF(AND(OR($AA5=\"h\",$AA5=\"2b\", $AA5=\"3b\", $AA5=\"hr\", $AA5=\"hrb\",$AA5=\"h2rb\",$AA5=\"h3rb\",$AA5=\"2brb\",$AA5=\"2b2rb\",$AA5=\"2b3rb\",$AA5=\"3brb\",$AA5=\"3b2rb\",$AA5=\"3b3rb\",$AA5=\"hr2\",$AA5=\"hr3\",$AA5=\"gs\"),$AB5=2),1,0)","v":0},{"$f":"IF(AND(OR($AA5=\"h\",$AA5=\"2b\", $AA5=\"3b\", $AA5=\"hr\", $AA5=\"hrb\",$AA5=\"h2rb\",$AA5=\"h3rb\",$AA5=\"2brb\",$AA5=\"2b2rb\",$AA5=\"2b3rb\",$AA5=\"3brb\",$AA5=\"3b2rb\",$AA5=\"3b3rb\",$AA5=\"hr2\",$AA5=\"hr3\",$AA5=\"gs\"),$AB5=3),1,0)","v":0},{"$f":"IF(AND(OR($AA5=\"h\",$AA5=\"2b\", $AA5=\"3b\", $AA5=\"hr\", $AA5=\"hrb\",$AA5=\"h2rb\",$AA5=\"h3rb\",$AA5=\"2brb\",$AA5=\"2b2rb\",$AA5=\"2b3rb\",$AA5=\"3brb\",$AA5=\"3b2rb\",$AA5=\"3b3rb\",$AA5=\"hr2\",$AA5=\"hr3\",$AA5=\"gs\"),$AB5=4),1,0)","v":0},{"$f":"IF(AND(OR($AA5=\"h\",$AA5=\"2b\", $AA5=\"3b\", $AA5=\"hr\", $AA5=\"hrb\",$AA5=\"h2rb\",$AA5=\"h3rb\",$AA5=\"2brb\",$AA5=\"2b2rb\",$AA5=\"2b3rb\",$AA5=\"3brb\",$AA5=\"3b2rb\",$AA5=\"3b3rb\",$AA5=\"hr2\",$AA5=\"hr3\",$AA5=\"gs\"),$AB5=5),1,0)","v":0},{"$f":"IF(AND(OR($AA5=\"h\",$AA5=\"2b\", $AA5=\"3b\", $AA5=\"hr\", $AA5=\"hrb\",$AA5=\"h2rb\",$AA5=\"h3rb\",$AA5=\"2brb\",$AA5=\"2b2rb\",$AA5=\"2b3rb\",$AA5=\"3brb\",$AA5=\"3b2rb\",$AA5=\"3b3rb\",$AA5=\"hr2\",$AA5=\"hr3\",$AA5=\"gs\"),$AB5=6),1,0)","v":0},{"$f":"IF(AND(OR($C5=\"HR\",$C5=\"HR2\",$C5=\"HR3\",$C5=\"GS\"),$D5=1),1,0)","v":0},{"$f":"IF(AND(OR($C5=\"HR\",$C5=\"HR2\",$C5=\"HR3\",$C5=\"GS\"),$D5=2),1,0)","v":0},{"$f":"IF(AND(OR($C5=\"HR\",$C5=\"HR2\",$C5=\"HR3\",$C5=\"GS\"),$D5=3),1,0)","v":0},{"$f":"IF(AND(OR($C5=\"HR\",$C5=\"HR2\",$C5=\"HR3\",$C5=\"GS\"),$D5=4),1,0)","v":0},{"$f":"IF(AND(OR($C5=\"HR\",$C5=\"HR2\",$C5=\"HR3\",$C5=\"GS\"),$D5=5),1,0)","v":0},{"$f":"IF(AND(OR($C5=\"HR\",$C5=\"HR2\",$C5=\"HR3\",$C5=\"GS\"),$D5=6),1,0)","v":0},{"$f":"IF(AND(OR($G5=\"HR\",$G5=\"HR2\",$G5=\"HR3\",$G5=\"GS\"),$H5=1),1,0)","v":0},{"$f":"IF(AND(OR($G5=\"HR\",$G5=\"HR2\",$G5=\"HR3\",$G5=\"GS\"),$H5=2),1,0)","v":0},{"$f":"IF(AND(OR($G5=\"HR\",$G5=\"HR2\",$G5=\"HR3\",$G5=\"GS\"),$H5=3),1,0)","v":0},{"$f":"IF(AND(OR($G5=\"HR\",$G5=\"HR2\",$G5=\"HR3\",$G5=\"GS\"),$H5=4),1,0)","v":0},{"$f":"IF(AND(OR($G5=\"HR\",$G5=\"HR2\",$G5=\"HR3\",$G5=\"GS\"),$H5=5),1,0)","v":0},{"$f":"IF(AND(OR($G5=\"HR\",$G5=\"HR2\",$G5=\"HR3\",$G5=\"GS\"),$H5=6),1,0)","v":0},{"$f":"IF(AND(OR($K5=\"HR\",$K5=\"HR2\",$K5=\"HR3\",$K5=\"GS\"),$L5=1),1,0)","v":0},{"$f":"IF(AND(OR($K5=\"HR\",$K5=\"HR2\",$K5=\"HR3\",$K5=\"GS\"),$L5=2),1,0)","v":0},{"$f":"IF(AND(OR($K5=\"HR\",$K5=\"HR2\",$K5=\"HR3\",$K5=\"GS\"),$L5=3),1,0)","v":0},{"$f":"IF(AND(OR($K5=\"HR\",$K5=\"HR2\",$K5=\"HR3\",$K5=\"GS\"),$L5=4),1,0)","v":0},{"$f":"IF(AND(OR($K5=\"HR\",$K5=\"HR2\",$K5=\"HR3\",$K5=\"GS\"),$L5=5),1,0)","v":0},{"$f":"IF(AND(OR($K5=\"HR\",$K5=\"HR2\",$K5=\"HR3\",$K5=\"GS\"),$L5=6),1,0)","v":0},{"$f":"IF(AND(OR($O5=\"HR\",$O5=\"HR2\",$O5=\"HR3\",$O5=\"GS\"),$P5=1),1,0)","v":0},{"$f":"IF(AND(OR($O5=\"HR\",$O5=\"HR2\",$O5=\"HR3\",$O5=\"GS\"),$P5=2),1,0)","v":0},{"$f":"IF(AND(OR($O5=\"HR\",$O5=\"HR2\",$O5=\"HR3\",$O5=\"GS\"),$P5=3),1,0)","v":0},{"$f":"IF(AND(OR($O5=\"HR\",$O5=\"HR2\",$O5=\"HR3\",$O5=\"GS\"),$P5=4),1,0)","v":0},{"$f":"IF(AND(OR($O5=\"HR\",$O5=\"HR2\",$O5=\"HR3\",$O5=\"GS\"),$P5=5),1,0)","v":0},{"$f":"IF(AND(OR($O5=\"HR\",$O5=\"HR2\",$O5=\"HR3\",$O5=\"GS\"),$P5=6),1,0)","v":0},{"$f":"IF(AND(OR($S5=\"HR\",$S5=\"HR2\",$S5=\"HR3\",$S5=\"GS\"),$T5=1),1,0)","v":0},{"$f":"IF(AND(OR($S5=\"HR\",$S5=\"HR2\",$S5=\"HR3\",$S5=\"GS\"),$T5=2),1,0)","v":0},{"$f":"IF(AND(OR($S5=\"HR\",$S5=\"HR2\",$S5=\"HR3\",$S5=\"GS\"),$T5=3),1,0)","v":0},{"$f":"IF(AND(OR($S5=\"HR\",$S5=\"HR2\",$S5=\"HR3\",$S5=\"GS\"),$T5=4),1,0)","v":0},{"$f":"IF(AND(OR($S5=\"HR\",$S5=\"HR2\",$S5=\"HR3\",$S5=\"GS\"),$T5=5),1,0)","v":0},{"$f":"IF(AND(OR($S5=\"HR\",$S5=\"HR2\",$S5=\"HR3\",$S5=\"GS\"),$T5=6),1,0)","v":0},{"$f":"IF(AND(OR($W5=\"HR\",$W5=\"HR2\",$W5=\"HR3\",$W5=\"GS\"),$X5=1),1,0)","v":0},{"$f":"IF(AND(OR($W5=\"HR\",$W5=\"HR2\",$W5=\"HR3\",$W5=\"GS\"),$X5=2),1,0)","v":0},{"$f":"IF(AND(OR($W5=\"HR\",$W5=\"HR2\",$W5=\"HR3\",$W5=\"GS\"),$X5=3),2,0)","v":0},{"$f":"IF(AND(OR($W5=\"HR\",$W5=\"HR2\",$W5=\"HR3\",$W5=\"GS\"),$X5=4),2,0)","v":0},{"$f":"IF(AND(OR($W5=\"HR\",$W5=\"HR2\",$W5=\"HR3\",$W5=\"GS\"),$X5=5),2,0)","v":0},{"$f":"IF(AND(OR($W5=\"HR\",$W5=\"HR2\",$W5=\"HR3\",$W5=\"GS\"),$X5=6),2,0)","v":0},{"$f":"IF(AND(OR($AA5=\"HR\",$AA5=\"HR2\",$AA5=\"HR3\",$AA5=\"GS\"),$AB5=1),1,0)","v":0},{"$f":"IF(AND(OR($AA5=\"HR\",$AA5=\"HR2\",$AA5=\"HR3\",$AA5=\"GS\"),$AB5=2),1,0)","v":0},{"$f":"IF(AND(OR($AA5=\"HR\",$AA5=\"HR2\",$AA5=\"HR3\",$AA5=\"GS\"),$AB5=3),1,0)","v":0},{"$f":"IF(AND(OR($AA5=\"HR\",$AA5=\"HR2\",$AA5=\"HR3\",$AA5=\"GS\"),$AB5=4),1,0)","v":0},{"$f":"IF(AND(OR($AA5=\"HR\",$AA5=\"HR2\",$AA5=\"HR3\",$AA5=\"GS\"),$AB5=5),1,0)","v":0},{"$f":"IF(AND(OR($AA5=\"HR\",$AA5=\"HR2\",$AA5=\"HR3\",$AA5=\"GS\"),$AB5=6),1,0)","v":0},{"$f":"IF(AND($C5=\"go\",$D5=1),1,0)","v":0},{"$f":"IF(AND($C5=\"go\",$D5=2),1,0)","v":0},{"$f":"IF(AND($C5=\"go\",$D5=3),1,0)","v":0},{"$f":"IF(AND($C5=\"go\",$D5=4),1,0)","v":0},{"$f":"IF(AND($C5=\"go\",$D5=5),1,0)","v":0},{"$f":"IF(AND($C5=\"go\",$D5=6),1,0)","v":0},{"$f":"IF(AND($G5=\"go\",$H5=1),1,0)","v":0},{"$f":"IF(AND($G5=\"go\",$H5=2),1,0)","v":0},{"$f":"IF(AND($G5=\"go\",$H5=3),1,0)","v":0},{"$f":"IF(AND($G5=\"go\",$H5=4),1,0)","v":0},{"$f":"IF(AND($G5=\"go\",$H5=5),1,0)","v":0},{"$f":"IF(AND($G5=\"go\",$H5=6),1,0)","v":0},{"$f":"IF(AND($K5=\"go\",$L5=1),1,0)","v":0},{"$f":"IF(AND($K5=\"go\",$L5=2),1,0)","v":0},{"$f":"IF(AND($K5=\"go\",$L5=3),1,0)","v":0},{"$f":"IF(AND($K5=\"go\",$L5=4),1,0)","v":0},{"$f":"IF(AND($K5=\"go\",$L5=5),1,0)","v":0},{"$f":"IF(AND($K5=\"go\",$L5=6),1,0)","v":0},{"$f":"IF(AND($O5=\"go\",$P5=1),1,0)","v":0},{"$f":"IF(AND($O5=\"go\",$P5=2),1,0)","v":0},{"$f":"IF(AND($O5=\"go\",$P5=3),1,0)","v":0},{"$f":"IF(AND($O5=\"go\",$P5=4),1,0)","v":0},{"$f":"IF(AND($O5=\"go\",$P5=5),1,0)","v":0},{"$f":"IF(AND($O5=\"go\",$P5=6),1,0)","v":0},{"$f":"IF(AND($S5=\"go\",$T5=1),1,0)","v":0},{"$f":"IF(AND($S5=\"go\",$T5=2),1,0)","v":0},{"$f":"IF(AND($S5=\"go\",$T5=3),1,0)","v":0},{"$f":"IF(AND($S5=\"go\",$T5=4),1,0)","v":0},{"$f":"IF(AND($S5=\"go\",$T5=5),1,0)","v":0},{"$f":"IF(AND($S5=\"go\",$T5=6),1,0)","v":0},{"$f":"IF(AND($W5=\"go\",$X5=1),1,0)","v":0},{"$f":"IF(AND($W5=\"go\",$X5=2),1,0)","v":0},{"$f":"IF(AND($W5=\"go\",$X5=3),1,0)","v":0},{"$f":"IF(AND($W5=\"go\",$X5=4),1,0)","v":0},{"$f":"IF(AND($W5=\"go\",$X5=5),1,0)","v":0},{"$f":"IF(AND($W5=\"go\",$X5=6),1,0)","v":0},{"$f":"IF(AND($AA5=\"go\",$AB5=1),1,0)","v":0},{"$f":"IF(AND($AA5=\"go\",$AB5=2),1,0)","v":0},{"$f":"IF(AND($AA5=\"go\",$AB5=3),1,0)","v":0},{"$f":"IF(AND($AA5=\"go\",$AB5=4),1,0)","v":0},{"$f":"IF(AND($AA5=\"go\",$AB5=5),1,0)","v":0},{"$f":"IF(AND($AA5=\"go\",$AB5=6),1,0)","v":0},{"$f":"IF(AND($C5=\"ao\",$D5=1),1,0)","v":0},{"$f":"IF(AND($C5=\"ao\",$D5=2),1,0)","v":0},{"$f":"IF(AND($C5=\"ao\",$D5=3),1,0)","v":0},{"$f":"IF(AND($C5=\"ao\",$D5=4),1,0)","v":0},{"$f":"IF(AND($C5=\"ao\",$D5=5),1,0)","v":0},{"$f":"IF(AND($C5=\"ao\",$D5=6),1,0)","v":0},{"$f":"IF(AND($G5=\"ao\",$H5=1),1,0)","v":0},{"$f":"IF(AND($G5=\"ao\",$H5=2),1,0)","v":0},{"$f":"IF(AND($G5=\"ao\",$H5=3),1,0)","v":0},{"$f":"IF(AND($G5=\"ao\",$H5=4),1,0)","v":0},{"$f":"IF(AND($G5=\"ao\",$H5=5),1,0)","v":0},{"$f":"IF(AND($G5=\"ao\",$H5=6),1,0)","v":0},{"$f":"IF(AND($K5=\"ao\",$L5=1),1,0)","v":0},{"$f":"IF(AND($K5=\"ao\",$L5=2),1,0)","v":0},{"$f":"IF(AND($K5=\"ao\",$L5=3),1,0)","v":0},{"$f":"IF(AND($K5=\"ao\",$L5=4),1,0)","v":0},{"$f":"IF(AND($K5=\"ao\",$L5=5),1,0)","v":0},{"$f":"IF(AND($K5=\"ao\",$L5=6),1,0)","v":0},{"$f":"IF(AND($O5=\"ao\",$P5=1),1,0)","v":0},{"$f":"IF(AND($O5=\"ao\",$P5=2),1,0)","v":0},{"$f":"IF(AND($O5=\"ao\",$P5=3),1,0)","v":0},{"$f":"IF(AND($O5=\"ao\",$P5=4),1,0)","v":0},{"$f":"IF(AND($O5=\"ao\",$P5=5),1,0)","v":0},{"$f":"IF(AND($O5=\"ao\",$P5=6),1,0)","v":0},{"$f":"IF(AND($S5=\"ao\",$T5=1),1,0)","v":0},{"$f":"IF(AND($S5=\"ao\",$T5=2),1,0)","v":0},{"$f":"IF(AND($S5=\"ao\",$T5=3),1,0)","v":0},{"$f":"IF(AND($S5=\"go\",$T5=4),1,0)","v":0},{"$f":"IF(AND($S5=\"ao\",$T5=5),1,0)","v":0},{"$f":"IF(AND($S5=\"ao\",$T5=6),1,0)","v":0},{"$f":"IF(AND($W5=\"ao\",$X5=1),1,0)","v":0},{"$f":"IF(AND($W5=\"ao\",$X5=2),1,0)","v":0},{"$f":"IF(AND($W5=\"ao\",$X5=3),1,0)","v":0},{"$f":"IF(AND($W5=\"ao\",$X5=4),1,0)","v":0},{"$f":"IF(AND($W5=\"ao\",$X5=5),1,0)","v":0},{"$f":"IF(AND($W5=\"ao\",$X5=6),1,0)","v":0},{"$f":"IF(AND($AA5=\"ao\",$AB5=1),1,0)","v":0},{"$f":"IF(AND($AA5=\"ao\",$AB5=2),1,0)","v":0},{"$f":"IF(AND($AA5=\"ao\",$AB5=3),1,0)","v":0},{"$f":"IF(AND($AA5=\"ao\",$AB5=4),1,0)","v":0},{"$f":"IF(AND($AA5=\"ao\",$AB5=5),1,0)","v":0},{"$f":"IF(AND($AA5=\"ao\",$AB5=6),1,0)","v":0},{"$f":"IF(AND($C5=\"hbp\",$D5=1),1,0)","v":0},{"$f":"IF(AND($C5=\"hbp\",$D5=2),1,0)","v":0},{"$f":"IF(AND($C5=\"hbp\",$D5=3),1,0)","v":0},{"$f":"IF(AND($C5=\"hbp\",$D5=4),1,0)","v":0},{"$f":"IF(AND($C5=\"hbp\",$D5=5),1,0)","v":0},{"$f":"IF(AND($C5=\"hbp\",$D5=6),1,0)","v":0},{"$f":"IF(AND($G5=\"hbp\",$H5=1),1,0)","v":0},{"$f":"IF(AND($G5=\"hbp\",$H5=2),1,0)","v":0},{"$f":"IF(AND($G5=\"hbp\",$H5=3),1,0)","v":0},{"$f":"IF(AND($G5=\"hbp\",$H5=4),1,0)","v":0},{"$f":"IF(AND($G5=\"hbp\",$H5=5),1,0)","v":0},{"$f":"IF(AND($G5=\"hbp\",$H5=6),1,0)","v":0},{"$f":"IF(AND($K5=\"hbp\",$L5=1),1,0)","v":0},{"$f":"IF(AND($K5=\"hbp\",$L5=2),1,0)","v":0},{"$f":"IF(AND($K5=\"hbp\",$L5=3),1,0)","v":0},{"$f":"IF(AND($K5=\"hbp\",$L5=4),1,0)","v":0},{"$f":"IF(AND($K5=\"hbp\",$L5=5),1,0)","v":0},{"$f":"IF(AND($K5=\"hbp\",$L5=6),1,0)","v":0},{"$f":"IF(AND($O5=\"hbp\",$P5=1),1,0)","v":0},{"$f":"IF(AND($O5=\"hbp\",$P5=2),1,0)","v":0},{"$f":"IF(AND($O5=\"hbp\",$P5=3),1,0)","v":0},{"$f":"IF(AND($O5=\"hbp\",$P5=4),1,0)","v":0},{"$f":"IF(AND($O5=\"hbp\",$P5=5),1,0)","v":0},{"$f":"IF(AND($O5=\"hbp\",$P5=6),1,0)","v":0},{"$f":"IF(AND($S5=\"hbp\",$T5=1),1,0)","v":0},{"$f":"IF(AND($S5=\"hbp\",$T5=2),1,0)","v":0},{"$f":"IF(AND($S5=\"hbp\",$T5=3),1,0)","v":0},{"$f":"IF(AND($S5=\"hbp\",$T5=4),1,0)","v":0},{"$f":"IF(AND($S5=\"hbp\",$T5=5),1,0)","v":0},{"$f":"IF(AND($S5=\"hbp\",$T5=6),1,0)","v":0},{"$f":"IF(AND($W5=\"hbp\",$X5=1),1,0)","v":0},{"$f":"IF(AND($W5=\"hbp\",$X5=2),1,0)","v":0},{"$f":"IF(AND($W5=\"hbp\",$X5=3),1,0)","v":0},{"$f":"IF(AND($W5=\"hbp\",$X5=4),1,0)","v":0},{"$f":"IF(AND($W5=\"hbp\",$X5=5),1,0)","v":0},{"$f":"IF(AND($W5=\"hbp\",$X5=6),1,0)","v":0},{"$f":"IF(AND($AA5=\"hbp\",$AB5=1),1,0)","v":0},{"$f":"IF(AND($AA5=\"hbp\",$AB5=2),1,0)","v":0},{"$f":"IF(AND($AA5=\"hbp\",$AB5=3),1,0)","v":0},{"$f":"IF(AND($AA5=\"hbp\",$AB5=4),1,0)","v":0},{"$f":"IF(AND($AA5=\"hbp\",$AB5=5),1,0)","v":0},{"$f":"IF(AND($AA5=\"hbp\",$AB5=6),1,0)","v":0},{"$f":"IF(AND($C5=\"bb\",$D5=1),1,0)","v":0},{"$f":"IF(AND($C5=\"bb\",$D5=2),1,0)","v":0},{"$f":"IF(AND($C5=\"bb\",$D5=3),1,0)","v":0},{"$f":"IF(AND($C5=\"bb\",$D5=4),1,0)","v":0},{"$f":"IF(AND($C5=\"bb\",$D5=5),1,0)","v":0},{"$f":"IF(AND($C5=\"bb\",$D5=6),1,0)","v":0},{"$f":"IF(AND($G5=\"bb\",$H5=1),1,0)","v":0},{"$f":"IF(AND($G5=\"bb\",$H5=2),1,0)","v":0},{"$f":"IF(AND($G5=\"bb\",$H5=3),1,0)","v":0},{"$f":"IF(AND($G5=\"bb\",$H5=4),1,0)","v":0},{"$f":"IF(AND($G5=\"bb\",$H5=5),1,0)","v":0},{"$f":"IF(AND($G5=\"bb\",$H5=6),1,0)","v":0},{"$f":"IF(AND($K5=\"bb\",$L5=1),1,0)","v":0},{"$f":"IF(AND($K5=\"bb\",$L5=2),1,0)","v":0},{"$f":"IF(AND($K5=\"bb\",$L5=3),1,0)","v":0},{"$f":"IF(AND($K5=\"bb\",$L5=4),1,0)","v":0},{"$f":"IF(AND($K5=\"bb\",$L5=5),1,0)","v":0},{"$f":"IF(AND($K5=\"bb\",$L5=6),1,0)","v":0},{"$f":"IF(AND($O5=\"bb\",$P5=1),1,0)","v":0},{"$f":"IF(AND($O5=\"bb\",$P5=2),1,0)","v":0},{"$f":"IF(AND($O5=\"bb\",$P5=3),1,0)","v":0},{"$f":"IF(AND($O5=\"bb\",$P5=4),1,0)","v":0},{"$f":"IF(AND($O5=\"bb\",$P5=5),1,0)","v":0},{"$f":"IF(AND($O5=\"bb\",$P5=6),1,0)","v":0},{"$f":"IF(AND($S5=\"bb\",$T5=1),1,0)","v":0},{"$f":"IF(AND($S5=\"bb\",$T5=2),1,0)","v":0},{"$f":"IF(AND($S5=\"bb\",$T5=3),1,0)","v":0},{"$f":"IF(AND($S5=\"bb\",$T5=4),1,0)","v":0},{"$f":"IF(AND($S5=\"bb\",$T5=5),1,0)","v":0},{"$f":"IF(AND($S5=\"bb\",$T5=6),1,0)","v":0},{"$f":"IF(AND($W5=\"bb\",$X5=1),1,0)","v":0},{"$f":"IF(AND($W5=\"bb\",$X5=2),1,0)","v":0},{"$f":"IF(AND($W5=\"bb\",$X5=3),1,0)","v":0},{"$f":"IF(AND($W5=\"bb\",$X5=4),1,0)","v":0},{"$f":"IF(AND($W5=\"bb\",$X5=5),1,0)","v":0},{"$f":"IF(AND($W5=\"bb\",$X5=6),1,0)","v":0},{"$f":"IF(AND($AA5=\"bb\",$AB5=1),1,0)","v":0},{"$f":"IF(AND($AA5=\"bb\",$AB5=2),1,0)","v":0},{"$f":"IF(AND($AA5=\"bb\",$AB5=3),1,0)","v":0},{"$f":"IF(AND($AA5=\"bb\",$AB5=4),1,0)","v":0},{"$f":"IF(AND($AA5=\"bb\",$AB5=5),1,0)","v":0},{"$f":"IF(AND($AA5=\"bb\",$AB5=6),1,0)","v":0},{"$f":"IF(AND($C5=\"k\",$D5=1),1,0)","v":0},{"$f":"IF(AND($C5=\"k\",$D5=2),1,0)","v":0},{"$f":"IF(AND($C5=\"k\",$D5=3),1,0)","v":0},{"$f":"IF(AND($C5=\"k\",$D5=4),1,0)","v":0},{"$f":"IF(AND($C5=\"k\",$D5=5),1,0)","v":0},{"$f":"IF(AND($C5=\"k\",$D5=6),1,0)","v":0},{"$f":"IF(AND($G5=\"k\",$H5=1),1,0)","v":0},{"$f":"IF(AND($G5=\"k\",$H5=2),1,0)","v":0},{"$f":"IF(AND($G5=\"k\",$H5=3),1,0)","v":0},{"$f":"IF(AND($G5=\"k\",$H5=4),1,0)","v":0},{"$f":"IF(AND($G5=\"k\",$H5=5),1,0)","v":0},{"$f":"IF(AND($G5=\"k\",$H5=6),1,0)","v":0},{"$f":"IF(AND($K5=\"k\",$L5=1),1,0)","v":0},{"$f":"IF(AND($K5=\"k\",$L5=2),1,0)","v":0},{"$f":"IF(AND($K5=\"k\",$L5=3),1,0)","v":0},{"$f":"IF(AND($K5=\"k\",$L5=4),1,0)","v":0},{"$f":"IF(AND($K5=\"k\",$L5=5),1,0)","v":0},{"$f":"IF(AND($K5=\"k\",$L5=6),1,0)","v":0},{"$f":"IF(AND($O5=\"k\",$P5=1),1,0)","v":0},{"$f":"IF(AND($O5=\"k\",$P5=2),1,0)","v":0},{"$f":"IF(AND($O5=\"k\",$P5=3),1,0)","v":0},{"$f":"IF(AND($O5=\"k\",$P5=4),1,0)","v":0},{"$f":"IF(AND($O5=\"k\",$P5=5),1,0)","v":0},{"$f":"IF(AND($O5=\"k\",$P5=6),1,0)","v":0},{"$f":"IF(AND($S5=\"k\",$T5=1),1,0)","v":0},{"$f":"IF(AND($S5=\"k\",$T5=2),1,0)","v":0},{"$f":"IF(AND($S5=\"k\",$T5=3),1,0)","v":0},{"$f":"IF(AND($S5=\"k\",$T5=4),1,0)","v":0},{"$f":"IF(AND($S5=\"k\",$T5=5),1,0)","v":0},{"$f":"IF(AND($S5=\"k\",$T5=6),1,0)","v":0},{"$f":"IF(AND($W5=\"k\",$X5=1),1,0)","v":0},{"$f":"IF(AND($W5=\"k\",$X5=2),1,0)","v":0},{"$f":"IF(AND($W5=\"k\",$X5=3),1,0)","v":0},{"$f":"IF(AND($W5=\"k\",$X5=4),1,0)","v":0},{"$f":"IF(AND($W5=\"k\",$X5=5),1,0)","v":0},{"$f":"IF(AND($W5=\"k\",$X5=6),1,0)","v":0},{"$f":"IF(AND($AA5=\"k\",$AB5=1),1,0)","v":0},{"$f":"IF(AND($AA5=\"k\",$AB5=2),1,0)","v":0},{"$f":"IF(AND($AA5=\"k\",$AB5=3),1,0)","v":0},{"$f":"IF(AND($AA5=\"k\",$AB5=4),1,0)","v":0},{"$f":"IF(AND($AA5=\"k\",$AB5=5),1,0)","v":0},{"$f":"IF(AND($AA5=\"k\",$AB5=6),1,0)","v":0},{"$f":"IF(($D5=1),1,0)","v":0},{"$f":"IF(($D5=2),1,0)","v":0},{"$f":"IF(($D5=3),1,0)","v":0},{"$f":"IF(($D5=4),1,0)","v":0},{"$f":"IF(($D5=5),1,0)","v":0},{"$f":"IF(($D5=6),1,0)","v":0},{"$f":"IF(($H5=1),1,0)","v":0},{"$f":"IF(($H5=2),1,0)","v":0},{"$f":"IF(($H5=3),1,0)","v":0},{"$f":"IF(($H5=4),1,0)","v":0},{"$f":"IF(($H5=5),1,0)","v":0},{"$f":"IF(($H5=6),1,0)","v":0},{"$f":"IF(($L5=1),1,0)","v":0},{"$f":"IF(($L5=2),1,0)","v":0},{"$f":"IF(($L5=3),1,0)","v":0},{"$f":"IF(($L5=4),1,0)","v":0},{"$f":"IF(($L5=5),1,0)","v":0},{"$f":"IF(($L5=6),1,0)","v":0},{"$f":"IF(($P5=1),1,0)","v":0},{"$f":"IF(($P5=2),1,0)","v":0},{"$f":"IF(($P5=3),1,0)","v":0},{"$f":"IF(($P5=4),1,0)","v":0},{"$f":"IF(($P5=5),1,0)","v":0},{"$f":"IF(($P5=6),1,0)","v":0},{"$f":"IF(($T5=1),1,0)","v":0},{"$f":"IF(($T5=2),1,0)","v":0},{"$f":"IF(($T5=3),1,0)","v":0},{"$f":"IF(($T5=4),1,0)","v":0},{"$f":"IF(($T5=5),1,0)","v":0},{"$f":"IF(($T5=6),1,0)","v":0},{"$f":"IF(($X5=1),1,0)","v":0},{"$f":"IF(($X5=2),1,0)","v":0},{"$f":"IF(($X5=3),1,0)","v":0},{"$f":"IF(($X5=4),1,0)","v":0},{"$f":"IF(($X5=5),1,0)","v":0},{"$f":"IF(($X5=6),1,0)","v":0},{"$f":"IF(($AB5=1),1,0)","v":0},{"$f":"IF(($AB5=2),1,0)","v":0},{"$f":"IF(($AB5=3),1,0)","v":0},{"$f":"IF(($AB5=4),1,0)","v":0},{"$f":"IF(($AB5=5),1,0)","v":0},{"$f":"IF(($AB5=6),1,0)","v":0},null,{"$f":"(Home!J20+Home!K20+NF5)/3","v":0},{"$f":"(NG19+NM19+NS19+NY19+OE19+OK19+OQ19+OX19+PD19+PJ19+PP19+PV19+QB19+QH19)","v":0},{"$f":"IF(AND($C5=\"dp\",$D5=1),2,0)","v":0},{"$f":"IF(AND($C5=\"dp\",$D5=2),2,0)","v":0},{"$f":"IF(AND($C5=\"dp\",$D5=3),2,0)","v":0},{"$f":"IF(AND($C5=\"dp\",$D5=4),2,0)","v":0},{"$f":"IF(AND($C5=\"dp\",$D5=5),2,0)","v":0},{"$f":"IF(AND($C5=\"dp\",$D5=6),2,0)","v":0},{"$f":"IF(AND($G5=\"dp\",$H5=1),2,0)","v":0},{"$f":"IF(AND($G5=\"dp\",$H5=2),2,0)","v":0},{"$f":"IF(AND($G5=\"dp\",$H5=3),2,0)","v":0},{"$f":"IF(AND($G5=\"dp\",$H5=4),2,0)","v":0},{"$f":"IF(AND($G5=\"dp\",$H5=5),2,0)","v":0},{"$f":"IF(AND($G5=\"dp\",$H5=6),2,0)","v":0},{"$f":"IF(AND($K5=\"dp\",$L5=1),2,0)","v":0},{"$f":"IF(AND($K5=\"dp\",$L5=2),2,0)","v":0},{"$f":"IF(AND($K5=\"dp\",$L5=3),2,0)","v":0},{"$f":"IF(AND($K5=\"dp\",$L5=4),2,0)","v":0},{"$f":"IF(AND($K5=\"dp\",$L5=5),2,0)","v":0},{"$f":"IF(AND($K5=\"dp\",$L5=6),2,0)","v":0},{"$f":"IF(AND($O5=\"dp\",$P5=1),2,0)","v":0},{"$f":"IF(AND($O5=\"dp\",$P5=2),2,0)","v":0},{"$f":"IF(AND($O5=\"dp\",$P5=3),2,0)","v":0},{"$f":"IF(AND($O5=\"dp\",$P5=4),2,0)","v":0},{"$f":"IF(AND($O5=\"dp\",$P5=5),2,0)","v":0},{"$f":"IF(AND($O5=\"dp\",$P5=6),2,0)","v":0},{"$f":"IF(AND($S5=\"dp\",$T5=1),2,0)","v":0},{"$f":"IF(AND($S5=\"dp\",$T5=2),2,0)","v":0},{"$f":"IF(AND($S5=\"dp\",$T5=3),2,0)","v":0},{"$f":"IF(AND($S5=\"dp\",$T5=4),2,0)","v":0},{"$f":"IF(AND($S5=\"dp\",$T5=5),2,0)","v":0},{"$f":"IF(AND($S5=\"dp\",$T5=6),2,0)","v":0},{"$f":"IF(AND($W5=\"dp\",$X5=1),2,0)","v":0},{"$f":"IF(AND($W5=\"dp\",$X5=2),2,0)","v":0},{"$f":"IF(AND($W5=\"dp\",$X5=3),2,0)","v":0},{"$f":"IF(AND($W5=\"dp\",$X5=4),2,0)","v":0},{"$f":"IF(AND($W5=\"dp\",$X5=5),2,0)","v":0},{"$f":"IF(AND($W5=\"dp\",$X5=6),2,0)","v":0},{"$f":"IF(AND($AA5=\"dp\",$AB5=1),2,0)","v":0},{"$f":"IF(AND($AA5=\"dp\",$AB5=2),2,0)","v":0},{"$f":"IF(AND($AA5=\"dp\",$AB5=3),2,0)","v":0},{"$f":"IF(AND($AA5=\"dp\",$AB5=4),2,0)","v":0},{"$f":"IF(AND($AA5=\"dp\",$AB5=5),2,0)","v":0},{"$f":"IF(AND($AA5=\"dp\",$AB5=6),2,0)","v":0},null,{"$f":"IF(AND($C5=\"dpr\",$D5=1),2,0)","v":0},{"$f":"IF(AND($C5=\"dpr\",$D5=2),2,0)","v":0},{"$f":"IF(AND($C5=\"dpr\",$D5=3),2,0)","v":0},{"$f":"IF(AND($C5=\"dpr\",$D5=4),2,0)","v":0},{"$f":"IF(AND($C5=\"dpr\",$D5=5),2,0)","v":0},{"$f":"IF(AND($C5=\"dpr\",$D5=6),2,0)","v":0},{"$f":"IF(AND($G5=\"dpr\",$H5=1),2,0)","v":0},{"$f":"IF(AND($G5=\"dpr\",$H5=2),2,0)","v":0},{"$f":"IF(AND($G5=\"dpr\",$H5=3),2,0)","v":0},{"$f":"IF(AND($G5=\"dpr\",$H5=4),2,0)","v":0},{"$f":"IF(AND($G5=\"dpr\",$H5=5),2,0)","v":0},{"$f":"IF(AND($G5=\"dpr\",$H5=6),2,0)","v":0},{"$f":"IF(AND($K5=\"dpr\",$L5=1),2,0)","v":0},{"$f":"IF(AND($K5=\"dpr\",$L5=2),2,0)","v":0},{"$f":"IF(AND($K5=\"dpr\",$L5=3),2,0)","v":0},{"$f":"IF(AND($K5=\"dpr\",$L5=4),2,0)","v":0},{"$f":"IF(AND($K5=\"dpr\",$L5=5),2,0)","v":0},{"$f":"IF(AND($K5=\"dpr\",$L5=6),2,0)","v":0},{"$f":"IF(AND($O5=\"dpr\",$P5=1),2,0)","v":0},{"$f":"IF(AND($O5=\"dpr\",$P5=2),2,0)","v":0},{"$f":"IF(AND($O5=\"dpr\",$P5=3),2,0)","v":0},{"$f":"IF(AND($O5=\"dpr\",$P5=4),2,0)","v":0},{"$f":"IF(AND($O5=\"dpr\",$P5=5),2,0)","v":0},{"$f":"IF(AND($O5=\"dpr\",$P5=6),2,0)","v":0},{"$f":"IF(AND($S5=\"dpr\",$T5=1),2,0)","v":0},{"$f":"IF(AND($S5=\"dpr\",$T5=2),2,0)","v":0},{"$f":"IF(AND($S5=\"dpr\",$T5=3),2,0)","v":0},{"$f":"IF(AND($S5=\"dpr\",$T5=4),2,0)","v":0},{"$f":"IF(AND($S5=\"dpr\",$T5=5),2,0)","v":0},{"$f":"IF(AND($S5=\"dpr\",$T5=6),2,0)","v":0},{"$f":"IF(AND($W5=\"dpr\",$X5=1),2,0)","v":0},{"$f":"IF(AND($W5=\"dpr\",$X5=2),2,0)","v":0},{"$f":"IF(AND($W5=\"dpr\",$X5=3),2,0)","v":0},{"$f":"IF(AND($W5=\"dpr\",$X5=4),2,0)","v":0},{"$f":"IF(AND($W5=\"dpr\",$X5=5),2,0)","v":0},{"$f":"IF(AND($W5=\"dpr\",$X5=6),2,0)","v":0},{"$f":"IF(AND($AA5=\"dp\",$AB5=1),2,0)","v":0},{"$f":"IF(AND($AA5=\"dpr\",$AB5=2),2,0)","v":0},{"$f":"IF(AND($AA5=\"dpr\",$AB5=3),2,0)","v":0},{"$f":"IF(AND($AA5=\"dpr\",$AB5=4),2,0)","v":0},{"$f":"IF(AND($AA5=\"dpr\",$AB5=5),2,0)","v":0},{"$f":"IF(AND($AA5=\"dpr\",$AB5=6),2,0)","v":0}]
[{"$f":"Game!C6","v":0},{"$f":"Game!E6","v":0},{"$f":"Game!J6","v":0},{"$f":"Game!K6","v":0},{"$f":"Game!M6","v":0},{"$f":"Game!N6","v":0},{"$f":"Game!O6","v":0},{"$f":"Game!P6","v":0},{"$f":"Game!R6","v":0},{"$f":"Game!S6","v":0},{"$f":"Game!T6","v":0},{"$f":"Game!U6","v":0},{"$f":"Game!W6","v":0},{"$f":"Game!X6","v":0},{"$f":"Game!Y6","v":0},{"$f":"Game!Z6","v":0},{"$f":"Game!AB6","v":0},{"$f":"Game!AC6","v":0},{"$f":"Game!AD6","v":0},{"$f":"Game!AE6","v":0},{"$f":"Game!AG6","v":0},{"$f":"Game!AH6","v":0},{"$f":"Game!AI6","v":0},{"$f":"Game!AJ6","v":0},{"$f":"Game!AL6","v":0},{"$f":"Game!AM6","v":0},{"$f":"Game!AN6","v":0},{"$f":"Game!AO6","v":0},{"$f":"Game!AQ6","v":0},{"$f":"Game!AR6","v":0},null,{"$f":"IF(AND(OR($C6=\"h\",$C6=\"2b\", $C6=\"3b\", $C6=\"hr\",$C6=\"hrb\",$C6=\"h2rb\",$C6=\"h3rb\",$C6=\"2brb\",$C6=\"2b2rb\",$C6=\"2b3rb\",$C6=\"3brb\",$C6=\"3b2rb\",$C6=\"3b3rb\",$C6=\"hr2\",$C6=\"hr3\",$C6=\"gs\"),$D6=1),1,0)","v":0},{"$f":"IF(AND(OR($C6=\"h\",$C6=\"2b\", $C6=\"3b\", $C6=\"hr\",$C6=\"hrb\",$C6=\"h2rb\",$C6=\"h3rb\",$C6=\"2brb\",$C6=\"2b2rb\",$C6=\"2b3rb\",$C6=\"3brb\",$C6=\"3b2rb\",$C6=\"3b3rb\",$C6=\"hr2\",$C6=\"hr3\",$C6=\"gs\"),$D6=2),1,0)","v":0},{"$f":"IF(AND(OR($C6=\"h\",$C6=\"2b\", $C6=\"3b\", $C6=\"hr\", $C5=\"hrb\",$C5=\"h2rb\",$C5=\"h3rb\",$C5=\"2brb\",$C5=\"2b2rb\",$C5=\"2b3rb\",$C5=\"3brb\",$C5=\"3b2rb\",$C5=\"3b3rb\",$C5=\"hr2\",$C5=\"hr3\",$C5=\"gs\"),$D6=3),1,0)","v":0},{"$f":"IF(AND(OR($C6=\"h\",$C6=\"2b\", $C6=\"3b\", $C6=\"hr\", $C5=\"hrb\",$C5=\"h2rb\",$C5=\"h3rb\",$C5=\"2brb\",$C5=\"2b2rb\",$C5=\"2b3rb\",$C5=\"3brb\",$C5=\"3b2rb\",$C5=\"3b3rb\",$C5=\"hr2\",$C5=\"hr3\",$C5=\"gs\"),$D6=4),1,0)","v":0},{"$f":"IF(AND(OR($C6=\"h\",$C6=\"2b\", $C6=\"3b\", $C6=\"hr\", $C5=\"hrb\",$C5=\"h2rb\",$C5=\"h3rb\",$C5=\"2brb\",$C5=\"2b2rb\",$C5=\"2b3rb\",$C5=\"3brb\",$C5=\"3b2rb\",$C5=\"3b3rb\",$C5=\"hr2\",$C5=\"hr3\",$C5=\"gs\"),$D6=5),1,0)","v":0},{"$f":"IF(AND(OR($C6=\"h\",$C6=\"2b\", $C6=\"3b\", $C6=\"hr\", $C5=\"hrb\",$C5=\"h2rb\",$C5=\"h3rb\",$C5=\"2brb\",$C5=\"2b2rb\",$C5=\"2b3rb\",$C5=\"3brb\",$C5=\"3b2rb\",$C5=\"3b3rb\",$C5=\"hr2\",$C5=\"hr3\",$C5=\"gs\"),$D6=6),1,0)","v":0},{"$f":"IF(AND(OR($G6=\"h\",$G6=\"2b\", $G6=\"3b\", $G6=\"hr\", $G6=\"hrb\",$G6=\"h2rb\",$G6=\"h3rb\",$G6=\"2brb\",$G6=\"2b2rb\",$G6=\"2b3rb\",$G6=\"3brb\",$G6=\"3b2rb\",$G6=\"3b3rb\",$G6=\"hr2\",$G6=\"hr3\",$G6=\"gs\"),$H6=1),1,0)","v":0},{"$f":"IF(AND(OR($G6=\"h\",$G6=\"2b\", $G6=\"3b\", $G6=\"hr\", $G6=\"hrb\",$G6=\"h2rb\",$G6=\"h3rb\",$G6=\"2brb\",$G6=\"2b2rb\",$G6=\"2b3rb\",$G6=\"3brb\",$G6=\"3b2rb\",$G6=\"3b3rb\",$G6=\"hr2\",$G6=\"hr3\",$G6=\"gs\"),$H6=2),1,0)","v":0},{"$f":"IF(AND(OR($G6=\"h\",$G6=\"2b\", $G6=\"3b\", $G6=\"hr\", $G6=\"hrb\",$G6=\"h2rb\",$G6=\"h3rb\",$G6=\"2brb\",$G6=\"2b2rb\",$G6=\"2b3rb\",$G6=\"3brb\",$G6=\"3b2rb\",$G6=\"3b3rb\",$G6=\"hr2\",$G6=\"hr3\",$G6=\"gs\"),$H6=3),1,0)","v":0},{"$f":"IF(AND(OR($G6=\"h\",$G6=\"2b\", $G6=\"3b\", $G6=\"hr\", $G6=\"hrb\",$G6=\"h2rb\",$G6=\"h3rb\",$G6=\"2brb\",$G6=\"2b2rb\",$G6=\"2b3rb\",$G6=\"3brb\",$G6=\"3b2rb\",$G6=\"3b3rb\",$G6=\"hr2\",$G6=\"hr3\",$G6=\"gs\"),$H6=4),1,0)","v":0},{"$f":"IF(AND(OR($G6=\"h\",$G6=\"2b\", $G6=\"3b\", $G6=\"hr\", $G6=\"hrb\",$G6=\"h2rb\",$G6=\"h3rb\",$G6=\"2brb\",$G6=\"2b2rb\",$G6=\"2b3rb\",$G6=\"3brb\",$G6=\"3b2rb\",$G6=\"3b3rb\",$G6=\"hr2\",$G6=\"hr3\",$G6=\"gs\"),$H6=5),1,0)","v":0},{"$f":"IF(AND(OR($G6=\"h\",$G6=\"2b\", $G6=\"3b\", $G6=\"hr\", $G6=\"hrb\",$G6=\"h2rb\",$G6=\"h3rb\",$G6=\"2brb\",$G6=\"2b2rb\",$G6=\"2b3rb\",$G6=\"3brb\",$G6=\"3b2rb\",$G6=\"3b3rb\",$G6=\"hr2\",$G6=\"hr3\",$G6=\"gs\"),$H6=6),1,0)","v":0},{"$f":"IF(AND(OR($K6=\"h\",$K6=\"2b\", $K6=\"3b\", $K6=\"hr\", $K6=\"hrb\",$K6=\"h2rb\",$K6=\"h3rb\",$K6=\"2brb\",$K6=\"2b2rb\",$K6=\"2b3rb\",$K6=\"3brb\",$K6=\"3b2rb\",$K6=\"3b3rb\",$K6=\"hr2\",$K6=\"hr3\",$K6=\"gs\"),$L6=1),1,0)","v":0},{"$f":"IF(AND(OR($K6=\"h\",$K6=\"2b\", $K6=\"3b\", $K6=\"hr\", $K6=\"hrb\",$K6=\"h2rb\",$K6=\"h3rb\",$K6=\"2brb\",$K6=\"2b2rb\",$K6=\"2b3rb\",$K6=\"3brb\",$K6=\"3b2rb\",$K6=\"3b3rb\",$K6=\"hr2\",$K6=\"hr3\",$K6=\"gs\"),$L6=2),1,0)","v":0},{"$f":"IF(AND(OR($K6=\"h\",$K6=\"2b\", $K6=\"3b\", $K6=\"hr\", $K6=\"hrb\",$K6=\"h2rb\",$K6=\"h3rb\",$K6=\"2brb\",$K6=\"2b2rb\",$K6=\"2b3rb\",$K6=\"3brb\",$K6=\"3b2rb\",$K6=\"3b3rb\",$K6=\"hr2\",$K6=\"hr3\",$K6=\"gs\"),$L6=3),1,0)","v":0},{"$f":"IF(AND(OR($K6=\"h\",$K6=\"2b\", $K6=\"3b\", $K6=\"hr\", $K6=\"hrb\",$K6=\"h2rb\",$K6=\"h3rb\",$K6=\"2brb\",$K6=\"2b2rb\",$K6=\"2b3rb\",$K6=\"3brb\",$K6=\"3b2rb\",$K6=\"3b3rb\",$K6=\"hr2\",$K6=\"hr3\",$K6=\"gs\"),$L6=4),1,0)","v":0},{"$f":"IF(AND(OR($K6=\"h\",$K6=\"2b\", $K6=\"3b\", $K6=\"hr\", $K6=\"hrb\",$K6=\"h2rb\",$K6=\"h3rb\",$K6=\"2brb\",$K6=\"2b2rb\",$K6=\"2b3rb\",$K6=\"3brb\",$K6=\"3b2rb\",$K6=\"3b3rb\",$K6=\"hr2\",$K6=\"hr3\",$K6=\"gs\"),$L6=5),1,0)","v":0},{"$f":"IF(AND(OR($K6=\"h\",$K6=\"2b\", $K6=\"3b\", $K6=\"hr\", $K6=\"hrb\",$K6=\"h2rb\",$K6=\"h3rb\",$K6=\"2brb\",$K6=\"2b2rb\",$K6=\"2b3rb\",$K6=\"3brb\",$K6=\"3b2rb\",$K6=\"3b3rb\",$K6=\"hr2\",$K6=\"hr3\",$K6=\"gs\"),$L6=6),1,0)","v":0},{"$f":"IF(AND(OR($O6=\"h\",$O6=\"2b\", $O6=\"3b\", $O6=\"hr\", $O6=\"hrb\",$O6=\"h2rb\",$O6=\"h3rb\",$O6=\"2brb\",$O6=\"2b2rb\",$O6=\"2b3rb\",$O6=\"3brb\",$O6=\"3b2rb\",$O6=\"3b3rb\",$O6=\"hr2\",$O6=\"hr3\",$O6=\"gs\"),$P6=1),1,0)","v":0},{"$f":"IF(AND(OR($O6=\"h\",$O6=\"2b\", $O6=\"3b\", $O6=\"hr\", $O6=\"hrb\",$O6=\"h2rb\",$O6=\"h3rb\",$O6=\"2brb\",$O6=\"2b2rb\",$O6=\"2b3rb\",$O6=\"3brb\",$O6=\"3b2rb\",$O6=\"3b3rb\",$O6=\"hr2\",$O6=\"hr3\",$O6=\"gs\"),$P6=2),1,0)","v":0},{"$f":"IF(AND(OR($O6=\"h\",$O6=\"2b\", $O6=\"3b\", $O6=\"hr\", $O6=\"hrb\",$O6=\"h2rb\",$O6=\"h3rb\",$O6=\"2brb\",$O6=\"2b2rb\",$O6=\"2b3rb\",$O6=\"3brb\",$O6=\"3b2rb\",$O6=\"3b3rb\",$O6=\"hr2\",$O6=\"hr3\",$O6=\"gs\"),$P6=3),1,0)","v":0},{"$f":"IF(AND(OR($O6=\"h\",$O6=\"2b\", $O6=\"3b\", $O6=\"hr\", $O6=\"hrb\",$O6=\"h2rb\",$O6=\"h3rb\",$O6=\"2brb\",$O6=\"2b2rb\",$O6=\"2b3rb\",$O6=\"3brb\",$O6=\"3b2rb\",$O6=\"3b3rb\",$O6=\"hr2\",$O6=\"hr3\",$O6=\"gs\"),$P6=4),1,0)","v":0},{"$f":"IF(AND(OR($O6=\"h\",$O6=\"2b\", $O6=\"3b\", $O6=\"hr\", $O6=\"hrb\",$O6=\"h2rb\",$O6=\"h3rb\",$O6=\"2brb\",$O6=\"2b2rb\",$O6=\"2b3rb\",$O6=\"3brb\",$O6=\"3b2rb\",$O6=\"3b3rb\",$O6=\"hr2\",$O6=\"hr3\",$O6=\"gs\"),$P6=5),1,0)","v":0},{"$f":"IF(AND(OR($O6=\"h\",$O6=\"2b\", $O6=\"3b\", $O6=\"hr\", $O6=\"hrb\",$O6=\"h2rb\",$O6=\"h3rb\",$O6=\"2brb\",$O6=\"2b2rb\",$O6=\"2b3rb\",$O6=\"3brb\",$O6=\"3b2rb\",$O6=\"3b3rb\",$O6=\"hr2\",$O6=\"hr3\",$O6=\"gs\"),$P6=6),1,0)","v":0},{"$f":"IF(AND(OR($S6=\"h\",$S6=\"2b\", $S6=\"3b\", $S6=\"hr\", $S6=\"hrb\",$S6=\"h2rb\",$S6=\"h3rb\",$S6=\"2brb\",$S6=\"2b2rb\",$S6=\"2b3rb\",$S6=\"3brb\",$S6=\"3b2rb\",$S6=\"3b3rb\",$S6=\"hr2\",$S6=\"hr3\",$S6=\"gs\"),$T6=1),1,0)","v":0},{"$f":"IF(AND(OR($S6=\"h\",$S6=\"2b\", $S6=\"3b\", $S6=\"hr\", $S6=\"hrb\",$S6=\"h2rb\",$S6=\"h3rb\",$S6=\"2brb\",$S6=\"2b2rb\",$S6=\"2b3rb\",$S6=\"3brb\",$S6=\"3b2rb\",$S6=\"3b3rb\",$S6=\"hr2\",$S6=\"hr3\",$S6=\"gs\"),$T6=2),1,0)","v":0},{"$f":"IF(AND(OR($S6=\"h\",$S6=\"2b\", $S6=\"3b\", $S6=\"hr\", $S6=\"hrb\",$S6=\"h2rb\",$S6=\"h3rb\",$S6=\"2brb\",$S6=\"2b2rb\",$S6=\"2b3rb\",$S6=\"3brb\",$S6=\"3b2rb\",$S6=\"3b3rb\",$S6=\"hr2\",$S6=\"hr3\",$S6=\"gs\"),$T6=3),1,0)","v":0},{"$f":"IF(AND(OR($S6=\"h\",$S6=\"2b\", $S6=\"3b\", $S6=\"hr\", $S6=\"hrb\",$S6=\"h2rb\",$S6=\"h3rb\",$S6=\"2brb\",$S6=\"2b2rb\",$S6=\"2b3rb\",$S6=\"3brb\",$S6=\"3b2rb\",$S6=\"3b3rb\",$S6=\"hr2\",$S6=\"hr3\",$S6=\"gs\"),$T6=4),1,0)","v":0},{"$f":"IF(AND(OR($S6=\"h\",$S6=\"2b\", $S6=\"3b\", $S6=\"hr\", $S6=\"hrb\",$S6=\"h2rb\",$S6=\"h3rb\",$S6=\"2brb\",$S6=\"2b2rb\",$S6=\"2b3rb\",$S6=\"3brb\",$S6=\"3b2rb\",$S6=\"3b3rb\",$S6=\"hr2\",$S6=\"hr3\",$S6=\"gs\"),$T6=5),1,0)","v":0},{"$f":"IF(AND(OR($S6=\"h\",$S6=\"2b\", $S6=\"3b\", $S6=\"hr\", $S6=\"hrb\",$S6=\"h2rb\",$S6=\"h3rb\",$S6=\"2brb\",$S6=\"2b2rb\",$S6=\"2b3rb\",$S6=\"3brb\",$S6=\"3b2rb\",$S6=\"3b3rb\",$S6=\"hr2\",$S6=\"hr3\",$S6=\"gs\"),$T6=6),1,0)","v":0},{"$f":"IF(AND(OR($W6=\"h\",$W6=\"2b\", $W6=\"3b\", $W6=\"hr\", $W6=\"hrb\",$W6=\"h2rb\",$W6=\"h3rb\",$W6=\"2brb\",$W6=\"2b2rb\",$W6=\"2b3rb\",$W6=\"3brb\",$W6=\"3b2rb\",$W6=\"3b3rb\",$W6=\"hr2\",$W6=\"hr3\",$W6=\"gs\"),$X6=1),1,0)","v":0},{"$f":"IF(AND(OR($W6=\"h\",$W6=\"2b\", $W6=\"3b\", $W6=\"hr\", $W6=\"hrb\",$W6=\"h2rb\",$W6=\"h3rb\",$W6=\"2brb\",$W6=\"2b2rb\",$W6=\"2b3rb\",$W6=\"3brb\",$W6=\"3b2rb\",$W6=\"3b3rb\",$W6=\"hr2\",$W6=\"hr3\",$W6=\"gs\"),$X6=2),1,0)","v":0},{"$f":"IF(AND(OR($W6=\"h\",$W6=\"2b\", $W6=\"3b\", $W6=\"hr\", $W6=\"hrb\",$W6=\"h2rb\",$W6=\"h3rb\",$W6=\"2brb\",$W6=\"2b2rb\",$W6=\"2b3rb\",$W6=\"3brb\",$W6=\"3b2rb\",$W6=\"3b3rb\",$W6=\"hr2\",$W6=\"hr3\",$W6=\"gs\"),$X6=3),1,0)","v":0},{"$f":"IF(AND(OR($W6=\"h\",$W6=\"2b\", $W6=\"3b\", $W6=\"hr\", $W6=\"hrb\",$W6=\"h2rb\",$W6=\"h3rb\",$W6=\"2brb\",$W6=\"2b2rb\",$W6=\"2b3rb\",$W6=\"3brb\",$W6=\"3b2rb\",$W6=\"3b3rb\",$W6=\"hr2\",$W6=\"hr3\",$W6=\"gs\"),$X6=4),1,0)","v":0},{"$f":"IF(AND(OR($W6=\"h\",$W6=\"2b\", $W6=\"3b\", $W6=\"hr\", $W6=\"hrb\",$W6=\"h2rb\",$W6=\"h3rb\",$W6=\"2brb\",$W6=\"2b2rb\",$W6=\"2b3rb\",$W6=\"3brb\",$W6=\"3b2rb\",$W6=\"3b3rb\",$W6=\"hr2\",$W6=\"hr3\",$W6=\"gs\"),$X6=5),1,0)","v":0},{"$f":"IF(AND(OR($W6=\"h\",$W6=\"2b\", $W6=\"3b\", $W6=\"hr\", $W6=\"hrb\",$W6=\"h2rb\",$W6=\"h3rb\",$W6=\"2brb\",$W6=\"2b2rb\",$W6=\"2b3rb\",$W6=\"3brb\",$W6=\"3b2rb\",$W6=\"3b3rb\",$W6=\"hr2\",$W6=\"hr3\",$W6=\"gs\"),$X6=6),1,0)","v":0},{"$f":"IF(AND(OR($AA6=\"h\",$AA6=\"2b\", $AA6=\"3b\", $AA6=\"hr\", $AA6=\"hrb\",$AA6=\"h2rb\",$AA6=\"h3rb\",$AA6=\"2brb\",$AA6=\"2b2rb\",$AA6=\"2b3rb\",$AA6=\"3brb\",$AA6=\"3b2rb\",$AA6=\"3b3rb\",$AA6=\"hr2\",$AA6=\"hr3\",$AA6=\"gs\"),$AB6=1),1,0)","v":0},{"$f":"IF(AND(OR($AA6=\"h\",$AA6=\"2b\", $AA6=\"3b\", $AA6=\"hr\", $AA6=\"hrb\",$AA6=\"h2rb\",$AA6=\"h3rb\",$AA6=\"2brb\",$AA6=\"2b2rb\",$AA6=\"2b3rb\",$AA6=\"3brb\",$AA6=\"3b2rb\",$AA6=\"3b3rb\",$AA6=\"hr2\",$AA6=\"hr3\",$AA6=\"gs\"),$AB6=2),1,0)","v":0},{"$f":"IF(AND(OR($AA6=\"h\",$AA6=\"2b\", $AA6=\"3b\", $AA6=\"hr\", $AA6=\"hrb\",$AA6=\"h2rb\",$AA6=\"h3rb\",$AA6=\"2brb\",$AA6=\"2b2rb\",$AA6=\"2b3rb\",$AA6=\"3brb\",$AA6=\"3b2rb\",$AA6=\"3b3rb\",$AA6=\"hr2\",$AA6=\"hr3\",$AA6=\"gs\"),$AB6=3),1,0)","v":0},{"$f":"IF(AND(OR($AA6=\"h\",$AA6=\"2b\", $AA6=\"3b\", $AA6=\"hr\", $AA6=\"hrb\",$AA6=\"h2rb\",$AA6=\"h3rb\",$AA6=\"2brb\",$AA6=\"2b2rb\",$AA6=\"2b3rb\",$AA6=\"3brb\",$AA6=\"3b2rb\",$AA6=\"3b3rb\",$AA6=\"hr2\",$AA6=\"hr3\",$AA6=\"gs\"),$AB6=4),1,0)","v":0},{"$f":"IF(AND(OR($AA6=\"h\",$AA6=\"2b\", $AA6=\"3b\", $AA6=\"hr\", $AA6=\"hrb\",$AA6=\"h2rb\",$AA6=\"h3rb\",$AA6=\"2brb\",$AA6=\"2b2rb\",$AA6=\"2b3rb\",$AA6=\"3brb\",$AA6=\"3b2rb\",$AA6=\"3b3rb\",$AA6=\"hr2\",$AA6=\"hr3\",$AA6=\"gs\"),$AB6=5),1,0)","v":0},{"$f":"IF(AND(OR($AA6=\"h\",$AA6=\"2b\", $AA6=\"3b\", $AA6=\"hr\", $AA6=\"hrb\",$AA6=\"h2rb\",$AA6=\"h3rb\",$AA6=\"2brb\",$AA6=\"2b2rb\",$AA6=\"2b3rb\",$AA6=\"3brb\",$AA6=\"3b2rb\",$AA6=\"3b3rb\",$AA6=\"hr2\",$AA6=\"hr3\",$AA6=\"gs\"),$AB6=6),1,0)","v":0},{"$f":"IF(AND(OR($C6=\"HR\",$C6=\"HR2\",$C6=\"HR3\",$C6=\"GS\"),$D6=1),1,0)","v":0},{"$f":"IF(AND(OR($C6=\"HR\",$C6=\"HR2\",$C6=\"HR3\",$C6=\"GS\"),$D6=2),1,0)","v":0},{"$f":"IF(AND(OR($C6=\"HR\",$C6=\"HR2\",$C6=\"HR3\",$C6=\"GS\"),$D6=3),1,0)","v":0},{"$f":"IF(AND(OR($C6=\"HR\",$C6=\"HR2\",$C6=\"HR3\",$C6=\"GS\"),$D6=4),1,0)","v":0},{"$f":"IF(AND(OR($C6=\"HR\",$C6=\"HR2\",$C6=\"HR3\",$C6=\"GS\"),$D6=5),1,0)","v":0},{"$f":"IF(AND(OR($C6=\"HR\",$C6=\"HR2\",$C6=\"HR3\",$C6=\"GS\"),$D6=6),1,0)","v":0},{"$f":"IF(AND(OR($G6=\"HR\",$G6=\"HR2\",$G6=\"HR3\",$G6=\"GS\"),$H6=1),1,0)","v":0},{"$f":"IF(AND(OR($G6=\"HR\",$G6=\"HR2\",$G6=\"HR3\",$G6=\"GS\"),$H6=2),1,0)","v":0},{"$f":"IF(AND(OR($G6=\"HR\",$G6=\"HR2\",$G6=\"HR3\",$G6=\"GS\"),$H6=3),1,0)","v":0},{"$f":"IF(AND(OR($G6=\"HR\",$G6=\"HR2\",$G6=\"HR3\",$G6=\"GS\"),$H6=4),1,0)","v":0},{"$f":"IF(AND(OR($G6=\"HR\",$G6=\"HR2\",$G6=\"HR3\",$G6=\"GS\"),$H6=5),1,0)","v":0},{"$f":"IF(AND(OR($G6=\"HR\",$G6=\"HR2\",$G6=\"HR3\",$G6=\"GS\"),$H6=6),1,0)","v":0},{"$f":"IF(AND(OR($K6=\"HR\",$K6=\"HR2\",$K6=\"HR3\",$K6=\"GS\"),$L6=1),1,0)","v":0},{"$f":"IF(AND(OR($K6=\"HR\",$K6=\"HR2\",$K6=\"HR3\",$K6=\"GS\"),$L6=2),1,0)","v":0},{"$f":"IF(AND(OR($K6=\"HR\",$K6=\"HR2\",$K6=\"HR3\",$K6=\"GS\"),$L6=3),1,0)","v":0},{"$f":"IF(AND(OR($K6=\"HR\",$K6=\"HR2\",$K6=\"HR3\",$K6=\"GS\"),$L6=4),1,0)","v":0},{"$f":"IF(AND(OR($K6=\"HR\",$K6=\"HR2\",$K6=\"HR3\",$K6=\"GS\"),$L6=5),1,0)","v":0},{"$f":"IF(AND(OR($K6=\"HR\",$K6=\"HR2\",$K6=\"HR3\",$K6=\"GS\"),$L6=6),1,0)","v":0},{"$f":"IF(AND(OR($O6=\"HR\",$O6=\"HR2\",$O6=\"HR3\",$O6=\"GS\"),$P6=1),1,0)","v":0},{"$f":"IF(AND(OR($O6=\"HR\",$O6=\"HR2\",$O6=\"HR3\",$O6=\"GS\"),$P6=2),1,0)","v":0},{"$f":"IF(AND(OR($O6=\"HR\",$O6=\"HR2\",$O6=\"HR3\",$O6=\"GS\"),$P6=3),1,0)","v":0},{"$f":"IF(AND(OR($O6=\"HR\",$O6=\"HR2\",$O6=\"HR3\",$O6=\"GS\"),$P6=4),1,0)","v":0},{"$f":"IF(AND(OR($O6=\"HR\",$O6=\"HR2\",$O6=\"HR3\",$O6=\"GS\"),$P6=5),1,0)","v":0},{"$f":"IF(AND(OR($O6=\"HR\",$O6=\"HR2\",$O6=\"HR3\",$O6=\"GS\"),$P6=6),1,0)","v":0},{"$f":"IF(AND(OR($S6=\"HR\",$S6=\"HR2\",$S6=\"HR3\",$S6=\"GS\"),$T6=1),1,0)","v":0},{"$f":"IF(AND(OR($S6=\"HR\",$S6=\"HR2\",$S6=\"HR3\",$S6=\"GS\"),$T6=2),1,0)","v":0},{"$f":"IF(AND(OR($S6=\"HR\",$S6=\"HR2\",$S6=\"HR3\",$S6=\"GS\"),$T6=3),1,0)","v":0},{"$f":"IF(AND(OR($S6=\"HR\",$S6=\"HR2\",$S6=\"HR3\",$S6=\"GS\"),$T6=4),1,0)","v":0},{"$f":"IF(AND(OR($S6=\"HR\",$S6=\"HR2\",$S6=\"HR3\",$S6=\"GS\"),$T6=5),1,0)","v":0},{"$f":"IF(AND(OR($S6=\"HR\",$S6=\"HR2\",$S6=\"HR3\",$S6=\"GS\"),$T6=6),1,0)","v":0},{"$f":"IF(AND(OR($W6=\"HR\",$W6=\"HR2\",$W6=\"HR3\",$W6=\"GS\"),$X6=1),1,0)","v":0},{"$f":"IF(AND(OR($W6=\"HR\",$W6=\"HR2\",$W6=\"HR3\",$W6=\"GS\"),$X6=2),1,0)","v":0},{"$f":"IF(AND(OR($W6=\"HR\",$W6=\"HR2\",$W6=\"HR3\",$W6=\"GS\"),$X6=3),2,0)","v":0},{"$f":"IF(AND(OR($W6=\"HR\",$W6=\"HR2\",$W6=\"HR3\",$W6=\"GS\"),$X6=4),2,0)","v":0},{"$f":"IF(AND(OR($W6=\"HR\",$W6=\"HR2\",$W6=\"HR3\",$W6=\"GS\"),$X6=5),2,0)","v":0},{"$f":"IF(AND(OR($W6=\"HR\",$W6=\"HR2\",$W6=\"HR3\",$W6=\"GS\"),$X6=6),2,0)","v":0},{"$f":"IF(AND(OR($AA6=\"HR\",$AA6=\"HR2\",$AA6=\"HR3\",$AA6=\"GS\"),$AB6=1),1,0)","v":0},{"$f":"IF(AND(OR($AA6=\"HR\",$AA6=\"HR2\",$AA6=\"HR3\",$AA6=\"GS\"),$AB6=2),1,0)","v":0},{"$f":"IF(AND(OR($AA6=\"HR\",$AA6=\"HR2\",$AA6=\"HR3\",$AA6=\"GS\"),$AB6=3),1,0)","v":0},{"$f":"IF(AND(OR($AA6=\"HR\",$AA6=\"HR2\",$AA6=\"HR3\",$AA6=\"GS\"),$AB6=4),1,0)","v":0},{"$f":"IF(AND(OR($AA6=\"HR\",$AA6=\"HR2\",$AA6=\"HR3\",$AA6=\"GS\"),$AB6=5),1,0)","v":0},{"$f":"IF(AND(OR($AA6=\"HR\",$AA6=\"HR2\",$AA6=\"HR3\",$AA6=\"GS\"),$AB6=6),1,0)","v":0},{"$f":"IF(AND($C6=\"go\",$D6=1),1,0)","v":0},{"$f":"IF(AND($C6=\"go\",$D6=2),1,0)","v":0},{"$f":"IF(AND($C6=\"go\",$D6=3),1,0)","v":0},{"$f":"IF(AND($C6=\"go\",$D6=4),1,0)","v":0},{"$f":"IF(AND($C6=\"go\",$D6=5),1,0)","v":0},{"$f":"IF(AND($C6=\"go\",$D6=6),1,0)","v":0},{"$f":"IF(AND($G6=\"go\",$H6=1),1,0)","v":0},{"$f":"IF(AND($G6=\"go\",$H6=2),1,0)","v":0},{"$f":"IF(AND($G6=\"go\",$H6=3),1,0)","v":0},{"$f":"IF(AND($G6=\"go\",$H6=4),1,0)","v":0},{"$f":"IF(AND($G6=\"go\",$H6=5),1,0)","v":0},{"$f":"IF(AND($G6=\"go\",$H6=6),1,0)","v":0},{"$f":"IF(AND($K6=\"go\",$L6=1),1,0)","v":0},{"$f":"IF(AND($K6=\"go\",$L6=2),1,0)","v":0},{"$f":"IF(AND($K6=\"go\",$L6=3),1,0)","v":0},{"$f":"IF(AND($K6=\"go\",$L6=4),1,0)","v":0},{"$f":"IF(AND($K6=\"go\",$L6=5),1,0)","v":0},{"$f":"IF(AND($K6=\"go\",$L6=6),1,0)","v":0},{"$f":"IF(AND($O6=\"go\",$P6=1),1,0)","v":0},{"$f":"IF(AND($O6=\"go\",$P6=2),1,0)","v":0},{"$f":"IF(AND($O6=\"go\",$P6=3),1,0)","v":0},{"$f":"IF(AND($O6=\"go\",$P6=4),1,0)","v":0},{"$f":"IF(AND($O6=\"go\",$P6=5),1,0)","v":0},{"$f":"IF(AND($O6=\"go\",$P6=6),1,0)","v":0},{"$f":"IF(AND($S6=\"go\",$T6=1),1,0)","v":0},{"$f":"IF(AND($S6=\"go\",$T6=2),1,0)","v":0},{"$f":"IF(AND($S6=\"go\",$T6=3),1,0)","v":0},{"$f":"IF(AND($S6=\"go\",$T6=4),1,0)","v":0},{"$f":"IF(AND($S6=\"go\",$T6=5),1,0)","v":0},{"$f":"IF(AND($S6=\"go\",$T6=6),1,0)","v":0},{"$f":"IF(AND($W6=\"go\",$X6=1),1,0)","v":0},{"$f":"IF(AND($W6=\"go\",$X6=2),1,0)","v":0},{"$f":"IF(AND($W6=\"go\",$X6=3),1,0)","v":0},{"$f":"IF(AND($W6=\"go\",$X6=4),1,0)","v":0},{"$f":"IF(AND($W6=\"go\",$X6=5),1,0)","v":0},{"$f":"IF(AND($W6=\"go\",$X6=6),1,0)","v":0},{"$f":"IF(AND($AA6=\"go\",$AB6=1),1,0)","v":0},{"$f":"IF(AND($AA6=\"go\",$AB6=2),1,0)","v":0},{"$f":"IF(AND($AA6=\"go\",$AB6=3),1,0)","v":0},{"$f":"IF(AND($AA6=\"go\",$AB6=4),1,0)","v":0},{"$f":"IF(AND($AA6=\"go\",$AB6=5),1,0)","v":0},{"$f":"IF(AND($AA6=\"go\",$AB6=6),1,0)","v":0},0,0,0,0,0,0,0,0,0,0,0,0,0,0,0,0,0,0,0,0,0,0,0,0,0,0,0,{"$f":"IF(AND($S6=\"ao\",$T6=4),1,0)","v":0},0,0,0,0,0,0,0,0,0,0,0,0,0,0,0,0,0,0,0,0,0,0,0,0,0,0,0,0,0,0,0,0,0,0,0,0,0,0,0,0,0,0,0,0,0,0,0,0,0,0,0,0,0,0,0,0,0,0,0,0,0,0,0,0,0,0,0,0,0,0,0,0,0,0,0,0,0,0,0,0,0,0,0,0,0,0,0,0,0,0,0,0,0,0,0,0,0,0,0,0,0,0,0,0,0,0,0,0,0,0,0,0,0,0,0,0,0,0,0,0,0,0,0,0,0,0,0,0,0,0,0,0,0,0,0,0,0,0,0,0,{"$f":"IF(($D6=1),1,0)","v":0},{"$f":"IF(($D6=2),1,0)","v":0},{"$f":"IF(($D6=3),1,0)","v":0},{"$f":"IF(($D6=4),1,0)","v":0},{"$f":"IF(($D6=5),1,0)","v":0},{"$f":"IF(($D6=6),1,0)","v":0},{"$f":"IF(($H6=1),1,0)","v":0},{"$f":"IF(($H6=2),1,0)","v":0},{"$f":"IF(($H6=3),1,0)","v":0},{"$f":"IF(($H6=4),1,0)","v":0},{"$f":"IF(($H6=5),1,0)","v":0},{"$f":"IF(($H6=6),1,0)","v":0},{"$f":"IF(($L6=1),1,0)","v":0},{"$f":"IF(($L6=2),1,0)","v":0},{"$f":"IF(($L6=3),1,0)","v":0},{"$f":"IF(($L6=4),1,0)","v":0},{"$f":"IF(($L6=5),1,0)","v":0},{"$f":"IF(($L6=6),1,0)","v":0},{"$f":"IF(($P6=1),1,0)","v":0},{"$f":"IF(($P6=2),1,0)","v":0},{"$f":"IF(($P6=3),1,0)","v":0},{"$f":"IF(($P6=4),1,0)","v":0},{"$f":"IF(($P6=5),1,0)","v":0},{"$f":"IF(($P6=6),1,0)","v":0},{"$f":"IF(($T6=1),1,0)","v":0},{"$f":"IF(($T6=2),1,0)","v":0},{"$f":"IF(($T6=3),1,0)","v":0},{"$f":"IF(($T6=4),1,0)","v":0},{"$f":"IF(($T6=5),1,0)","v":0},{"$f":"IF(($T6=6),1,0)","v":0},{"$f":"IF(($X6=1),1,0)","v":0},{"$f":"IF(($X6=2),1,0)","v":0},{"$f":"IF(($X6=3),1,0)","v":0},{"$f":"IF(($X6=4),1,0)","v":0},{"$f":"IF(($X6=5),1,0)","v":0},{"$f":"IF(($X6=6),1,0)","v":0},{"$f":"IF(($AB6=1),1,0)","v":0},{"$f":"IF(($AB6=2),1,0)","v":0},{"$f":"IF(($AB6=3),1,0)","v":0},{"$f":"IF(($AB6=4),1,0)","v":0},{"$f":"IF(($AB6=5),1,0)","v":0},{"$f":"IF(($AB6=6),1,0)","v":0},null,{"$f":"(Home!J21+Home!K21+NF6)/3","v":0},{"$f":"(NH19+NN19+NT19+NZ19+OF19+OL19+OR19+OY19+PE19+PK19+PQ19+PW19+QC19+QI19)","v":0},{"$f":"IF(AND($C6=\"dp\",$D6=1),2,0)","v":0},{"$f":"IF(AND($C6=\"dp\",$D6=2),2,0)","v":0},{"$f":"IF(AND($C6=\"dp\",$D6=3),2,0)","v":0},{"$f":"IF(AND($C6=\"dp\",$D6=4),2,0)","v":0},{"$f":"IF(AND($C6=\"dp\",$D6=5),2,0)","v":0},{"$f":"IF(AND($C6=\"dp\",$D6=6),2,0)","v":0},{"$f":"IF(AND($G6=\"dp\",$H6=1),2,0)","v":0},{"$f":"IF(AND($G6=\"dp\",$H6=2),2,0)","v":0},{"$f":"IF(AND($G6=\"dp\",$H6=3),2,0)","v":0},{"$f":"IF(AND($G6=\"dp\",$H6=4),2,0)","v":0},{"$f":"IF(AND($G6=\"dp\",$H6=5),2,0)","v":0},{"$f":"IF(AND($G6=\"dp\",$H6=6),2,0)","v":0},{"$f":"IF(AND($K6=\"dp\",$L6=1),2,0)","v":0},{"$f":"IF(AND($K6=\"dp\",$L6=2),2,0)","v":0},{"$f":"IF(AND($K6=\"dp\",$L6=3),2,0)","v":0},{"$f":"IF(AND($K6=\"dp\",$L6=4),2,0)","v":0},{"$f":"IF(AND($K6=\"dp\",$L6=5),2,0)","v":0},{"$f":"IF(AND($K6=\"dp\",$L6=6),2,0)","v":0},{"$f":"IF(AND($O6=\"dp\",$P6=1),2,0)","v":0},{"$f":"IF(AND($O6=\"dp\",$P6=2),2,0)","v":0},{"$f":"IF(AND($O6=\"dp\",$P6=3),2,0)","v":0},{"$f":"IF(AND($O6=\"dp\",$P6=4),2,0)","v":0},{"$f":"IF(AND($O6=\"dp\",$P6=5),2,0)","v":0},{"$f":"IF(AND($O6=\"dp\",$P6=6),2,0)","v":0},{"$f":"IF(AND($S6=\"dp\",$T6=1),2,0)","v":0},{"$f":"IF(AND($S6=\"dp\",$T6=2),2,0)","v":0},{"$f":"IF(AND($S6=\"dp\",$T6=3),2,0)","v":0},{"$f":"IF(AND($S6=\"dp\",$T6=4),2,0)","v":0},{"$f":"IF(AND($S6=\"dp\",$T6=5),2,0)","v":0},{"$f":"IF(AND($S6=\"dp\",$T6=6),2,0)","v":0},{"$f":"IF(AND($W6=\"dp\",$X6=1),2,0)","v":0},{"$f":"IF(AND($W6=\"dp\",$X6=2),2,0)","v":0},{"$f":"IF(AND($W6=\"dp\",$X6=3),2,0)","v":0},{"$f":"IF(AND($W6=\"dp\",$X6=4),2,0)","v":0},{"$f":"IF(AND($W6=\"dp\",$X6=5),2,0)","v":0},{"$f":"IF(AND($W6=\"dp\",$X6=6),2,0)","v":0},{"$f":"IF(AND($AA6=\"dp\",$AB6=1),2,0)","v":0},{"$f":"IF(AND($AA6=\"dp\",$AB6=2),2,0)","v":0},{"$f":"IF(AND($AA6=\"dp\",$AB6=3),2,0)","v":0},{"$f":"IF(AND($AA6=\"dp\",$AB6=4),2,0)","v":0},{"$f":"IF(AND($AA6=\"dp\",$AB6=5),2,0)","v":0},{"$f":"IF(AND($AA6=\"dp\",$AB6=6),2,0)","v":0},null,0,0,0,0,0,0,{"$f":"IF(AND($G6=\"dpr\",$H6=1),2,0)","v":0},{"$f":"IF(AND($G6=\"dpr\",$H6=2),2,0)","v":0},{"$f":"IF(AND($G6=\"dpr\",$H6=3),2,0)","v":0},{"$f":"IF(AND($G6=\"dpr\",$H6=4),2,0)","v":0},{"$f":"IF(AND($G6=\"dpr\",$H6=5),2,0)","v":0},{"$f":"IF(AND($G6=\"dpr\",$H6=6),2,0)","v":0},{"$f":"IF(AND($K6=\"dpr\",$L6=1),2,0)","v":0},{"$f":"IF(AND($K6=\"dpr\",$L6=2),2,0)","v":0},{"$f":"IF(AND($K6=\"dpr\",$L6=3),2,0)","v":0},{"$f":"IF(AND($K6=\"dpr\",$L6=4),2,0)","v":0},{"$f":"IF(AND($K6=\"dpr\",$L6=5),2,0)","v":0},{"$f":"IF(AND($K6=\"dpr\",$L6=6),2,0)","v":0},{"$f":"IF(AND($O6=\"dpr\",$P6=1),2,0)","v":0},{"$f":"IF(AND($O6=\"dpr\",$P6=2),2,0)","v":0},{"$f":"IF(AND($O6=\"dpr\",$P6=3),2,0)","v":0},{"$f":"IF(AND($O6=\"dpr\",$P6=4),2,0)","v":0},{"$f":"IF(AND($O6=\"dpr\",$P6=5),2,0)","v":0},{"$f":"IF(AND($O6=\"dpr\",$P6=6),2,0)","v":0},{"$f":"IF(AND($S6=\"dpr\",$T6=1),2,0)","v":0},{"$f":"IF(AND($S6=\"dpr\",$T6=2),2,0)","v":0},{"$f":"IF(AND($S6=\"dpr\",$T6=3),2,0)","v":0},{"$f":"IF(AND($S6=\"dpr\",$T6=4),2,0)","v":0},{"$f":"IF(AND($S6=\"dpr\",$T6=5),2,0)","v":0},{"$f":"IF(AND($S6=\"dpr\",$T6=6),2,0)","v":0},{"$f":"IF(AND($W6=\"dpr\",$X6=1),2,0)","v":0},{"$f":"IF(AND($W6=\"dpr\",$X6=2),2,0)","v":0},{"$f":"IF(AND($W6=\"dpr\",$X6=3),2,0)","v":0},{"$f":"IF(AND($W6=\"dpr\",$X6=4),2,0)","v":0},{"$f":"IF(AND($W6=\"dpr\",$X6=5),2,0)","v":0},{"$f":"IF(AND($W6=\"dpr\",$X6=6),2,0)","v":0},{"$f":"IF(AND($AA6=\"dp\",$AB6=1),2,0)","v":0},{"$f":"IF(AND($AA6=\"dpr\",$AB6=2),2,0)","v":0},{"$f":"IF(AND($AA6=\"dpr\",$AB6=3),2,0)","v":0},{"$f":"IF(AND($AA6=\"dpr\",$AB6=4),2,0)","v":0},{"$f":"IF(AND($AA6=\"dpr\",$AB6=5),2,0)","v":0},{"$f":"IF(AND($AA6=\"dpr\",$AB6=6),2,0)","v":0}]
[{"$f":"Game!C7","v":0},{"$f":"Game!E7","v":0},{"$f":"Game!J7","v":0},{"$f":"Game!K7","v":0},{"$f":"Game!M7","v":0},{"$f":"Game!N7","v":0},{"$f":"Game!O7","v":0},{"$f":"Game!P7","v":0},{"$f":"Game!R7","v":0},{"$f":"Game!S7","v":0},{"$f":"Game!T7","v":0},{"$f":"Game!U7","v":0},{"$f":"Game!W7","v":0},{"$f":"Game!X7","v":0},{"$f":"Game!Y7","v":0},{"$f":"Game!Z7","v":0},{"$f":"Game!AB7","v":0},{"$f":"Game!AC7","v":0},{"$f":"Game!AD7","v":0},{"$f":"Game!AE7","v":0},{"$f":"Game!AG7","v":0},{"$f":"Game!AH7","v":0},{"$f":"Game!AI7","v":0},{"$f":"Game!AJ7","v":0},{"$f":"Game!AL7","v":0},{"$f":"Game!AM7","v":0},{"$f":"Game!AN7","v":0},{"$f":"Game!AO7","v":0},{"$f":"Game!AQ7","v":0},{"$f":"Game!AR7","v":0},null,0,0,{"$f":"IF(AND(OR($C7=\"h\",$C7=\"2b\", $C7=\"3b\", $C7=\"hr\", $C5=\"hrb\",$C5=\"h2rb\",$C5=\"h3rb\",$C5=\"2brb\",$C5=\"2b2rb\",$C5=\"2b3rb\",$C5=\"3brb\",$C5=\"3b2rb\",$C5=\"3b3rb\",$C5=\"hr2\",$C5=\"hr3\",$C5=\"gs\"),$D7=3),1,0)","v":0},{"$f":"IF(AND(OR($C7=\"h\",$C7=\"2b\", $C7=\"3b\", $C7=\"hr\", $C5=\"hrb\",$C5=\"h2rb\",$C5=\"h3rb\",$C5=\"2brb\",$C5=\"2b2rb\",$C5=\"2b3rb\",$C5=\"3brb\",$C5=\"3b2rb\",$C5=\"3b3rb\",$C5=\"hr2\",$C5=\"hr3\",$C5=\"gs\"),$D7=4),1,0)","v":0},{"$f":"IF(AND(OR($C7=\"h\",$C7=\"2b\", $C7=\"3b\", $C7=\"hr\", $C5=\"hrb\",$C5=\"h2rb\",$C5=\"h3rb\",$C5=\"2brb\",$C5=\"2b2rb\",$C5=\"2b3rb\",$C5=\"3brb\",$C5=\"3b2rb\",$C5=\"3b3rb\",$C5=\"hr2\",$C5=\"hr3\",$C5=\"gs\"),$D7=5),1,0)","v":0},{"$f":"IF(AND(OR($C7=\"h\",$C7=\"2b\", $C7=\"3b\", $C7=\"hr\", $C5=\"hrb\",$C5=\"h2rb\",$C5=\"h3rb\",$C5=\"2brb\",$C5=\"2b2rb\",$C5=\"2b3rb\",$C5=\"3brb\",$C5=\"3b2rb\",$C5=\"3b3rb\",$C5=\"hr2\",$C5=\"hr3\",$C5=\"gs\"),$D7=6),1,0)","v":0},0,0,0,0,0,0,0,0,0,0,0,0,0,0,0,0,0,0,0,0,0,0,0,0,{"$f":"IF(AND(OR($W7=\"h\",$W7=\"2b\", $W7=\"3b\", $W7=\"hr\", $W7=\"hrb\",$W7=\"h2rb\",$W7=\"h3rb\",$W7=\"2brb\",$W7=\"2b2rb\",$W7=\"2b3rb\",$W7=\"3brb\",$W7=\"3b2rb\",$W7=\"3b3rb\",$W7=\"hr2\",$W7=\"hr3\",$W7=\"gs\"),$X7=1),1,0)","v":0},0,{"$f":"IF(AND(OR($W7=\"h\",$W7=\"2b\", $W7=\"3b\", $W7=\"hr\", $W7=\"hrb\",$W7=\"h2rb\",$W7=\"h3rb\",$W7=\"2brb\",$W7=\"2b2rb\",$W7=\"2b3rb\",$W7=\"3brb\",$W7=\"3b2rb\",$W7=\"3b3rb\",$W7=\"hr2\",$W7=\"hr3\",$W7=\"gs\"),$X7=3),1,0)","v":0},0,0,0,0,0,0,0,0,0,0,0,0,0,0,0,0,0,0,0,0,0,0,0,0,0,0,0,0,0,0,0,0,0,0,0,0,0,0,0,0,0,0,0,0,0,0,0,0,0,0,0,0,0,0,0,0,0,0,0,0,0,0,0,0,0,0,0,0,0,0,0,0,0,0,0,0,0,0,0,0,0,0,0,0,0,0,0,0,0,0,0,0,0,0,0,0,0,0,0,0,0,0,0,0,0,0,0,0,0,0,0,0,0,0,0,0,0,0,0,0,0,0,0,0,0,0,0,0,0,0,0,0,0,0,0,0,0,0,0,0,0,0,0,0,0,0,0,0,0,0,0,0,0,0,0,0,0,0,0,0,0,0,0,0,0,0,0,0,0,0,0,0,0,0,0,0,0,0,0,0,0,0,0,0,0,0,0,0,0,0,0,0,0,0,0,0,0,0,0,0,0,0,0,0,0,0,0,0,0,0,0,0,0,0,0,0,0,0,0,0,0,0,0,0,0,0,0,0,0,0,0,0,0,0,0,0,0,0,0,0,0,0,0,0,0,0,0,0,0,0,0,0,0,0,0,0,0,0,0,0,0,0,0,0,0,0,0,0,0,0,0,0,0,0,0,0,0,0,0,0,0,0,0,0,0,0,0,0,0,0,0,0,0,0,0,0,0,0,0,0,0,0,0,null,{"$f":"(Home!J22+Home!K22+NF7)/3","v":0},{"$f":"(NI19+NO19+NU19+OA19+OG19+OM19+OZ19+PF19+PL19+PR19+PX19+QD19+QJ19)","v":0},0,0,0,0,0,0,0,0,0,0,0,0,0,0,0,0,0,0,0,0,0,0,0,0,0,0,0,0,0,0,0,0,0,0,0,0,0,0,0,0,0,0,null,0,0,0,0,0,0,0,0,0,0,0,0,0,0,0,0,0,0,0,0,0,0,0,0,0,0,0,0,0,0,0,0,0,0,0,0,0,0,0,0,0,0]
[{"$f":"Game!C8","v":0},{"$f":"Game!E8","v":0},{"$f":"Game!J8","v":0},{"$f":"Game!K8","v":0},{"$f":"Game!M8","v":0},{"$f":"Game!N8","v":0},{"$f":"Game!O8","v":0},{"$f":"Game!P8","v":0},{"$f":"Game!R8","v":0},{"$f":"Game!S8","v":0},{"$f":"Game!T8","v":0},{"$f":"Game!U8","v":0},{"$f":"Game!W8","v":0},{"$f":"Game!X8","v":0},{"$f":"Game!Y8","v":0},{"$f":"Game!Z8","v":0},{"$f":"Game!AB8","v":0},{"$f":"Game!AC8","v":0},{"$f":"Game!AD8","v":0},{"$f":"Game!AE8","v":0},{"$f":"Game!AG8","v":0},{"$f":"Game!AH8","v":0},{"$f":"Game!AI8","v":0},{"$f":"Game!AJ8","v":0},{"$f":"Game!AL8","v":0},{"$f":"Game!AM8","v":0},{"$f":"Game!AN8","v":0},{"$f":"Game!AO8","v":0},{"$f":"Game!AQ8","v":0},{"$f":"Game!AR8","v":0},null,0,0,{"$f":"IF(AND(OR($C8=\"h\",$C8=\"2b\", $C8=\"3b\", $C8=\"hr\", $C5=\"hrb\",$C5=\"h2rb\",$C5=\"h3rb\",$C5=\"2brb\",$C5=\"2b2rb\",$C5=\"2b3rb\",$C5=\"3brb\",$C5=\"3b2rb\",$C5=\"3b3rb\",$C5=\"hr2\",$C5=\"hr3\",$C5=\"gs\"),$D8=3),1,0)","v":0},{"$f":"IF(AND(OR($C8=\"h\",$C8=\"2b\", $C8=\"3b\", $C8=\"hr\", $C5=\"hrb\",$C5=\"h2rb\",$C5=\"h3rb\",$C5=\"2brb\",$C5=\"2b2rb\",$C5=\"2b3rb\",$C5=\"3brb\",$C5=\"3b2rb\",$C5=\"3b3rb\",$C5=\"hr2\",$C5=\"hr3\",$C5=\"gs\"),$D8=4),1,0)","v":0},{"$f":"IF(AND(OR($C8=\"h\",$C8=\"2b\", $C8=\"3b\", $C8=\"hr\", $C5=\"hrb\",$C5=\"h2rb\",$C5=\"h3rb\",$C5=\"2brb\",$C5=\"2b2rb\",$C5=\"2b3rb\",$C5=\"3brb\",$C5=\"3b2rb\",$C5=\"3b3rb\",$C5=\"hr2\",$C5=\"hr3\",$C5=\"gs\"),$D8=5),1,0)","v":0},{"$f":"IF(AND(OR($C8=\"h\",$C8=\"2b\", $C8=\"3b\", $C8=\"hr\", $C5=\"hrb\",$C5=\"h2rb\",$C5=\"h3rb\",$C5=\"2brb\",$C5=\"2b2rb\",$C5=\"2b3rb\",$C5=\"3brb\",$C5=\"3b2rb\",$C5=\"3b3rb\",$C5=\"hr2\",$C5=\"hr3\",$C5=\"gs\"),$D8=6),1,0)","v":0},0,0,0,0,0,0,0,0,0,0,0,0,0,0,0,0,0,0,0,0,0,0,0,0,{"$f":"IF(AND(OR($W8=\"h\",$W8=\"2b\", $W8=\"3b\", $W8=\"hr\", $W8=\"hrb\",$W8=\"h2rb\",$W8=\"h3rb\",$W8=\"2brb\",$W8=\"2b2rb\",$W8=\"2b3rb\",$W8=\"3brb\",$W8=\"3b2rb\",$W8=\"3b3rb\",$W8=\"hr2\",$W8=\"hr3\",$W8=\"gs\"),$X8=1),1,0)","v":0},0,0,0,0,0,0,0,0,0,0,0,0,0,0,0,0,0,0,0,0,0,0,0,0,0,0,0,0,0,0,0,0,0,0,0,0,0,0,0,0,0,0,0,0,0,0,0,0,0,0,0,0,0,0,0,0,0,0,0,0,0,0,0,0,0,0,0,0,0,0,0,0,0,0,0,0,0,0,0,0,0,0,0,0,0,0,0,0,0,0,0,0,0,0,0,0,0,0,0,0,0,0,0,0,0,0,0,0,0,0,0,0,0,0,0,0,0,0,0,0,0,0,0,0,0,0,0,0,0,0,0,0,0,0,0,0,0,0,0,0,0,0,0,0,0,0,0,0,0,0,0,0,0,0,0,0,0,0,0,0,0,0,0,0,0,0,0,0,0,0,0,0,0,0,0,0,0,0,0,0,0,0,0,0,0,0,0,0,0,0,0,0,0,0,0,0,0,0,0,0,0,0,0,0,0,0,0,0,0,0,0,0,0,0,0,0,0,0,0,0,0,0,0,0,0,0,0,0,0,0,0,0,0,0,0,0,0,0,0,0,0,0,0,0,0,0,0,0,0,0,0,0,0,0,0,0,0,0,0,0,0,0,0,0,0,0,0,0,0,0,0,0,0,0,0,0,0,0,0,0,0,0,0,0,0,0,0,0,0,0,0,0,0,0,0,0,0,0,0,0,0,0,0,0,0,null,{"$f":"(Home!J23+Home!K23+NF8)/3","v":0},{"$f":"(NJ19+NP19+NV19+OB19+OH19+ON19+OT19+PA19+PG19+PM19+PS19+PY19+QE19+QK19)","v":0},0,0,0,0,0,0,0,0,0,0,0,0,0,0,0,0,0,0,0,0,0,0,0,0,0,0,0,0,0,0,0,0,0,0,0,0,0,0,0,0,0,0,null,0,0,0,0,0,0,0,0,0,0,0,0,0,0,0,0,0,0,0,0,0,0,0,0,0,0,0,0,0,0,0,0,0,0,0,0,0,0,0,0,0,0]
[{"$f":"Game!C9","v":0},{"$f":"Game!E9","v":0},{"$f":"Game!J9","v":0},{"$f":"Game!K9","v":0},{"$f":"Game!M9","v":0},{"$f":"Game!N9","v":0},{"$f":"Game!O9","v":0},{"$f":"Game!P9","v":0},{"$f":"Game!R9","v":0},{"$f":"Game!S9","v":0},{"$f":"Game!T9","v":0},{"$f":"Game!U9","v":0},{"$f":"Game!W9","v":0},{"$f":"Game!X9","v":0},{"$f":"Game!Y9","v":0},{"$f":"Game!Z9","v":0},{"$f":"Game!AB9","v":0},{"$f":"Game!AC9","v":0},{"$f":"Game!AD9","v":0},{"$f":"Game!AE9","v":0},{"$f":"Game!AG9","v":0},{"$f":"Game!AH9","v":0},{"$f":"Game!AI9","v":0},{"$f":"Game!AJ9","v":0},{"$f":"Game!AL9","v":0},{"$f":"Game!AM9","v":0},{"$f":"Game!AN9","v":0},{"$f":"Game!AO9","v":0},{"$f":"Game!AQ9","v":0},{"$f":"Game!AR9","v":0},null,0,0,{"$f":"IF(AND(OR($C9=\"h\",$C9=\"2b\", $C9=\"3b\", $C9=\"hr\", $C5=\"hrb\",$C5=\"h2rb\",$C5=\"h3rb\",$C5=\"2brb\",$C5=\"2b2rb\",$C5=\"2b3rb\",$C5=\"3brb\",$C5=\"3b2rb\",$C5=\"3b3rb\",$C5=\"hr2\",$C5=\"hr3\",$C5=\"gs\"),$D9=3),1,0)","v":0},{"$f":"IF(AND(OR($C9=\"h\",$C9=\"2b\", $C9=\"3b\", $C9=\"hr\", $C5=\"hrb\",$C5=\"h2rb\",$C5=\"h3rb\",$C5=\"2brb\",$C5=\"2b2rb\",$C5=\"2b3rb\",$C5=\"3brb\",$C5=\"3b2rb\",$C5=\"3b3rb\",$C5=\"hr2\",$C5=\"hr3\",$C5=\"gs\"),$D9=4),1,0)","v":0},{"$f":"IF(AND(OR($C9=\"h\",$C9=\"2b\", $C9=\"3b\", $C9=\"hr\", $C5=\"hrb\",$C5=\"h2rb\",$C5=\"h3rb\",$C5=\"2brb\",$C5=\"2b2rb\",$C5=\"2b3rb\",$C5=\"3brb\",$C5=\"3b2rb\",$C5=\"3b3rb\",$C5=\"hr2\",$C5=\"hr3\",$C5=\"gs\"),$D9=5),1,0)","v":0},{"$f":"IF(AND(OR($C9=\"h\",$C9=\"2b\", $C9=\"3b\", $C9=\"hr\", $C5=\"hrb\",$C5=\"h2rb\",$C5=\"h3rb\",$C5=\"2brb\",$C5=\"2b2rb\",$C5=\"2b3rb\",$C5=\"3brb\",$C5=\"3b2rb\",$C5=\"3b3rb\",$C5=\"hr2\",$C5=\"hr3\",$C5=\"gs\"),$D9=6),1,0)","v":0},0,0,0,0,0,0,0,0,0,0,0,0,0,0,0,0,0,0,0,0,0,0,0,0,0,0,0,0,0,0,{"$f":"IF(AND(OR($AA9=\"h\",$AA9=\"2b\", $AA9=\"3b\", $AA9=\"hr\", $AA9=\"hrb\",$AA9=\"h2rb\",$AA9=\"h3rb\",$AA9=\"2brb\",$AA9=\"2b2rb\",$AA9=\"2b3rb\",$AA9=\"3brb\",$AA9=\"3b2rb\",$AA9=\"3b3rb\",$AA9=\"hr2\",$AA9=\"hr3\",$AA9=\"gs\"),$AB9=1),1,0)","v":0},0,0,0,0,0,0,0,0,0,0,0,0,0,0,0,0,0,0,0,0,0,0,0,0,0,0,0,0,0,0,0,0,0,0,0,0,0,0,0,0,0,0,0,0,0,0,0,0,0,0,0,0,0,0,0,0,0,0,0,0,0,0,0,0,0,0,0,0,0,0,0,0,0,0,0,0,0,0,0,0,0,0,0,0,0,0,0,0,0,0,0,0,0,0,0,0,0,0,0,0,0,0,0,0,0,0,0,0,0,0,0,0,0,0,0,0,0,0,0,0,0,0,0,0,0,0,0,0,0,0,0,0,0,0,0,0,0,0,0,0,0,0,0,0,0,0,0,0,0,0,0,0,0,0,0,0,0,0,0,0,0,0,0,0,0,0,0,0,0,0,0,0,0,0,0,0,0,0,0,0,0,0,0,0,0,0,0,0,0,0,0,0,0,0,0,0,0,0,0,0,0,0,0,0,0,0,0,0,0,0,0,0,0,0,0,0,0,0,0,0,0,0,0,0,0,0,0,0,0,0,0,0,0,0,0,0,0,0,0,0,0,0,0,0,0,0,0,0,0,0,0,0,0,0,0,0,0,0,0,0,0,0,0,0,0,0,0,0,0,0,0,0,0,0,0,0,0,0,0,0,0,0,0,0,0,0,0,0,0,0,0,0,0,0,0,0,0,0,0,null,{"$f":"(Home!J24+Home!K24+NF9)/3","v":0},{"$f":"(NK19+NQ19+NW19+OC19+OI19+OO19+OU19+PB19+PH19+PN19+PZ19+QF19+QL19)","v":0},0,0,0,0,0,0,0,0,0,0,0,0,0,0,0,0,0,0,0,0,0,0,0,0,0,0,0,0,0,0,0,0,0,0,0,0,0,0,0,0,0,0,null,0,0,0,0,0,0,0,0,0,0,0,0,0,0,0,0,0,0,0,0,0,0,0,0,0,0,0,0,0,0,0,0,0,0,0,0,0,0,0,0,0,0]
[{"$f":"Game!C10","v":0},{"$f":"Game!E10","v":0},{"$f":"Game!J10","v":0},{"$f":"Game!K10","v":0},{"$f":"Game!M10","v":0},{"$f":"Game!N10","v":0},{"$f":"Game!O10","v":0},{"$f":"Game!P10","v":0},{"$f":"Game!R10","v":0},{"$f":"Game!S10","v":0},{"$f":"Game!T10","v":0},{"$f":"Game!U10","v":0},{"$f":"Game!W10","v":0},{"$f":"Game!X10","v":0},{"$f":"Game!Y10","v":0},{"$f":"Game!Z10","v":0},{"$f":"Game!AB10","v":0},{"$f":"Game!AC10","v":0},{"$f":"Game!AD10","v":0},{"$f":"Game!AE10","v":0},{"$f":"Game!AG10","v":0},{"$f":"Game!AH10","v":0},{"$f":"Game!AI10","v":0},{"$f":"Game!AJ10","v":0},{"$f":"Game!AL10","v":0},{"$f":"Game!AM10","v":0},{"$f":"Game!AN10","v":0},{"$f":"Game!AO10","v":0},{"$f":"Game!AQ10","v":0},{"$f":"Game!AR10","v":0},null,0,0,{"$f":"IF(AND(OR($C10=\"h\",$C10=\"2b\", $C10=\"3b\", $C10=\"hr\", $C5=\"hrb\",$C5=\"h2rb\",$C5=\"h3rb\",$C5=\"2brb\",$C5=\"2b2rb\",$C5=\"2b3rb\",$C5=\"3brb\",$C5=\"3b2rb\",$C5=\"3b3rb\",$C5=\"hr2\",$C5=\"hr3\",$C5=\"gs\"),$D10=3),1,0)","v":0},{"$f":"IF(AND(OR($C10=\"h\",$C10=\"2b\", $C10=\"3b\", $C10=\"hr\", $C5=\"hrb\",$C5=\"h2rb\",$C5=\"h3rb\",$C5=\"2brb\",$C5=\"2b2rb\",$C5=\"2b3rb\",$C5=\"3brb\",$C5=\"3b2rb\",$C5=\"3b3rb\",$C5=\"hr2\",$C5=\"hr3\",$C5=\"gs\"),$D10=4),1,0)","v":0},{"$f":"IF(AND(OR($C10=\"h\",$C10=\"2b\", $C10=\"3b\", $C10=\"hr\", $C5=\"hrb\",$C5=\"h2rb\",$C5=\"h3rb\",$C5=\"2brb\",$C5=\"2b2rb\",$C5=\"2b3rb\",$C5=\"3brb\",$C5=\"3b2rb\",$C5=\"3b3rb\",$C5=\"hr2\",$C5=\"hr3\",$C5=\"gs\"),$D10=5),1,0)","v":0},{"$f":"IF(AND(OR($C10=\"h\",$C10=\"2b\", $C10=\"3b\", $C10=\"hr\", $C5=\"hrb\",$C5=\"h2rb\",$C5=\"h3rb\",$C5=\"2brb\",$C5=\"2b2rb\",$C5=\"2b3rb\",$C5=\"3brb\",$C5=\"3b2rb\",$C5=\"3b3rb\",$C5=\"hr2\",$C5=\"hr3\",$C5=\"gs\"),$D10=6),1,0)","v":0},0,0,0,0,0,0,0,{"$f":"IF(AND(OR($K10=\"h\",$K10=\"2b\", $K10=\"3b\", $K10=\"hr\", $K10=\"hrb\",$K10=\"h2rb\",$K10=\"h3rb\",$K10=\"2brb\",$K10=\"2b2rb\",$K10=\"2b3rb\",$K10=\"3brb\",$K10=\"3b2rb\",$K10=\"3b3rb\",$K10=\"hr2\",$K10=\"hr3\",$K10=\"gs\"),$L10=2),1,0)","v":0},0,0,0,0,0,0,0,0,0,0,0,0,0,0,0,0,0,0,0,0,0,0,0,0,0,0,0,0,0,0,0,0,0,0,0,0,0,0,0,0,0,0,0,0,0,0,0,0,0,0,0,0,0,0,0,0,0,0,0,0,0,0,0,0,0,0,0,0,0,0,0,0,0,0,0,0,0,0,0,0,0,0,0,0,0,0,0,0,0,0,0,0,0,0,0,0,0,0,0,0,0,0,0,0,0,0,0,0,0,0,0,0,0,0,0,0,0,0,0,0,0,0,0,0,0,0,0,0,0,0,0,0,0,0,0,0,0,0,0,0,0,0,0,0,0,0,0,0,0,0,0,0,0,0,0,0,0,0,0,0,0,0,0,0,0,0,0,0,0,0,0,0,0,0,0,0,0,0,0,0,0,0,0,0,0,0,0,0,0,0,0,0,0,0,0,0,0,0,0,0,0,0,0,0,0,0,0,0,0,0,0,0,0,0,0,0,0,0,0,0,0,0,0,0,0,0,0,0,0,0,0,0,0,0,0,0,0,0,0,0,0,0,0,0,0,0,0,0,0,0,0,0,0,0,0,0,0,0,0,0,0,0,0,0,0,0,0,0,0,0,0,0,0,0,0,0,0,0,0,0,0,0,0,0,0,0,0,0,0,0,0,0,0,0,0,0,0,0,0,0,0,0,0,0,0,0,0,0,0,0,0,0,0,0,0,0,0,0,0,0,0,0,null,{"$f":"(Home!J25+Home!K25+NF10)/3","v":0},{"$f":"(NL19+NR19+NX19+OD19+OJ19+OP19+PC19+PI19+PO19+PU19+QA19+QG19+QM19)","v":0},0,0,0,0,0,0,0,0,0,0,0,0,0,0,0,0,0,0,0,0,0,0,0,0,0,0,0,0,0,0,0,0,0,0,0,0,0,0,0,0,0,0,null,0,0,0,0,0,0,0,0,0,0,0,0,0,0,0,0,0,0,0,0,0,0,0,0,0,0,0,0,0,0,0,0,0,0,0,0,0,0,0,0,0,0]
[{"$f":"Game!C11","v":0},{"$f":"Game!E11","v":0},{"$f":"Game!J11","v":0},{"$f":"Game!K11","v":0},{"$f":"Game!M11","v":0},{"$f":"Game!N11","v":0},{"$f":"Game!O11","v":0},{"$f":"Game!P11","v":0},{"$f":"Game!R11","v":0},{"$f":"Game!S11","v":0},{"$f":"Game!T11","v":0},{"$f":"Game!U11","v":0},{"$f":"Game!W11","v":0},{"$f":"Game!X11","v":0},{"$f":"Game!Y11","v":0},{"$f":"Game!Z11","v":0},{"$f":"Game!AB11","v":0},{"$f":"Game!AC11","v":0},{"$f":"Game!AD11","v":0},{"$f":"Game!AE11","v":0},{"$f":"Game!AG11","v":0},{"$f":"Game!AH11","v":0},{"$f":"Game!AI11","v":0},{"$f":"Game!AJ11","v":0},{"$f":"Game!AL11","v":0},{"$f":"Game!AM11","v":0},{"$f":"Game!AN11","v":0},{"$f":"Game!AO11","v":0},{"$f":"Game!AQ11","v":0},{"$f":"Game!AR11","v":0},null,0,0,{"$f":"IF(AND(OR($C11=\"h\",$C11=\"2b\", $C11=\"3b\", $C11=\"hr\", $C5=\"hrb\",$C5=\"h2rb\",$C5=\"h3rb\",$C5=\"2brb\",$C5=\"2b2rb\",$C5=\"2b3rb\",$C5=\"3brb\",$C5=\"3b2rb\",$C5=\"3b3rb\",$C5=\"hr2\",$C5=\"hr3\",$C5=\"gs\"),$D11=3),1,0)","v":0},{"$f":"IF(AND(OR($C11=\"h\",$C11=\"2b\", $C11=\"3b\", $C11=\"hr\", $C5=\"hrb\",$C5=\"h2rb\",$C5=\"h3rb\",$C5=\"2brb\",$C5=\"2b2rb\",$C5=\"2b3rb\",$C5=\"3brb\",$C5=\"3b2rb\",$C5=\"3b3rb\",$C5=\"hr2\",$C5=\"hr3\",$C5=\"gs\"),$D11=4),1,0)","v":0},{"$f":"IF(AND(OR($C11=\"h\",$C11=\"2b\", $C11=\"3b\", $C11=\"hr\", $C5=\"hrb\",$C5=\"h2rb\",$C5=\"h3rb\",$C5=\"2brb\",$C5=\"2b2rb\",$C5=\"2b3rb\",$C5=\"3brb\",$C5=\"3b2rb\",$C5=\"3b3rb\",$C5=\"hr2\",$C5=\"hr3\",$C5=\"gs\"),$D11=5),1,0)","v":0},{"$f":"IF(AND(OR($C11=\"h\",$C11=\"2b\", $C11=\"3b\", $C11=\"hr\", $C5=\"hrb\",$C5=\"h2rb\",$C5=\"h3rb\",$C5=\"2brb\",$C5=\"2b2rb\",$C5=\"2b3rb\",$C5=\"3brb\",$C5=\"3b2rb\",$C5=\"3b3rb\",$C5=\"hr2\",$C5=\"hr3\",$C5=\"gs\"),$D11=6),1,0)","v":0},0,0,0,0,0,0,0,0,0,0,0,0,0,0,0,0,0,0,0,0,0,0,0,0,0,0,0,0,0,0,0,0,0,0,0,0,0,0,0,0,0,0,0,0,0,0,0,0,0,0,0,0,0,0,0,0,0,0,0,0,0,0,0,0,0,0,0,0,0,0,0,0,0,0,0,0,0,0,0,0,0,0,0,0,0,0,0,0,0,0,0,0,0,0,0,0,0,0,0,0,0,0,0,0,0,0,0,0,0,0,0,0,0,0,0,0,0,0,0,0,0,0,0,0,0,0,0,0,0,0,0,0,0,0,0,0,0,0,0,0,0,0,0,0,0,0,0,0,0,0,0,0,0,0,0,0,0,0,0,0,0,0,0,0,0,0,0,0,0,0,0,0,0,0,0,0,0,0,0,0,0,0,0,0,0,0,0,0,0,0,0,0,0,0,0,0,0,0,0,0,0,0,0,0,0,0,0,0,0,0,0,0,0,0,0,0,0,0,0,0,0,0,0,0,0,0,0,0,0,0,0,0,0,0,0,0,0,0,0,0,0,0,0,0,0,0,0,0,0,0,0,0,0,0,0,0,0,0,0,0,0,0,0,0,0,0,0,0,0,0,0,0,0,0,0,0,0,0,0,0,0,0,0,0,0,0,0,0,0,0,0,0,0,0,0,0,0,0,0,0,0,0,0,0,0,0,0,0,0,0,0,0,0,0,0,0,0,0,0,0,0,0,0,0,0,0,0,0,0,0,{"$nulls":3},0,0,0,0,0,0,0,0,0,0,0,0,0,0,0,0,0,0,0,0,0,0,0,0,0,0,0,0,0,0,0,0,0,0,0,0,0,0,0,0,0,0,null,0,0,0,0,0,0,0,0,0,0,0,0,0,0,0,0,0,0,0,0,0,0,0,0,0,0,0,0,0,0,0,0,0,0,0,0,0,0,0,0,0,0]
[{"$f":"Game!C12","v":0},{"$f":"Game!E12","v":0},{"$f":"Game!J12","v":0},{"$f":"Game!K12","v":0},{"$f":"Game!M12","v":0},{"$f":"Game!N12","v":0},{"$f":"Game!O12","v":0},{"$f":"Game!P12","v":0},{"$f":"Game!R12","v":0},{"$f":"Game!S12","v":0},{"$f":"Game!T12","v":0},{"$f":"Game!U12","v":0},{"$f":"Game!W12","v":0},{"$f":"Game!X12","v":0},{"$f":"Game!Y12","v":0},{"$f":"Game!Z12","v":0},{"$f":"Game!AB12","v":0},{"$f":"Game!AC12","v":0},{"$f":"Game!AD12","v":0},{"$f":"Game!AE12","v":0},{"$f":"Game!AG12","v":0},{"$f":"Game!AH12","v":0},{"$f":"Game!AI12","v":0},{"$f":"Game!AJ12","v":0},{"$f":"Game!AL12","v":0},{"$f":"Game!AM12","v":0},{"$f":"Game!AN12","v":0},{"$f":"Game!AO12","v":0},{"$f":"Game!AQ12","v":0},{"$f":"Game!AR12","v":0},null,0,0,{"$f":"IF(AND(OR($C12=\"h\",$C12=\"2b\", $C12=\"3b\", $C12=\"hr\", $C5=\"hrb\",$C5=\"h2rb\",$C5=\"h3rb\",$C5=\"2brb\",$C5=\"2b2rb\",$C5=\"2b3rb\",$C5=\"3brb\",$C5=\"3b2rb\",$C5=\"3b3rb\",$C5=\"hr2\",$C5=\"hr3\",$C5=\"gs\"),$D12=3),1,0)","v":0},{"$f":"IF(AND(OR($C12=\"h\",$C12=\"2b\", $C12=\"3b\", $C12=\"hr\", $C5=\"hrb\",$C5=\"h2rb\",$C5=\"h3rb\",$C5=\"2brb\",$C5=\"2b2rb\",$C5=\"2b3rb\",$C5=\"3brb\",$C5=\"3b2rb\",$C5=\"3b3rb\",$C5=\"hr2\",$C5=\"hr3\",$C5=\"gs\"),$D12=4),1,0)","v":0},{"$f":"IF(AND(OR($C12=\"h\",$C12=\"2b\", $C12=\"3b\", $C12=\"hr\", $C5=\"hrb\",$C5=\"h2rb\",$C5=\"h3rb\",$C5=\"2brb\",$C5=\"2b2rb\",$C5=\"2b3rb\",$C5=\"3brb\",$C5=\"3b2rb\",$C5=\"3b3rb\",$C5=\"hr2\",$C5=\"hr3\",$C5=\"gs\"),$D12=5),1,0)","v":0},{"$f":"IF(AND(OR($C12=\"h\",$C12=\"2b\", $C12=\"3b\", $C12=\"hr\", $C5=\"hrb\",$C5=\"h2rb\",$C5=\"h3rb\",$C5=\"2brb\",$C5=\"2b2rb\",$C5=\"2b3rb\",$C5=\"3brb\",$C5=\"3b2rb\",$C5=\"3b3rb\",$C5=\"hr2\",$C5=\"hr3\",$C5=\"gs\"),$D12=6),1,0)","v":0},0,0,0,0,0,0,0,0,0,0,0,0,0,0,0,0,0,0,0,0,0,0,0,0,0,0,0,0,0,0,0,0,0,0,0,0,0,0,0,0,0,0,0,0,0,0,0,0,0,0,0,0,0,0,0,0,0,0,0,0,0,0,0,0,0,0,0,0,0,0,0,0,0,0,0,0,0,0,0,0,0,0,0,0,0,0,0,0,0,0,0,0,0,0,0,0,0,0,0,0,0,0,0,0,0,0,0,0,0,0,0,0,0,0,0,0,0,0,0,0,0,0,0,0,0,0,0,0,0,0,0,0,0,0,0,0,0,0,0,0,0,0,0,0,0,0,0,0,0,0,0,0,0,0,0,0,0,0,0,0,0,0,0,0,0,0,0,0,0,0,0,0,0,0,0,0,0,0,0,0,0,0,0,0,0,0,0,0,0,0,0,0,0,0,0,0,0,0,0,0,0,0,0,0,0,0,0,0,0,0,0,0,0,0,0,0,0,0,0,0,0,0,0,0,0,0,0,0,0,0,0,0,0,0,0,0,0,0,0,0,0,0,0,0,0,0,0,0,0,0,0,0,0,0,0,0,0,0,0,0,0,0,0,0,0,0,0,0,0,0,0,0,0,0,0,0,0,0,0,0,0,0,0,0,0,0,0,0,0,0,0,0,0,0,0,0,0,0,0,0,0,0,0,0,0,0,0,0,0,0,0,0,0,0,0,0,0,0,0,0,0,0,0,0,0,0,0,0,0,0,{"$nulls":3},0,0,0,0,0,0,0,0,0,0,0,0,0,0,0,0,0,0,0,0,0,0,0,0,0,0,0,0,0,0,0,0,0,0,0,0,0,0,0,0,0,0,null,0,0,0,0,0,0,0,0,0,0,0,0,0,0,0,0,0,0,0,0,0,0,0,0,0,0,0,0,0,0,0,0,0,0,0,0,0,0,0,0,0,0]
[{"$f":"Game!C13","v":0},{"$f":"Game!E13","v":0},{"$f":"Game!J13","v":0},{"$f":"Game!K13","v":0},{"$f":"Game!M13","v":0},{"$f":"Game!N13","v":0},{"$f":"Game!O13","v":0},{"$f":"Game!P13","v":0},{"$f":"Game!R13","v":0},{"$f":"Game!S13","v":0},{"$f":"Game!T13","v":0},{"$f":"Game!U13","v":0},{"$f":"Game!W13","v":0},{"$f":"Game!X13","v":0},{"$f":"Game!Y13","v":0},{"$f":"Game!Z13","v":0},{"$f":"Game!AB13","v":0},{"$f":"Game!AC13","v":0},{"$f":"Game!AD13","v":0},{"$f":"Game!AE13","v":0},{"$f":"Game!AG13","v":0},{"$f":"Game!AH13","v":0},{"$f":"Game!AI13","v":0},{"$f":"Game!AJ13","v":0},{"$f":"Game!AL13","v":0},{"$f":"Game!AM13","v":0},{"$f":"Game!AN13","v":0},{"$f":"Game!AO13","v":0},{"$f":"Game!AQ13","v":0},{"$f":"Game!AR13","v":0},null,0,0,{"$f":"IF(AND(OR($C13=\"h\",$C13=\"2b\", $C13=\"3b\", $C13=\"hr\", $C5=\"hrb\",$C5=\"h2rb\",$C5=\"h3rb\",$C5=\"2brb\",$C5=\"2b2rb\",$C5=\"2b3rb\",$C5=\"3brb\",$C5=\"3b2rb\",$C5=\"3b3rb\",$C5=\"hr2\",$C5=\"hr3\",$C5=\"gs\"),$D13=3),1,0)","v":0},{"$f":"IF(AND(OR($C13=\"h\",$C13=\"2b\", $C13=\"3b\", $C13=\"hr\", $C5=\"hrb\",$C5=\"h2rb\",$C5=\"h3rb\",$C5=\"2brb\",$C5=\"2b2rb\",$C5=\"2b3rb\",$C5=\"3brb\",$C5=\"3b2rb\",$C5=\"3b3rb\",$C5=\"hr2\",$C5=\"hr3\",$C5=\"gs\"),$D13=4),1,0)","v":0},{"$f":"IF(AND(OR($C13=\"h\",$C13=\"2b\", $C13=\"3b\", $C13=\"hr\", $C5=\"hrb\",$C5=\"h2rb\",$C5=\"h3rb\",$C5=\"2brb\",$C5=\"2b2rb\",$C5=\"2b3rb\",$C5=\"3brb\",$C5=\"3b2rb\",$C5=\"3b3rb\",$C5=\"hr2\",$C5=\"hr3\",$C5=\"gs\"),$D13=5),1,0)","v":0},{"$f":"IF(AND(OR($C13=\"h\",$C13=\"2b\", $C13=\"3b\", $C13=\"hr\", $C5=\"hrb\",$C5=\"h2rb\",$C5=\"h3rb\",$C5=\"2brb\",$C5=\"2b2rb\",$C5=\"2b3rb\",$C5=\"3brb\",$C5=\"3b2rb\",$C5=\"3b3rb\",$C5=\"hr2\",$C5=\"hr3\",$C5=\"gs\"),$D13=6),1,0)","v":0},{"$f":"IF(AND(OR($G13=\"h\",$G13=\"2b\", $G13=\"3b\", $G13=\"hr\", $G13=\"hrb\",$G13=\"h2rb\",$G13=\"h3rb\",$G13=\"2brb\",$G13=\"2b2rb\",$G13=\"2b3rb\",$G13=\"3brb\",$G13=\"3b2rb\",$G13=\"3b3rb\",$G13=\"hr2\",$G13=\"hr3\",$G13=\"gs\"),$H13=1),1,0)","v":0},0,0,0,0,0,0,0,0,0,0,0,0,0,0,0,0,0,0,0,0,0,0,0,0,0,0,0,0,0,0,0,0,0,0,0,0,0,0,0,0,0,0,0,0,0,0,0,0,0,0,0,0,0,0,0,0,0,0,0,0,0,0,0,0,0,0,0,0,0,0,0,0,0,0,0,0,0,0,0,0,0,0,0,0,0,0,0,0,0,0,0,0,0,0,0,0,0,0,0,0,0,0,0,0,0,0,0,0,0,0,0,0,0,0,0,0,0,0,0,0,0,0,0,0,0,0,0,0,0,0,0,0,0,0,0,0,0,0,0,0,0,0,0,0,0,0,0,0,0,0,0,0,0,0,0,0,0,0,0,0,0,0,0,0,0,0,0,0,0,0,0,0,0,0,0,0,0,0,0,0,0,0,0,0,0,0,0,0,0,0,0,0,0,0,0,0,0,0,0,0,0,0,0,0,0,0,0,0,0,0,0,0,0,0,0,0,0,0,0,0,0,0,0,0,0,0,0,0,0,0,0,0,0,0,0,0,0,0,0,0,0,0,0,0,0,0,0,0,0,0,0,0,0,0,0,0,0,0,0,0,0,0,0,0,0,0,0,0,0,0,0,0,0,0,0,0,0,0,0,0,0,0,0,0,0,0,0,0,0,0,0,0,0,0,0,0,0,0,0,0,0,0,0,0,0,0,0,0,0,0,0,0,0,0,0,0,0,0,0,0,0,0,0,0,0,0,0,0,0,{"$nulls":3},0,0,0,0,0,0,0,0,0,0,0,0,0,0,0,0,0,0,0,0,0,0,0,0,0,0,0,0,0,0,0,0,0,0,0,0,0,0,0,0,0,0,null,0,0,0,0,0,0,0,0,0,0,0,0,0,0,0,0,0,0,0,0,0,0,0,0,0,0,0,0,0,0,0,0,0,0,0,0,0,0,0,0,0,0]
[{"$f":"Game!C14","v":0},{"$f":"Game!E14","v":0},{"$f":"Game!J14","v":0},{"$f":"Game!K14","v":0},{"$f":"Game!M14","v":0},{"$f":"Game!N14","v":0},{"$f":"Game!O14","v":0},{"$f":"Game!P14","v":0},{"$f":"Game!R14","v":0},{"$f":"Game!S14","v":0},{"$f":"Game!T14","v":0},{"$f":"Game!U14","v":0},{"$f":"Game!W14","v":0},{"$f":"Game!X14","v":0},{"$f":"Game!Y14","v":0},{"$f":"Game!Z14","v":0},{"$f":"Game!AB14","v":0},{"$f":"Game!AC14","v":0},{"$f":"Game!AD14","v":0},{"$f":"Game!AE14","v":0},{"$f":"Game!AG14","v":0},{"$f":"Game!AH14","v":0},{"$f":"Game!AI14","v":0},{"$f":"Game!AJ14","v":0},{"$f":"Game!AL14","v":0},{"$f":"Game!AM14","v":0},{"$f":"Game!AN14","v":0},{"$f":"Game!AO14","v":0},{"$f":"Game!AQ14","v":0},{"$f":"Game!AR14","v":0},null,0,0,{"$f":"IF(AND(OR($C14=\"h\",$C14=\"2b\", $C14=\"3b\", $C14=\"hr\", $C5=\"hrb\",$C5=\"h2rb\",$C5=\"h3rb\",$C5=\"2brb\",$C5=\"2b2rb\",$C5=\"2b3rb\",$C5=\"3brb\",$C5=\"3b2rb\",$C5=\"3b3rb\",$C5=\"hr2\",$C5=\"hr3\",$C5=\"gs\"),$D14=3),1,0)","v":0},{"$f":"IF(AND(OR($C14=\"h\",$C14=\"2b\", $C14=\"3b\", $C14=\"hr\", $C5=\"hrb\",$C5=\"h2rb\",$C5=\"h3rb\",$C5=\"2brb\",$C5=\"2b2rb\",$C5=\"2b3rb\",$C5=\"3brb\",$C5=\"3b2rb\",$C5=\"3b3rb\",$C5=\"hr2\",$C5=\"hr3\",$C5=\"gs\"),$D14=4),1,0)","v":0},{"$f":"IF(AND(OR($C14=\"h\",$C14=\"2b\", $C14=\"3b\", $C14=\"hr\", $C5=\"hrb\",$C5=\"h2rb\",$C5=\"h3rb\",$C5=\"2brb\",$C5=\"2b2rb\",$C5=\"2b3rb\",$C5=\"3brb\",$C5=\"3b2rb\",$C5=\"3b3rb\",$C5=\"hr2\",$C5=\"hr3\",$C5=\"gs\"),$D14=5),1,0)","v":0},{"$f":"IF(AND(OR($C14=\"h\",$C14=\"2b\", $C14=\"3b\", $C14=\"hr\", $C5=\"hrb\",$C5=\"h2rb\",$C5=\"h3rb\",$C5=\"2brb\",$C5=\"2b2rb\",$C5=\"2b3rb\",$C5=\"3brb\",$C5=\"3b2rb\",$C5=\"3b3rb\",$C5=\"hr2\",$C5=\"hr3\",$C5=\"gs\"),$D14=6),1,0)","v":0},0,0,0,0,0,0,0,0,0,0,0,0,0,0,0,0,0,0,0,0,0,0,0,0,0,0,0,0,0,0,0,0,0,0,0,0,0,0,0,0,0,0,0,0,0,0,0,0,0,0,0,0,0,0,0,0,0,0,0,0,0,0,0,0,0,0,0,0,0,0,0,0,0,0,0,0,0,0,0,0,0,0,0,0,0,0,0,0,0,0,0,0,0,0,0,0,0,0,0,0,0,0,0,0,0,0,0,0,0,0,0,0,0,0,0,0,0,0,0,0,0,0,0,0,0,0,0,0,0,0,0,0,0,0,0,0,0,0,0,0,0,0,0,0,0,0,0,0,0,0,0,0,0,0,0,0,0,0,0,0,0,0,0,0,0,0,0,0,0,0,0,0,0,0,0,0,0,0,0,0,0,0,0,0,0,0,0,0,0,0,0,0,0,0,0,0,0,0,0,0,0,0,0,0,0,0,0,0,0,0,0,0,0,0,0,0,0,0,0,0,0,0,0,0,0,0,0,0,0,0,0,0,0,0,0,0,0,0,0,0,0,0,0,0,0,0,0,0,0,0,0,0,0,0,0,0,0,0,0,0,0,0,0,0,0,0,0,0,0,0,0,0,0,0,0,0,0,0,0,0,0,0,0,0,0,0,0,0,0,0,0,0,0,0,0,0,0,0,0,0,0,0,0,0,0,0,0,0,0,0,0,0,0,0,0,0,0,0,0,0,0,0,0,0,0,0,0,0,0,0,{"$nulls":3},0,0,0,0,0,0,0,0,0,0,0,0,0,0,0,0,0,0,0,0,0,0,0,0,0,0,0,0,0,0,0,0,0,0,0,0,0,0,0,0,0,0,null,0,0,0,0,0,0,0,0,0,0,0,0,0,0,0,0,0,0,0,0,0,0,0,0,0,0,0,0,0,0,0,0,0,0,0,0,0,0,0,0,0,0]
[{"$f":"Game!C15","v":0},{"$f":"Game!E15","v":0},{"$f":"Game!J15","v":0},{"$f":"Game!K15","v":0},{"$f":"Game!M15","v":0},{"$f":"Game!N15","v":0},{"$f":"Game!O15","v":0},{"$f":"Game!P15","v":0},{"$f":"Game!R15","v":0},{"$f":"Game!S15","v":0},{"$f":"Game!T15","v":0},{"$f":"Game!U15","v":0},{"$f":"Game!W15","v":0},{"$f":"Game!X15","v":0},{"$f":"Game!Y15","v":0},{"$f":"Game!Z15","v":0},{"$f":"Game!AB15","v":0},{"$f":"Game!AC15","v":0},{"$f":"Game!AD15","v":0},{"$f":"Game!AE15","v":0},{"$f":"Game!AG15","v":0},{"$f":"Game!AH15","v":0},{"$f":"Game!AI15","v":0},{"$f":"Game!AJ15","v":0},{"$f":"Game!AL15","v":0},{"$f":"Game!AM15","v":0},{"$f":"Game!AN15","v":0},{"$f":"Game!AO15","v":0},{"$f":"Game!AQ15","v":0},{"$f":"Game!AR15","v":0},null,0,0,{"$f":"IF(AND(OR($C15=\"h\",$C15=\"2b\", $C15=\"3b\", $C15=\"hr\", $C5=\"hrb\",$C5=\"h2rb\",$C5=\"h3rb\",$C5=\"2brb\",$C5=\"2b2rb\",$C5=\"2b3rb\",$C5=\"3brb\",$C5=\"3b2rb\",$C5=\"3b3rb\",$C5=\"hr2\",$C5=\"hr3\",$C5=\"gs\"),$D15=3),1,0)","v":0},{"$f":"IF(AND(OR($C15=\"h\",$C15=\"2b\", $C15=\"3b\", $C15=\"hr\", $C5=\"hrb\",$C5=\"h2rb\",$C5=\"h3rb\",$C5=\"2brb\",$C5=\"2b2rb\",$C5=\"2b3rb\",$C5=\"3brb\",$C5=\"3b2rb\",$C5=\"3b3rb\",$C5=\"hr2\",$C5=\"hr3\",$C5=\"gs\"),$D15=4),1,0)","v":0},{"$f":"IF(AND(OR($C15=\"h\",$C15=\"2b\", $C15=\"3b\", $C15=\"hr\", $C5=\"hrb\",$C5=\"h2rb\",$C5=\"h3rb\",$C5=\"2brb\",$C5=\"2b2rb\",$C5=\"2b3rb\",$C5=\"3brb\",$C5=\"3b2rb\",$C5=\"3b3rb\",$C5=\"hr2\",$C5=\"hr3\",$C5=\"gs\"),$D15=5),1,0)","v":0},{"$f":"IF(AND(OR($C15=\"h\",$C15=\"2b\", $C15=\"3b\", $C15=\"hr\", $C5=\"hrb\",$C5=\"h2rb\",$C5=\"h3rb\",$C5=\"2brb\",$C5=\"2b2rb\",$C5=\"2b3rb\",$C5=\"3brb\",$C5=\"3b2rb\",$C5=\"3b3rb\",$C5=\"hr2\",$C5=\"hr3\",$C5=\"gs\"),$D15=6),1,0)","v":0},0,0,0,0,0,0,0,0,0,0,0,0,0,0,0,0,0,0,0,0,0,0,0,0,0,0,0,0,0,0,0,0,0,0,0,0,0,0,0,0,0,0,0,0,0,0,0,0,0,0,0,0,0,0,0,0,0,0,0,0,0,0,0,0,0,0,0,0,0,0,0,0,0,0,0,0,0,0,0,0,0,0,0,0,0,0,0,0,0,0,0,0,0,0,0,0,0,0,0,0,0,0,0,0,0,0,0,0,0,0,0,0,0,0,0,0,0,0,0,0,0,0,0,0,0,0,0,0,0,0,0,0,0,0,0,0,0,0,0,0,0,0,0,0,0,0,0,0,0,0,0,0,0,0,0,0,0,0,0,0,0,0,0,0,0,0,0,0,0,0,0,0,0,0,0,0,0,0,0,0,0,0,0,0,0,0,0,0,0,0,0,0,0,0,0,0,0,0,0,0,0,0,0,0,0,0,0,0,0,0,0,0,0,0,0,0,0,0,0,0,0,0,0,0,0,0,0,0,0,0,0,0,0,0,0,0,0,0,0,0,0,0,0,0,0,0,0,0,0,0,0,0,0,0,0,0,0,0,0,0,0,0,0,0,0,0,0,0,0,0,0,0,0,0,0,0,0,0,0,0,0,0,0,0,0,0,0,0,0,0,0,0,0,0,0,0,0,0,0,0,0,0,0,0,0,0,0,0,0,0,0,0,0,0,0,0,0,0,0,0,0,0,0,0,0,0,0,0,0,0,{"$nulls":3},0,0,0,0,0,0,0,0,0,0,0,0,0,0,0,0,0,0,0,0,0,0,0,0,0,0,0,0,0,0,0,0,0,0,0,0,0,0,0,0,0,0,null,0,0,0,0,0,0,0,0,0,0,0,0,0,0,0,0,0,0,0,0,0,0,0,0,0,0,0,0,0,0,0,0,0,0,0,0,0,0,0,0,0,0]
[{"$f":"Game!C16","v":0},{"$f":"Game!E16","v":0},{"$f":"Game!J16","v":0},{"$f":"Game!K16","v":0},{"$f":"Game!M16","v":0},{"$f":"Game!N16","v":0},{"$f":"Game!O16","v":0},{"$f":"Game!P16","v":0},{"$f":"Game!R16","v":0},{"$f":"Game!S16","v":0},{"$f":"Game!T16","v":0},{"$f":"Game!U16","v":0},{"$f":"Game!W16","v":0},{"$f":"Game!X16","v":0},{"$f":"Game!Y16","v":0},{"$f":"Game!Z16","v":0},{"$f":"Game!AB16","v":0},{"$f":"Game!AC16","v":0},{"$f":"Game!AD16","v":0},{"$f":"Game!AE16","v":0},{"$f":"Game!AG16","v":0},{"$f":"Game!AH16","v":0},{"$f":"Game!AI16","v":0},{"$f":"Game!AJ16","v":0},{"$f":"Game!AL16","v":0},{"$f":"Game!AM16","v":0},{"$f":"Game!AN16","v":0},{"$f":"Game!AO16","v":0},{"$f":"Game!AQ16","v":0},{"$f":"Game!AR16","v":0},null,0,0,{"$f":"IF(AND(OR($C16=\"h\",$C16=\"2b\", $C16=\"3b\", $C16=\"hr\", $C5=\"hrb\",$C5=\"h2rb\",$C5=\"h3rb\",$C5=\"2brb\",$C5=\"2b2rb\",$C5=\"2b3rb\",$C5=\"3brb\",$C5=\"3b2rb\",$C5=\"3b3rb\",$C5=\"hr2\",$C5=\"hr3\",$C5=\"gs\"),$D16=3),1,0)","v":0},{"$f":"IF(AND(OR($C16=\"h\",$C16=\"2b\", $C16=\"3b\", $C16=\"hr\", $C5=\"hrb\",$C5=\"h2rb\",$C5=\"h3rb\",$C5=\"2brb\",$C5=\"2b2rb\",$C5=\"2b3rb\",$C5=\"3brb\",$C5=\"3b2rb\",$C5=\"3b3rb\",$C5=\"hr2\",$C5=\"hr3\",$C5=\"gs\"),$D16=4),1,0)","v":0},{"$f":"IF(AND(OR($C16=\"h\",$C16=\"2b\", $C16=\"3b\", $C16=\"hr\", $C5=\"hrb\",$C5=\"h2rb\",$C5=\"h3rb\",$C5=\"2brb\",$C5=\"2b2rb\",$C5=\"2b3rb\",$C5=\"3brb\",$C5=\"3b2rb\",$C5=\"3b3rb\",$C5=\"hr2\",$C5=\"hr3\",$C5=\"gs\"),$D16=5),1,0)","v":0},{"$f":"IF(AND(OR($C16=\"h\",$C16=\"2b\", $C16=\"3b\", $C16=\"hr\", $C5=\"hrb\",$C5=\"h2rb\",$C5=\"h3rb\",$C5=\"2brb\",$C5=\"2b2rb\",$C5=\"2b3rb\",$C5=\"3brb\",$C5=\"3b2rb\",$C5=\"3b3rb\",$C5=\"hr2\",$C5=\"hr3\",$C5=\"gs\"),$D16=6),1,0)","v":0},0,0,0,0,0,0,0,0,0,0,0,0,0,0,0,0,0,0,0,0,0,0,0,0,0,0,0,0,0,0,0,0,0,0,0,0,0,0,0,0,0,0,0,0,0,0,0,0,0,0,0,0,0,0,0,0,0,0,0,0,0,0,0,0,0,0,0,0,0,0,0,0,0,0,0,0,0,0,0,0,0,0,0,0,0,0,0,0,0,0,0,0,0,0,0,0,0,0,0,0,0,0,0,0,0,0,0,0,0,0,0,0,0,0,0,0,0,0,0,0,0,0,0,0,0,0,0,0,0,0,0,0,0,0,0,0,0,0,0,0,0,0,0,0,0,0,0,0,0,0,0,0,0,0,0,0,0,0,0,0,0,0,0,0,0,0,0,0,0,0,0,0,0,0,0,0,0,0,0,0,0,0,0,0,0,0,0,0,0,0,0,0,0,0,0,0,0,0,0,0,0,0,0,0,0,0,0,0,0,0,0,0,0,0,0,0,0,0,0,0,0,0,0,0,0,0,0,0,0,0,0,0,0,0,0,0,0,0,0,0,0,0,0,0,0,0,0,0,0,0,0,0,0,0,0,0,0,0,0,0,0,0,0,0,0,0,0,0,0,0,0,0,0,0,0,0,0,0,0,0,0,0,0,0,0,0,0,0,0,0,0,0,0,0,0,0,0,0,0,0,0,0,0,0,0,0,0,0,0,0,0,0,0,0,0,0,0,0,0,0,0,0,0,0,0,0,0,0,0,0,{"$nulls":3},0,0,0,0,0,0,0,0,0,0,0,0,0,0,0,0,0,0,0,0,0,0,0,0,0,0,0,0,0,0,0,0,0,0,0,0,0,0,0,0,0,0,null,0,0,0,0,0,0,0,0,0,0,0,0,0,0,0,0,0,0,0,0,0,0,0,0,0,0,0,0,0,0,0,0,0,0,0,0,0,0,0,0,0,0]
[{"$f":"Game!C17","v":0},{"$f":"Game!E17","v":0},{"$f":"Game!J17","v":0},{"$f":"Game!K17","v":0},{"$f":"Game!M17","v":0},{"$f":"Game!N17","v":0},{"$f":"Game!O17","v":0},{"$f":"Game!P17","v":0},{"$f":"Game!R17","v":0},{"$f":"Game!S17","v":0},{"$f":"Game!T17","v":0},{"$f":"Game!U17","v":0},{"$f":"Game!W17","v":0},{"$f":"Game!X17","v":0},{"$f":"Game!Y17","v":0},{"$f":"Game!Z17","v":0},{"$f":"Game!AB17","v":0},{"$f":"Game!AC17","v":0},{"$f":"Game!AD17","v":0},{"$f":"Game!AE17","v":0},{"$f":"Game!AG17","v":0},{"$f":"Game!AH17","v":0},{"$f":"Game!AI17","v":0},{"$f":"Game!AJ17","v":0},{"$f":"Game!AL17","v":0},{"$f":"Game!AM17","v":0},{"$f":"Game!AN17","v":0},{"$f":"Game!AO17","v":0},{"$f":"Game!AQ17","v":0},{"$f":"Game!AR17","v":0},null,0,0,{"$f":"IF(AND(OR($C17=\"h\",$C17=\"2b\", $C17=\"3b\", $C17=\"hr\", $C5=\"hrb\",$C5=\"h2rb\",$C5=\"h3rb\",$C5=\"2brb\",$C5=\"2b2rb\",$C5=\"2b3rb\",$C5=\"3brb\",$C5=\"3b2rb\",$C5=\"3b3rb\",$C5=\"hr2\",$C5=\"hr3\",$C5=\"gs\"),$D17=3),1,0)","v":0},{"$f":"IF(AND(OR($C17=\"h\",$C17=\"2b\", $C17=\"3b\", $C17=\"hr\", $C5=\"hrb\",$C5=\"h2rb\",$C5=\"h3rb\",$C5=\"2brb\",$C5=\"2b2rb\",$C5=\"2b3rb\",$C5=\"3brb\",$C5=\"3b2rb\",$C5=\"3b3rb\",$C5=\"hr2\",$C5=\"hr3\",$C5=\"gs\"),$D17=4),1,0)","v":0},{"$f":"IF(AND(OR($C17=\"h\",$C17=\"2b\", $C17=\"3b\", $C17=\"hr\", $C5=\"hrb\",$C5=\"h2rb\",$C5=\"h3rb\",$C5=\"2brb\",$C5=\"2b2rb\",$C5=\"2b3rb\",$C5=\"3brb\",$C5=\"3b2rb\",$C5=\"3b3rb\",$C5=\"hr2\",$C5=\"hr3\",$C5=\"gs\"),$D17=5),1,0)","v":0},{"$f":"IF(AND(OR($C17=\"h\",$C17=\"2b\", $C17=\"3b\", $C17=\"hr\", $C5=\"hrb\",$C5=\"h2rb\",$C5=\"h3rb\",$C5=\"2brb\",$C5=\"2b2rb\",$C5=\"2b3rb\",$C5=\"3brb\",$C5=\"3b2rb\",$C5=\"3b3rb\",$C5=\"hr2\",$C5=\"hr3\",$C5=\"gs\"),$D17=6),1,0)","v":0},0,0,0,0,0,0,0,0,0,0,0,0,0,0,0,0,0,0,0,0,0,0,0,0,0,0,0,0,0,0,0,0,0,0,0,0,0,0,0,0,0,0,0,0,0,0,0,0,0,0,0,0,0,0,0,0,0,0,0,0,0,0,0,0,0,0,0,0,0,0,0,0,0,0,0,0,0,0,0,0,0,0,0,0,0,0,0,0,0,0,0,0,0,0,0,0,0,0,0,0,0,0,0,0,0,0,0,0,0,0,0,0,0,0,0,0,0,0,0,0,0,0,0,0,0,0,0,0,0,0,0,0,0,0,0,0,0,0,0,0,0,0,0,0,0,0,0,0,0,0,0,0,0,0,0,0,0,0,0,0,0,0,0,0,0,0,0,0,0,0,0,0,0,0,0,0,0,0,0,{"$f":"IF(AND($K17=\"ao\",$L17=6),1,0)","v":0},0,0,0,0,0,0,0,0,0,0,0,0,0,0,0,0,0,0,0,0,0,0,0,0,0,0,0,0,0,0,0,0,0,0,0,0,0,0,0,0,0,0,0,0,0,0,0,0,0,0,0,0,0,0,0,0,0,0,0,0,0,0,0,0,0,0,0,0,0,0,0,0,0,0,0,0,0,0,0,0,0,0,0,0,0,0,0,0,0,0,0,0,0,0,0,0,0,0,0,0,0,0,0,0,0,0,0,0,0,0,0,0,0,0,0,0,0,0,0,0,0,0,0,0,0,0,0,0,0,0,0,0,0,0,0,0,0,0,0,0,0,0,0,0,0,0,0,0,0,0,{"$nulls":3},0,0,0,0,0,0,0,0,0,0,0,0,0,0,0,0,0,0,0,0,0,0,0,0,0,0,0,0,0,0,0,0,0,0,0,0,0,0,0,0,0,0,null,0,0,0,0,0,0,0,0,0,0,0,0,0,0,0,0,0,0,0,0,0,0,0,0,0,0,0,0,0,0,0,0,0,0,0,0,0,0,0,0,0,0]
[{"$nulls":31},{"$f":"SUM(AF5:AF17)","v":0},{"$f":"SUM(AG5:AG17)","v":0},0,0,0,0,0,0,0,0,0,0,0,0,0,0,0,0,0,0,0,0,0,0,0,0,0,0,0,0,0,0,0,0,0,0,0,0,0,0,0,0,0,0,0,0,0,0,0,0,0,0,0,0,0,0,0,0,0,0,0,0,0,0,0,{"$f":"SUM(CS5:CS17)","v":0},0,0,0,0,0,0,0,0,0,0,0,0,0,0,0,0,0,0,0,0,0,0,0,0,0,0,0,0,0,0,0,0,0,0,0,0,0,0,0,0,0,0,0,0,0,0,0,0,0,0,0,0,0,0,0,0,0,0,0,0,0,0,0,{"$f":"SUM(FE5:FE17)","v":0},0,0,0,0,0,0,0,0,0,0,0,0,0,0,0,0,0,0,0,0,0,0,0,0,0,0,0,0,0,0,0,0,0,0,0,0,0,0,0,0,0,0,0,0,0,0,0,0,0,0,0,0,0,0,0,0,0,0,0,0,0,0,0,{"$f":"SUM(HQ5:HQ17)","v":0},0,0,0,0,0,0,0,0,0,0,0,0,0,0,0,0,0,0,0,0,0,0,0,0,0,0,0,0,0,0,0,0,0,0,0,0,0,0,0,0,0,0,0,0,0,0,0,0,0,0,0,0,0,0,0,0,0,0,0,0,0,0,0,{"$f":"SUM(KC5:KC17)","v":0},0,0,0,0,0,0,0,0,0,0,0,0,0,0,0,0,0,0,0,0,0,0,0,0,0,0,0,0,0,0,0,0,0,0,0,0,0,0,0,0,0,0,0,0,0,0,0,0,0,0,0,0,0,0,0,0,0,0,0,0,0,0,0,{"$f":"SUM(MO5:MO17)","v":0},0,0,0,0,0,0,0,0,0,0,0,0,0,0,{"$nulls":3},0,0,0,0,0,0,0,0,0,0,0,0,0,0,0,0,0,0,0,0,0,0,0,0,0,0,0,0,0,0,0,0,0,0,0,0,0,0,0,0,0,0,null,0,0,0,0,0,0,0,0,0,0,0,0,0,0,0,0,0,0,0,0,0,0,0,0,0,0,0,0,0,0,0,0,0,0,0,0,0,0,0,0,0,0]
[{"$nulls":370},{"$f":"SUM(NG5:NG18)","v":0},{"$f":"SUM(NH5:NH18)","v":0},0,0,0,0,0,0,0,0,0,0,0,0,0,0,0,0,0,0,0,0,0,0,0,0,0,0,0,0,0,0,0,0,0,0,0,0,0,0,0,0,null,{"$f":"SUM(OX5:OX18)","v":0},{"$f":"SUM(OY5:OY18)","v":0},{"$f":"SUM(OZ5:OZ18)","v":0},{"$f":"SUM(PA5:PA18)","v":0},{"$f":"SUM(PB5:PB18)","v":0},{"$f":"SUM(PC5:PC18)","v":0},{"$f":"SUM(PD5:PD18)","v":0},{"$f":"SUM(PE5:PE18)","v":0},{"$f":"SUM(PF5:PF18)","v":0},{"$f":"SUM(PG5:PG18)","v":0},{"$f":"SUM(PH5:PH18)","v":0},{"$f":"SUM(PI5:PI18)","v":0},{"$f":"SUM(PJ5:PJ18)","v":0},{"$f":"SUM(PK5:PK18)","v":0},{"$f":"SUM(PL5:PL18)","v":0},{"$f":"SUM(PM5:PM18)","v":0},{"$f":"SUM(PN5:PN18)","v":0},{"$f":"SUM(PO5:PO18)","v":0},{"$f":"SUM(PP5:PP18)","v":0},{"$f":"SUM(PQ5:PQ18)","v":0},{"$f":"SUM(PR5:PR18)","v":0},{"$f":"SUM(PS5:PS18)","v":0},{"$f":"SUM(PT5:PT18)","v":0},{"$f":"SUM(PU5:PU18)","v":0},{"$f":"SUM(PV5:PV18)","v":0},{"$f":"SUM(PW5:PW18)","v":0},{"$f":"SUM(PX5:PX18)","v":0},{"$f":"SUM(PY5:PY18)","v":0},{"$f":"SUM(PZ5:PZ18)","v":0},{"$f":"SUM(QA5:QA18)","v":0},{"$f":"SUM(QB5:QB18)","v":0},{"$f":"SUM(QC5:QC18)","v":0},{"$f":"SUM(QD5:QD18)","v":0},{"$f":"SUM(QE5:QE18)","v":0},{"$f":"SUM(QF5:QF18)","v":0},{"$f":"SUM(QG5:QG18)","v":0},{"$f":"SUM(QH5:QH18)","v":0},{"$f":"SUM(QI5:QI18)","v":0},{"$f":"SUM(QJ5:QJ18)","v":0},{"$f":"SUM(QK5:QK18)","v":0},{"$f":"SUM(QL5:QL18)","v":0},{"$f":"SUM(QM5:QM18)","v":0}]
[]
[]
[]
[{"$f":"Game!E23","v":"Home Team"},{"$nulls":4},"VS:",{"$f":"Visitors!B20","v":"S.Pitcher"}]
["POS","Name","PA","PIT","R","SB","PA","PIT","R","SB","PA","PIT","R","SB","PA","PIT","R","SB","PA","PIT","R","SB","PA","PIT","R","SB","PA","PIT","R","SB",null,"H1-1","H1-2","H1-3","H1-4","H1-5","H1-6","H2-1","H2-2","H2-3","H2-4","H2-5","H2-6","H3-1","H3-2","H3-3","H3-4","H3-5","H3-6","H4-1","H4-2","H4-3","H4-4","H4-5","H4-6","H5-1","H5-2","H5-3","H5-4","H5-5","H5-6","H6-1","H6-2","H6-3","H6-4","H6-5","H6-6","H7-1","H7-2","H7-3","H7-4","H7-5","H7-6","HR11","HR12","HR13","HR14","HR15","HR16","HR21","HR22","HR23","HR24","HR25","HR26","HR31","HR32","HR33","HR34","HR35","HR36","HR41","HR42","HR43","HR44","HR45","HR46","HR51","HR52","HR53","HR54","HR55","HR56","HR61","HR62","HR63","HR64","HR65","HR66","HR71","HR72","HR73","HR74","HR75","HR76","GO11","GO12","GO13","GO14","GO15","GO16","GO21","GO22","GO23","GO24","GO25","GO26","GO31","GO32","GO33","GO34","GO35","GO36","GO41","GO42","GO43","GO44","GO45","GO46","GO51","GO52","GO53","GO54","GO55","GO56","GO61","GO62","GO63","GO64","GO65","GO66","GO71","GO72","GO73","GO74","GO75","GO76","AO",{"$nulls":41},"HBP",{"$nulls":41},"BB",{"$nulls":41},"K",{"$nulls":41},"BF"]
[{"$f":"Game!C25","v":0},{"$f":"Game!E25","v":0},{"$f":"Game!J25","v":0},{"$f":"Game!K25","v":0},{"$f":"Game!M25","v":0},{"$f":"Game!N25","v":0},{"$f":"Game!O25","v":0},{"$f":"Game!P25","v":0},{"$f":"Game!R25","v":0},{"$f":"Game!S25","v":0},{"$f":"Game!T25","v":0},{"$f":"Game!U25","v":0},{"$f":"Game!W25","v":0},{"$f":"Game!X25","v":0},{"$f":"Game!Y25","v":0},{"$f":"Game!Z25","v":0},{"$f":"Game!AB25","v":0},{"$f":"Game!AC25","v":0},{"$f":"Game!AD25","v":0},{"$f":"Game!AE25","v":0},{"$f":"Game!AG25","v":0},{"$f":"Game!AH25","v":0},{"$f":"Game!AI25","v":0},{"$f":"Game!AJ25","v":0},{"$f":"Game!AL25","v":0},{"$f":"Game!AM25","v":0},{"$f":"Game!AN25","v":0},{"$f":"Game!AO25","v":0},{"$f":"Game!AQ25","v":0},{"$f":"Game!AR25","v":0},null,{"$f":"IF(AND(OR($C25=\"h\",$C25=\"2b\", $C25=\"3b\", $C25=\"hr\",$C25=\"hrb\",$C25=\"h2rb\",$C25=\"h3rb\",$C25=\"2brb\",$C25=\"2b2rb\",$C25=\"2b3rb\",$C25=\"3brb\",$C25=\"3b2rb\",$C25=\"3b3rb\",$C25=\"hr2\",$C25=\"hr3\",$C25=\"gs\"),$D25=1),1,0)","v":0},{"$f":"IF(AND(OR($C25=\"h\",$C25=\"2b\", $C25=\"3b\", $C25=\"hr\",$C25=\"hrb\",$C25=\"h2rb\",$C25=\"h3rb\",$C25=\"2brb\",$C25=\"2b2rb\",$C25=\"2b3rb\",$C25=\"3brb\",$C25=\"3b2rb\",$C25=\"3b3rb\",$C25=\"hr2\",$C25=\"hr3\",$C25=\"gs\"),$D25=2),1,0)","v":0},{"$f":"IF(AND(OR($C25=\"h\",$C25=\"2b\", $C25=\"3b\", $C25=\"hr\", $C25=\"hrb\",$C25=\"h2rb\",$C25=\"h3rb\",$C25=\"2brb\",$C25=\"2b2rb\",$C25=\"2b3rb\",$C25=\"3brb\",$C25=\"3b2rb\",$C25=\"3b3rb\",$C25=\"hr2\",$C25=\"hr3\",$C25=\"gs\"),$D25=3),1,0)","v":0},{"$f":"IF(AND(OR($C25=\"h\",$C25=\"2b\", $C25=\"3b\", $C25=\"hr\", $C25=\"hrb\",$C25=\"h2rb\",$C25=\"h3rb\",$C25=\"2brb\",$C25=\"2b2rb\",$C25=\"2b3rb\",$C25=\"3brb\",$C25=\"3b2rb\",$C25=\"3b3rb\",$C25=\"hr2\",$C25=\"hr3\",$C25=\"gs\"),$D25=4),1,0)","v":0},{"$f":"IF(AND(OR($C25=\"h\",$C25=\"2b\", $C25=\"3b\", $C25=\"hr\", $C25=\"hrb\",$C25=\"h2rb\",$C25=\"h3rb\",$C25=\"2brb\",$C25=\"2b2rb\",$C25=\"2b3rb\",$C25=\"3brb\",$C25=\"3b2rb\",$C25=\"3b3rb\",$C25=\"hr2\",$C25=\"hr3\",$C25=\"gs\"),$D25=5),1,0)","v":0},{"$f":"IF(AND(OR($C25=\"h\",$C25=\"2b\", $C25=\"3b\", $C25=\"hr\", $C25=\"hrb\",$C25=\"h2rb\",$C25=\"h3rb\",$C25=\"2brb\",$C25=\"2b2rb\",$C25=\"2b3rb\",$C25=\"3brb\",$C25=\"3b2rb\",$C25=\"3b3rb\",$C25=\"hr2\",$C25=\"hr3\",$C25=\"gs\"),$D25=6),1,0)","v":0},{"$f":"IF(AND(OR($G25=\"h\",$G25=\"2b\", $G25=\"3b\", $G25=\"hr\", $G25=\"hrb\",$G25=\"h2rb\",$G25=\"h3rb\",$G25=\"2brb\",$G25=\"2b2rb\",$G25=\"2b3rb\",$G25=\"3brb\",$G25=\"3b2rb\",$G25=\"3b3rb\",$G25=\"hr2\",$G25=\"hr3\",$G25=\"gs\"),$H25=1),1,0)","v":0},{"$f":"IF(AND(OR($G25=\"h\",$G25=\"2b\", $G25=\"3b\", $G25=\"hr\", $G25=\"hrb\",$G25=\"h2rb\",$G25=\"h3rb\",$G25=\"2brb\",$G25=\"2b2rb\",$G25=\"2b3rb\",$G25=\"3brb\",$G25=\"3b2rb\",$G25=\"3b3rb\",$G25=\"hr2\",$G25=\"hr3\",$G25=\"gs\"),$H25=2),1,0)","v":0},{"$f":"IF(AND(OR($G25=\"h\",$G25=\"2b\", $G25=\"3b\", $G25=\"hr\", $G25=\"hrb\",$G25=\"h2rb\",$G25=\"h3rb\",$G25=\"2brb\",$G25=\"2b2rb\",$G25=\"2b3rb\",$G25=\"3brb\",$G25=\"3b2rb\",$G25=\"3b3rb\",$G25=\"hr2\",$G25=\"hr3\",$G25=\"gs\"),$H25=3),1,0)","v":0},{"$f":"IF(AND(OR($G25=\"h\",$G25=\"2b\", $G25=\"3b\", $G25=\"hr\", $G25=\"hrb\",$G25=\"h2rb\",$G25=\"h3rb\",$G25=\"2brb\",$G25=\"2b2rb\",$G25=\"2b3rb\",$G25=\"3brb\",$G25=\"3b2rb\",$G25=\"3b3rb\",$G25=\"hr2\",$G25=\"hr3\",$G25=\"gs\"),$H25=4),1,0)","v":0},{"$f":"IF(AND(OR($G25=\"h\",$G25=\"2b\", $G25=\"3b\", $G25=\"hr\", $G25=\"hrb\",$G25=\"h2rb\",$G25=\"h3rb\",$G25=\"2brb\",$G25=\"2b2rb\",$G25=\"2b3rb\",$G25=\"3brb\",$G25=\"3b2rb\",$G25=\"3b3rb\",$G25=\"hr2\",$G25=\"hr3\",$G25=\"gs\"),$H25=5),1,0)","v":0},{"$f":"IF(AND(OR($G25=\"h\",$G25=\"2b\", $G25=\"3b\", $G25=\"hr\", $G25=\"hrb\",$G25=\"h2rb\",$G25=\"h3rb\",$G25=\"2brb\",$G25=\"2b2rb\",$G25=\"2b3rb\",$G25=\"3brb\",$G25=\"3b2rb\",$G25=\"3b3rb\",$G25=\"hr2\",$G25=\"hr3\",$G25=\"gs\"),$H25=6),1,0)","v":0},{"$f":"IF(AND(OR($K25=\"h\",$K25=\"2b\", $K25=\"3b\", $K25=\"hr\", $K25=\"hrb\",$K25=\"h2rb\",$K25=\"h3rb\",$K25=\"2brb\",$K25=\"2b2rb\",$K25=\"2b3rb\",$K25=\"3brb\",$K25=\"3b2rb\",$K25=\"3b3rb\",$K25=\"hr2\",$K25=\"hr3\",$K25=\"gs\"),$L25=1),1,0)","v":0},{"$f":"IF(AND(OR($K25=\"h\",$K25=\"2b\", $K25=\"3b\", $K25=\"hr\", $K25=\"hrb\",$K25=\"h2rb\",$K25=\"h3rb\",$K25=\"2brb\",$K25=\"2b2rb\",$K25=\"2b3rb\",$K25=\"3brb\",$K25=\"3b2rb\",$K25=\"3b3rb\",$K25=\"hr2\",$K25=\"hr3\",$K25=\"gs\"),$L25=2),1,0)","v":0},{"$f":"IF(AND(OR($K25=\"h\",$K25=\"2b\", $K25=\"3b\", $K25=\"hr\", $K25=\"hrb\",$K25=\"h2rb\",$K25=\"h3rb\",$K25=\"2brb\",$K25=\"2b2rb\",$K25=\"2b3rb\",$K25=\"3brb\",$K25=\"3b2rb\",$K25=\"3b3rb\",$K25=\"hr2\",$K25=\"hr3\",$K25=\"gs\"),$L25=3),1,0)","v":0},{"$f":"IF(AND(OR($K25=\"h\",$K25=\"2b\", $K25=\"3b\", $K25=\"hr\", $K25=\"hrb\",$K25=\"h2rb\",$K25=\"h3rb\",$K25=\"2brb\",$K25=\"2b2rb\",$K25=\"2b3rb\",$K25=\"3brb\",$K25=\"3b2rb\",$K25=\"3b3rb\",$K25=\"hr2\",$K25=\"hr3\",$K25=\"gs\"),$L25=4),1,0)","v":0},{"$f":"IF(AND(OR($K25=\"h\",$K25=\"2b\", $K25=\"3b\", $K25=\"hr\", $K25=\"hrb\",$K25=\"h2rb\",$K25=\"h3rb\",$K25=\"2brb\",$K25=\"2b2rb\",$K25=\"2b3rb\",$K25=\"3brb\",$K25=\"3b2rb\",$K25=\"3b3rb\",$K25=\"hr2\",$K25=\"hr3\",$K25=\"gs\"),$L25=5),1,0)","v":0},{"$f":"IF(AND(OR($K25=\"h\",$K25=\"2b\", $K25=\"3b\", $K25=\"hr\", $K25=\"hrb\",$K25=\"h2rb\",$K25=\"h3rb\",$K25=\"2brb\",$K25=\"2b2rb\",$K25=\"2b3rb\",$K25=\"3brb\",$K25=\"3b2rb\",$K25=\"3b3rb\",$K25=\"hr2\",$K25=\"hr3\",$K25=\"gs\"),$L25=6),1,0)","v":0},{"$f":"IF(AND(OR($O25=\"h\",$O25=\"2b\", $O25=\"3b\", $O25=\"hr\", $O25=\"hrb\",$O25=\"h2rb\",$O25=\"h3rb\",$O25=\"2brb\",$O25=\"2b2rb\",$O25=\"2b3rb\",$O25=\"3brb\",$O25=\"3b2rb\",$O25=\"3b3rb\",$O25=\"hr2\",$O25=\"hr3\",$O25=\"gs\"),$P25=1),1,0)","v":0},{"$f":"IF(AND(OR($O25=\"h\",$O25=\"2b\", $O25=\"3b\", $O25=\"hr\", $O25=\"hrb\",$O25=\"h2rb\",$O25=\"h3rb\",$O25=\"2brb\",$O25=\"2b2rb\",$O25=\"2b3rb\",$O25=\"3brb\",$O25=\"3b2rb\",$O25=\"3b3rb\",$O25=\"hr2\",$O25=\"hr3\",$O25=\"gs\"),$P25=2),1,0)","v":0},{"$f":"IF(AND(OR($O25=\"h\",$O25=\"2b\", $O25=\"3b\", $O25=\"hr\", $O25=\"hrb\",$O25=\"h2rb\",$O25=\"h3rb\",$O25=\"2brb\",$O25=\"2b2rb\",$O25=\"2b3rb\",$O25=\"3brb\",$O25=\"3b2rb\",$O25=\"3b3rb\",$O25=\"hr2\",$O25=\"hr3\",$O25=\"gs\"),$P25=3),1,0)","v":0},{"$f":"IF(AND(OR($O25=\"h\",$O25=\"2b\", $O25=\"3b\", $O25=\"hr\", $O25=\"hrb\",$O25=\"h2rb\",$O25=\"h3rb\",$O25=\"2brb\",$O25=\"2b2rb\",$O25=\"2b3rb\",$O25=\"3brb\",$O25=\"3b2rb\",$O25=\"3b3rb\",$O25=\"hr2\",$O25=\"hr3\",$O25=\"gs\"),$P25=4),1,0)","v":0},{"$f":"IF(AND(OR($O25=\"h\",$O25=\"2b\", $O25=\"3b\", $O25=\"hr\", $O25=\"hrb\",$O25=\"h2rb\",$O25=\"h3rb\",$O25=\"2brb\",$O25=\"2b2rb\",$O25=\"2b3rb\",$O25=\"3brb\",$O25=\"3b2rb\",$O25=\"3b3rb\",$O25=\"hr2\",$O25=\"hr3\",$O25=\"gs\"),$P25=5),1,0)","v":0},{"$f":"IF(AND(OR($O25=\"h\",$O25=\"2b\", $O25=\"3b\", $O25=\"hr\", $O25=\"hrb\",$O25=\"h2rb\",$O25=\"h3rb\",$O25=\"2brb\",$O25=\"2b2rb\",$O25=\"2b3rb\",$O25=\"3brb\",$O25=\"3b2rb\",$O25=\"3b3rb\",$O25=\"hr2\",$O25=\"hr3\",$O25=\"gs\"),$P25=6),1,0)","v":0},{"$f":"IF(AND(OR($S25=\"h\",$S25=\"2b\", $S25=\"3b\", $S25=\"hr\", $S25=\"hrb\",$S25=\"h2rb\",$S25=\"h3rb\",$S25=\"2brb\",$S25=\"2b2rb\",$S25=\"2b3rb\",$S25=\"3brb\",$S25=\"3b2rb\",$S25=\"3b3rb\",$S25=\"hr2\",$S25=\"hr3\",$S25=\"gs\"),$T25=1),1,0)","v":0},{"$f":"IF(AND(OR($S25=\"h\",$S25=\"2b\", $S25=\"3b\", $S25=\"hr\", $S25=\"hrb\",$S25=\"h2rb\",$S25=\"h3rb\",$S25=\"2brb\",$S25=\"2b2rb\",$S25=\"2b3rb\",$S25=\"3brb\",$S25=\"3b2rb\",$S25=\"3b3rb\",$S25=\"hr2\",$S25=\"hr3\",$S25=\"gs\"),$T25=2),1,0)","v":0},{"$f":"IF(AND(OR($S25=\"h\",$S25=\"2b\", $S25=\"3b\", $S25=\"hr\", $S25=\"hrb\",$S25=\"h2rb\",$S25=\"h3rb\",$S25=\"2brb\",$S25=\"2b2rb\",$S25=\"2b3rb\",$S25=\"3brb\",$S25=\"3b2rb\",$S25=\"3b3rb\",$S25=\"hr2\",$S25=\"hr3\",$S25=\"gs\"),$T25=3),1,0)","v":0},{"$f":"IF(AND(OR($S25=\"h\",$S25=\"2b\", $S25=\"3b\", $S25=\"hr\", $S25=\"hrb\",$S25=\"h2rb\",$S25=\"h3rb\",$S25=\"2brb\",$S25=\"2b2rb\",$S25=\"2b3rb\",$S25=\"3brb\",$S25=\"3b2rb\",$S25=\"3b3rb\",$S25=\"hr2\",$S25=\"hr3\",$S25=\"gs\"),$T25=4),1,0)","v":0},{"$f":"IF(AND(OR($S25=\"h\",$S25=\"2b\", $S25=\"3b\", $S25=\"hr\", $S25=\"hrb\",$S25=\"h2rb\",$S25=\"h3rb\",$S25=\"2brb\",$S25=\"2b2rb\",$S25=\"2b3rb\",$S25=\"3brb\",$S25=\"3b2rb\",$S25=\"3b3rb\",$S25=\"hr2\",$S25=\"hr3\",$S25=\"gs\"),$T25=5),1,0)","v":0},{"$f":"IF(AND(OR($S25=\"h\",$S25=\"2b\", $S25=\"3b\", $S25=\"hr\", $S25=\"hrb\",$S25=\"h2rb\",$S25=\"h3rb\",$S25=\"2brb\",$S25=\"2b2rb\",$S25=\"2b3rb\",$S25=\"3brb\",$S25=\"3b2rb\",$S25=\"3b3rb\",$S25=\"hr2\",$S25=\"hr3\",$S25=\"gs\"),$T25=6),1,0)","v":0},{"$f":"IF(AND(OR($W25=\"h\",$W25=\"2b\", $W25=\"3b\", $W25=\"hr\", $W25=\"hrb\",$W25=\"h2rb\",$W25=\"h3rb\",$W25=\"2brb\",$W25=\"2b2rb\",$W25=\"2b3rb\",$W25=\"3brb\",$W25=\"3b2rb\",$W25=\"3b3rb\",$W25=\"hr2\",$W25=\"hr3\",$W25=\"gs\"),$X25=1),1,0)","v":0},{"$f":"IF(AND(OR($W25=\"h\",$W25=\"2b\", $W25=\"3b\", $W25=\"hr\", $W25=\"hrb\",$W25=\"h2rb\",$W25=\"h3rb\",$W25=\"2brb\",$W25=\"2b2rb\",$W25=\"2b3rb\",$W25=\"3brb\",$W25=\"3b2rb\",$W25=\"3b3rb\",$W25=\"hr2\",$W25=\"hr3\",$W25=\"gs\"),$X25=2),1,0)","v":0},{"$f":"IF(AND(OR($W25=\"h\",$W25=\"2b\", $W25=\"3b\", $W25=\"hr\", $W25=\"hrb\",$W25=\"h2rb\",$W25=\"h3rb\",$W25=\"2brb\",$W25=\"2b2rb\",$W25=\"2b3rb\",$W25=\"3brb\",$W25=\"3b2rb\",$W25=\"3b3rb\",$W25=\"hr2\",$W25=\"hr3\",$W25=\"gs\"),$X25=3),1,0)","v":0},{"$f":"IF(AND(OR($W25=\"h\",$W25=\"2b\", $W25=\"3b\", $W25=\"hr\", $W25=\"hrb\",$W25=\"h2rb\",$W25=\"h3rb\",$W25=\"2brb\",$W25=\"2b2rb\",$W25=\"2b3rb\",$W25=\"3brb\",$W25=\"3b2rb\",$W25=\"3b3rb\",$W25=\"hr2\",$W25=\"hr3\",$W25=\"gs\"),$X25=4),1,0)","v":0},{"$f":"IF(AND(OR($W25=\"h\",$W25=\"2b\", $W25=\"3b\", $W25=\"hr\", $W25=\"hrb\",$W25=\"h2rb\",$W25=\"h3rb\",$W25=\"2brb\",$W25=\"2b2rb\",$W25=\"2b3rb\",$W25=\"3brb\",$W25=\"3b2rb\",$W25=\"3b3rb\",$W25=\"hr2\",$W25=\"hr3\",$W25=\"gs\"),$X25=5),1,0)","v":0},{"$f":"IF(AND(OR($W25=\"h\",$W25=\"2b\", $W25=\"3b\", $W25=\"hr\", $W25=\"hrb\",$W25=\"h2rb\",$W25=\"h3rb\",$W25=\"2brb\",$W25=\"2b2rb\",$W25=\"2b3rb\",$W25=\"3brb\",$W25=\"3b2rb\",$W25=\"3b3rb\",$W25=\"hr2\",$W25=\"hr3\",$W25=\"gs\"),$X25=6),1,0)","v":0},{"$f":"IF(AND(OR($AA25=\"h\",$AA25=\"2b\", $AA25=\"3b\", $AA25=\"hr\", $AA25=\"hrb\",$AA25=\"h2rb\",$AA25=\"h3rb\",$AA25=\"2brb\",$AA25=\"2b2rb\",$AA25=\"2b3rb\",$AA25=\"3brb\",$AA25=\"3b2rb\",$AA25=\"3b3rb\",$AA25=\"hr2\",$AA25=\"hr3\",$AA25=\"gs\"),$AB25=1),1,0)","v":0},{"$f":"IF(AND(OR($AA25=\"h\",$AA25=\"2b\", $AA25=\"3b\", $AA25=\"hr\", $AA25=\"hrb\",$AA25=\"h2rb\",$AA25=\"h3rb\",$AA25=\"2brb\",$AA25=\"2b2rb\",$AA25=\"2b3rb\",$AA25=\"3brb\",$AA25=\"3b2rb\",$AA25=\"3b3rb\",$AA25=\"hr2\",$AA25=\"hr3\",$AA25=\"gs\"),$AB25=2),1,0)","v":0},{"$f":"IF(AND(OR($AA25=\"h\",$AA25=\"2b\", $AA25=\"3b\", $AA25=\"hr\", $AA25=\"hrb\",$AA25=\"h2rb\",$AA25=\"h3rb\",$AA25=\"2brb\",$AA25=\"2b2rb\",$AA25=\"2b3rb\",$AA25=\"3brb\",$AA25=\"3b2rb\",$AA25=\"3b3rb\",$AA25=\"hr2\",$AA25=\"hr3\",$AA25=\"gs\"),$AB25=3),1,0)","v":0},{"$f":"IF(AND(OR($AA25=\"h\",$AA25=\"2b\", $AA25=\"3b\", $AA25=\"hr\", $AA25=\"hrb\",$AA25=\"h2rb\",$AA25=\"h3rb\",$AA25=\"2brb\",$AA25=\"2b2rb\",$AA25=\"2b3rb\",$AA25=\"3brb\",$AA25=\"3b2rb\",$AA25=\"3b3rb\",$AA25=\"hr2\",$AA25=\"hr3\",$AA25=\"gs\"),$AB25=4),1,0)","v":0},{"$f":"IF(AND(OR($AA25=\"h\",$AA25=\"2b\", $AA25=\"3b\", $AA25=\"hr\", $AA25=\"hrb\",$AA25=\"h2rb\",$AA25=\"h3rb\",$AA25=\"2brb\",$AA25=\"2b2rb\",$AA25=\"2b3rb\",$AA25=\"3brb\",$AA25=\"3b2rb\",$AA25=\"3b3rb\",$AA25=\"hr2\",$AA25=\"hr3\",$AA25=\"gs\"),$AB25=5),1,0)","v":0},{"$f":"IF(AND(OR($AA25=\"h\",$AA25=\"2b\", $AA25=\"3b\", $AA25=\"hr\", $AA25=\"hrb\",$AA25=\"h2rb\",$AA25=\"h3rb\",$AA25=\"2brb\",$AA25=\"2b2rb\",$AA25=\"2b3rb\",$AA25=\"3brb\",$AA25=\"3b2rb\",$AA25=\"3b3rb\",$AA25=\"hr2\",$AA25=\"hr3\",$AA25=\"gs\"),$AB25=6),1,0)","v":0},{"$f":"IF(AND(OR($C25=\"HR\",$C25=\"HR2\",$C25=\"HR3\",$C25=\"GS\"),$D25=1),1,0)","v":0},{"$f":"IF(AND(OR($C25=\"HR\",$C25=\"HR2\",$C25=\"HR3\",$C25=\"GS\"),$D25=2),1,0)","v":0},{"$f":"IF(AND(OR($C25=\"HR\",$C25=\"HR2\",$C25=\"HR3\",$C25=\"GS\"),$D25=3),1,0)","v":0},{"$f":"IF(AND(OR($C25=\"HR\",$C25=\"HR2\",$C25=\"HR3\",$C25=\"GS\"),$D25=4),1,0)","v":0},{"$f":"IF(AND(OR($C25=\"HR\",$C25=\"HR2\",$C25=\"HR3\",$C25=\"GS\"),$D25=5),1,0)","v":0},{"$f":"IF(AND(OR($C25=\"HR\",$C25=\"HR2\",$C25=\"HR3\",$C25=\"GS\"),$D25=6),1,0)","v":0},{"$f":"IF(AND(OR($G25=\"HR\",$G25=\"HR2\",$G25=\"HR3\",$G25=\"GS\"),$H25=1),1,0)","v":0},{"$f":"IF(AND(OR($G25=\"HR\",$G25=\"HR2\",$G25=\"HR3\",$G25=\"GS\"),$H25=2),1,0)","v":0},{"$f":"IF(AND(OR($G25=\"HR\",$G25=\"HR2\",$G25=\"HR3\",$G25=\"GS\"),$H25=3),1,0)","v":0},{"$f":"IF(AND(OR($G25=\"HR\",$G25=\"HR2\",$G25=\"HR3\",$G25=\"GS\"),$H25=4),1,0)","v":0},{"$f":"IF(AND(OR($G25=\"HR\",$G25=\"HR2\",$G25=\"HR3\",$G25=\"GS\"),$H25=5),1,0)","v":0},{"$f":"IF(AND(OR($G25=\"HR\",$G25=\"HR2\",$G25=\"HR3\",$G25=\"GS\"),$H25=6),1,0)","v":0},{"$f":"IF(AND(OR($K25=\"HR\",$K25=\"HR2\",$K25=\"HR3\",$K25=\"GS\"),$L25=1),1,0)","v":0},{"$f":"IF(AND(OR($K25=\"HR\",$K25=\"HR2\",$K25=\"HR3\",$K25=\"GS\"),$L25=2),1,0)","v":0},{"$f":"IF(AND(OR($K25=\"HR\",$K25=\"HR2\",$K25=\"HR3\",$K25=\"GS\"),$L25=3),1,0)","v":0},{"$f":"IF(AND(OR($K25=\"HR\",$K25=\"HR2\",$K25=\"HR3\",$K25=\"GS\"),$L25=4),1,0)","v":0},{"$f":"IF(AND(OR($K25=\"HR\",$K25=\"HR2\",$K25=\"HR3\",$K25=\"GS\"),$L25=5),1,0)","v":0},{"$f":"IF(AND(OR($K25=\"HR\",$K25=\"HR2\",$K25=\"HR3\",$K25=\"GS\"),$L25=6),1,0)","v":0},{"$f":"IF(AND(OR($O25=\"HR\",$O25=\"HR2\",$O25=\"HR3\",$O25=\"GS\"),$P25=1),1,0)","v":0},{"$f":"IF(AND(OR($O25=\"HR\",$O25=\"HR2\",$O25=\"HR3\",$O25=\"GS\"),$P25=2),1,0)","v":0},{"$f":"IF(AND(OR($O25=\"HR\",$O25=\"HR2\",$O25=\"HR3\",$O25=\"GS\"),$P25=3),1,0)","v":0},{"$f":"IF(AND(OR($O25=\"HR\",$O25=\"HR2\",$O25=\"HR3\",$O25=\"GS\"),$P25=4),1,0)","v":0},{"$f":"IF(AND(OR($O25=\"HR\",$O25=\"HR2\",$O25=\"HR3\",$O25=\"GS\"),$P25=5),1,0)","v":0},{"$f":"IF(AND(OR($O25=\"HR\",$O25=\"HR2\",$O25=\"HR3\",$O25=\"GS\"),$P25=6),1,0)","v":0},{"$f":"IF(AND(OR($S25=\"HR\",$S25=\"HR2\",$S25=\"HR3\",$S25=\"GS\"),$T25=1),1,0)","v":0},{"$f":"IF(AND(OR($S25=\"HR\",$S25=\"HR2\",$S25=\"HR3\",$S25=\"GS\"),$T25=2),1,0)","v":0},{"$f":"IF(AND(OR($S25=\"HR\",$S25=\"HR2\",$S25=\"HR3\",$S25=\"GS\"),$T25=3),1,0)","v":0},{"$f":"IF(AND(OR($S25=\"HR\",$S25=\"HR2\",$S25=\"HR3\",$S25=\"GS\"),$T25=4),1,0)","v":0},{"$f":"IF(AND(OR($S25=\"HR\",$S25=\"HR2\",$S25=\"HR3\",$S25=\"GS\"),$T25=5),1,0)","v":0},{"$f":"IF(AND(OR($S25=\"HR\",$S25=\"HR2\",$S25=\"HR3\",$S25=\"GS\"),$T25=6),1,0)","v":0},{"$f":"IF(AND(OR($W25=\"HR\",$W25=\"HR2\",$W25=\"HR3\",$W25=\"GS\"),$X25=1),1,0)","v":0},{"$f":"IF(AND(OR($W25=\"HR\",$W25=\"HR2\",$W25=\"HR3\",$W25=\"GS\"),$X25=2),1,0)","v":0},{"$f":"IF(AND(OR($W25=\"HR\",$W25=\"HR2\",$W25=\"HR3\",$W25=\"GS\"),$X25=3),2,0)","v":0},{"$f":"IF(AND(OR($W25=\"HR\",$W25=\"HR2\",$W25=\"HR3\",$W25=\"GS\"),$X25=4),2,0)","v":0},{"$f":"IF(AND(OR($W25=\"HR\",$W25=\"HR2\",$W25=\"HR3\",$W25=\"GS\"),$X25=5),2,0)","v":0},{"$f":"IF(AND(OR($W25=\"HR\",$W25=\"HR2\",$W25=\"HR3\",$W25=\"GS\"),$X25=6),2,0)","v":0},{"$f":"IF(AND(OR($AA25=\"HR\",$AA25=\"HR2\",$AA25=\"HR3\",$AA25=\"GS\"),$AB25=1),1,0)","v":0},{"$f":"IF(AND(OR($AA25=\"HR\",$AA25=\"HR2\",$AA25=\"HR3\",$AA25=\"GS\"),$AB25=2),1,0)","v":0},{"$f":"IF(AND(OR($AA25=\"HR\",$AA25=\"HR2\",$AA25=\"HR3\",$AA25=\"GS\"),$AB25=3),1,0)","v":0},{"$f":"IF(AND(OR($AA25=\"HR\",$AA25=\"HR2\",$AA25=\"HR3\",$AA25=\"GS\"),$AB25=4),1,0)","v":0},{"$f":"IF(AND(OR($AA25=\"HR\",$AA25=\"HR2\",$AA25=\"HR3\",$AA25=\"GS\"),$AB25=5),1,0)","v":0},{"$f":"IF(AND(OR($AA25=\"HR\",$AA25=\"HR2\",$AA25=\"HR3\",$AA25=\"GS\"),$AB25=6),1,0)","v":0},{"$f":"IF(AND($C25=\"go\",$D25=1),1,0)","v":0},{"$f":"IF(AND($C25=\"go\",$D25=2),1,0)","v":0},{"$f":"IF(AND($C25=\"go\",$D25=3),1,0)","v":0},{"$f":"IF(AND($C25=\"go\",$D25=4),1,0)","v":0},{"$f":"IF(AND($C25=\"go\",$D25=5),1,0)","v":0},{"$f":"IF(AND($C25=\"go\",$D25=6),1,0)","v":0},{"$f":"IF(AND($G25=\"go\",$H25=1),1,0)","v":0},{"$f":"IF(AND($G25=\"go\",$H25=2),1,0)","v":0},{"$f":"IF(AND($G25=\"go\",$H25=3),1,0)","v":0},{"$f":"IF(AND($G25=\"go\",$H25=4),1,0)","v":0},{"$f":"IF(AND($G25=\"go\",$H25=5),1,0)","v":0},{"$f":"IF(AND($G25=\"go\",$H25=6),1,0)","v":0},{"$f":"IF(AND($K25=\"go\",$L25=1),1,0)","v":0},{"$f":"IF(AND($K25=\"go\",$L25=2),1,0)","v":0},{"$f":"IF(AND($K25=\"go\",$L25=3),1,0)","v":0},{"$f":"IF(AND($K25=\"go\",$L25=4),1,0)","v":0},{"$f":"IF(AND($K25=\"go\",$L25=5),1,0)","v":0},{"$f":"IF(AND($K25=\"go\",$L25=6),1,0)","v":0},{"$f":"IF(AND($O25=\"go\",$P25=1),1,0)","v":0},{"$f":"IF(AND($O25=\"go\",$P25=2),1,0)","v":0},{"$f":"IF(AND($O25=\"go\",$P25=3),1,0)","v":0},{"$f":"IF(AND($O25=\"go\",$P25=4),1,0)","v":0},{"$f":"IF(AND($O25=\"go\",$P25=5),1,0)","v":0},{"$f":"IF(AND($O25=\"go\",$P25=6),1,0)","v":0},{"$f":"IF(AND($S25=\"go\",$T25=1),1,0)","v":0},{"$f":"IF(AND($S25=\"go\",$T25=2),1,0)","v":0},{"$f":"IF(AND($S25=\"go\",$T25=3),1,0)","v":0},{"$f":"IF(AND($S25=\"go\",$T25=4),1,0)","v":0},{"$f":"IF(AND($S25=\"go\",$T25=5),1,0)","v":0},{"$f":"IF(AND($S25=\"go\",$T25=6),1,0)","v":0},{"$f":"IF(AND($W25=\"go\",$X25=1),1,0)","v":0},{"$f":"IF(AND($W25=\"go\",$X25=2),1,0)","v":0},{"$f":"IF(AND($W25=\"go\",$X25=3),1,0)","v":0},{"$f":"IF(AND($W25=\"go\",$X25=4),1,0)","v":0},{"$f":"IF(AND($W25=\"go\",$X25=5),1,0)","v":0},{"$f":"IF(AND($W25=\"go\",$X25=6),1,0)","v":0},{"$f":"IF(AND($AA25=\"go\",$AB25=1),1,0)","v":0},{"$f":"IF(AND($AA25=\"go\",$AB25=2),1,0)","v":0},{"$f":"IF(AND($AA25=\"go\",$AB25=3),1,0)","v":0},{"$f":"IF(AND($AA25=\"go\",$AB25=4),1,0)","v":0},{"$f":"IF(AND($AA25=\"go\",$AB25=5),1,0)","v":0},{"$f":"IF(AND($AA25=\"go\",$AB25=6),1,0)","v":0},{"$f":"IF(AND($C25=\"ao\",$D25=1),1,0)","v":0},{"$f":"IF(AND($C25=\"ao\",$D25=2),1,0)","v":0},{"$f":"IF(AND($C25=\"ao\",$D25=3),1,0)","v":0},{"$f":"IF(AND($C25=\"ao\",$D25=4),1,0)","v":0},{"$f":"IF(AND($C25=\"ao\",$D25=5),1,0)","v":0},{"$f":"IF(AND($C25=\"ao\",$D25=6),1,0)","v":0},{"$f":"IF(AND($G25=\"ao\",$H25=1),1,0)","v":0},{"$f":"IF(AND($G25=\"ao\",$H25=2),1,0)","v":0},{"$f":"IF(AND($G25=\"ao\",$H25=3),1,0)","v":0},{"$f":"IF(AND($G25=\"ao\",$H25=4),1,0)","v":0},{"$f":"IF(AND($G25=\"ao\",$H25=5),1,0)","v":0},{"$f":"IF(AND($G25=\"ao\",$H25=6),1,0)","v":0},{"$f":"IF(AND($K25=\"ao\",$L25=1),1,0)","v":0},{"$f":"IF(AND($K25=\"ao\",$L25=2),1,0)","v":0},{"$f":"IF(AND($K25=\"ao\",$L25=3),1,0)","v":0},{"$f":"IF(AND($K25=\"ao\",$L25=4),1,0)","v":0},{"$f":"IF(AND($K25=\"ao\",$L25=5),1,0)","v":0},{"$f":"IF(AND($K25=\"ao\",$L25=6),1,0)","v":0},{"$f":"IF(AND($O25=\"ao\",$P25=1),1,0)","v":0},{"$f":"IF(AND($O25=\"ao\",$P25=2),1,0)","v":0},{"$f":"IF(AND($O25=\"ao\",$P25=3),1,0)","v":0},{"$f":"IF(AND($O25=\"ao\",$P25=4),1,0)","v":0},{"$f":"IF(AND($O25=\"ao\",$P25=5),1,0)","v":0},{"$f":"IF(AND($O25=\"ao\",$P25=6),1,0)","v":0},{"$f":"IF(AND($S25=\"ao\",$T25=1),1,0)","v":0},{"$f":"IF(AND($S25=\"ao\",$T25=2),1,0)","v":0},{"$f":"IF(AND($S25=\"ao\",$T25=3),1,0)","v":0},{"$f":"IF(AND($S25=\"go\",$T25=4),1,0)","v":0},{"$f":"IF(AND($S25=\"ao\",$T25=5),1,0)","v":0},{"$f":"IF(AND($S25=\"ao\",$T25=6),1,0)","v":0},{"$f":"IF(AND($W25=\"ao\",$X25=1),1,0)","v":0},{"$f":"IF(AND($W25=\"ao\",$X25=2),1,0)","v":0},{"$f":"IF(AND($W25=\"ao\",$X25=3),1,0)","v":0},{"$f":"IF(AND($W25=\"ao\",$X25=4),1,0)","v":0},{"$f":"IF(AND($W25=\"ao\",$X25=5),1,0)","v":0},{"$f":"IF(AND($W25=\"ao\",$X25=6),1,0)","v":0},{"$f":"IF(AND($AA25=\"ao\",$AB25=1),1,0)","v":0},{"$f":"IF(AND($AA25=\"ao\",$AB25=2),1,0)","v":0},{"$f":"IF(AND($AA25=\"ao\",$AB25=3),1,0)","v":0},{"$f":"IF(AND($AA25=\"ao\",$AB25=4),1,0)","v":0},{"$f":"IF(AND($AA25=\"ao\",$AB25=5),1,0)","v":0},{"$f":"IF(AND($AA25=\"ao\",$AB25=6),1,0)","v":0},{"$f":"IF(AND($C25=\"hbp\",$D25=1),1,0)","v":0},{"$f":"IF(AND($C25=\"hbp\",$D25=2),1,0)","v":0},{"$f":"IF(AND($C25=\"hbp\",$D25=3),1,0)","v":0},{"$f":"IF(AND($C25=\"hbp\",$D25=4),1,0)","v":0},{"$f":"IF(AND($C25=\"hbp\",$D25=5),1,0)","v":0},{"$f":"IF(AND($C25=\"hbp\",$D25=6),1,0)","v":0},{"$f":"IF(AND($G25=\"hbp\",$H25=1),1,0)","v":0},{"$f":"IF(AND($G25=\"hbp\",$H25=2),1,0)","v":0},{"$f":"IF(AND($G25=\"hbp\",$H25=3),1,0)","v":0},{"$f":"IF(AND($G25=\"hbp\",$H25=4),1,0)","v":0},{"$f":"IF(AND($G25=\"hbp\",$H25=5),1,0)","v":0},{"$f":"IF(AND($G25=\"hbp\",$H25=6),1,0)","v":0},{"$f":"IF(AND($K25=\"hbp\",$L25=1),1,0)","v":0},{"$f":"IF(AND($K25=\"hbp\",$L25=2),1,0)","v":0},{"$f":"IF(AND($K25=\"hbp\",$L25=3),1,0)","v":0},{"$f":"IF(AND($K25=\"hbp\",$L25=4),1,0)","v":0},{"$f":"IF(AND($K25=\"hbp\",$L25=5),1,0)","v":0},{"$f":"IF(AND($K25=\"hbp\",$L25=6),1,0)","v":0},{"$f":"IF(AND($O25=\"hbp\",$P25=1),1,0)","v":0},{"$f":"IF(AND($O25=\"hbp\",$P25=2),1,0)","v":0},{"$f":"IF(AND($O25=\"hbp\",$P25=3),1,0)","v":0},{"$f":"IF(AND($O25=\"hbp\",$P25=4),1,0)","v":0},{"$f":"IF(AND($O25=\"hbp\",$P25=5),1,0)","v":0},{"$f":"IF(AND($O25=\"hbp\",$P25=6),1,0)","v":0},{"$f":"IF(AND($S25=\"hbp\",$T25=1),1,0)","v":0},{"$f":"IF(AND($S25=\"hbp\",$T25=2),1,0)","v":0},{"$f":"IF(AND($S25=\"hbp\",$T25=3),1,0)","v":0},{"$f":"IF(AND($S25=\"hbp\",$T25=4),1,0)","v":0},{"$f":"IF(AND($S25=\"hbp\",$T25=5),1,0)","v":0},{"$f":"IF(AND($S25=\"hbp\",$T25=6),1,0)","v":0},{"$f":"IF(AND($W25=\"hbp\",$X25=1),1,0)","v":0},{"$f":"IF(AND($W25=\"hbp\",$X25=2),1,0)","v":0},{"$f":"IF(AND($W25=\"hbp\",$X25=3),1,0)","v":0},{"$f":"IF(AND($W25=\"hbp\",$X25=4),1,0)","v":0},{"$f":"IF(AND($W25=\"hbp\",$X25=5),1,0)","v":0},{"$f":"IF(AND($W25=\"hbp\",$X25=6),1,0)","v":0},{"$f":"IF(AND($AA25=\"hbp\",$AB25=1),1,0)","v":0},{"$f":"IF(AND($AA25=\"hbp\",$AB25=2),1,0)","v":0},{"$f":"IF(AND($AA25=\"hbp\",$AB25=3),1,0)","v":0},{"$f":"IF(AND($AA25=\"hbp\",$AB25=4),1,0)","v":0},{"$f":"IF(AND($AA25=\"hbp\",$AB25=5),1,0)","v":0},{"$f":"IF(AND($AA25=\"hbp\",$AB25=6),1,0)","v":0},{"$f":"IF(AND($C25=\"bb\",$D25=1),1,0)","v":0},{"$f":"IF(AND($C25=\"bb\",$D25=2),1,0)","v":0},{"$f":"IF(AND($C25=\"bb\",$D25=3),1,0)","v":0},{"$f":"IF(AND($C25=\"bb\",$D25=4),1,0)","v":0},{"$f":"IF(AND($C25=\"bb\",$D25=5),1,0)","v":0},{"$f":"IF(AND($C25=\"bb\",$D25=6),1,0)","v":0},{"$f":"IF(AND($G25=\"bb\",$H25=1),1,0)","v":0},{"$f":"IF(AND($G25=\"bb\",$H25=2),1,0)","v":0},{"$f":"IF(AND($G25=\"bb\",$H25=3),1,0)","v":0},{"$f":"IF(AND($G25=\"bb\",$H25=4),1,0)","v":0},{"$f":"IF(AND($G25=\"bb\",$H25=5),1,0)","v":0},{"$f":"IF(AND($G25=\"bb\",$H25=6),1,0)","v":0},{"$f":"IF(AND($K25=\"bb\",$L25=1),1,0)","v":0},{"$f":"IF(AND($K25=\"bb\",$L25=2),1,0)","v":0},{"$f":"IF(AND($K25=\"bb\",$L25=3),1,0)","v":0},{"$f":"IF(AND($K25=\"bb\",$L25=4),1,0)","v":0},{"$f":"IF(AND($K25=\"bb\",$L25=5),1,0)","v":0},{"$f":"IF(AND($K25=\"bb\",$L25=6),1,0)","v":0},{"$f":"IF(AND($O25=\"bb\",$P25=1),1,0)","v":0},{"$f":"IF(AND($O25=\"bb\",$P25=2),1,0)","v":0},{"$f":"IF(AND($O25=\"bb\",$P25=3),1,0)","v":0},{"$f":"IF(AND($O25=\"bb\",$P25=4),1,0)","v":0},{"$f":"IF(AND($O25=\"bb\",$P25=5),1,0)","v":0},{"$f":"IF(AND($O25=\"bb\",$P25=6),1,0)","v":0},{"$f":"IF(AND($S25=\"bb\",$T25=1),1,0)","v":0},{"$f":"IF(AND($S25=\"bb\",$T25=2),1,0)","v":0},{"$f":"IF(AND($S25=\"bb\",$T25=3),1,0)","v":0},{"$f":"IF(AND($S25=\"bb\",$T25=4),1,0)","v":0},{"$f":"IF(AND($S25=\"bb\",$T25=5),1,0)","v":0},{"$f":"IF(AND($S25=\"bb\",$T25=6),1,0)","v":0},{"$f":"IF(AND($W25=\"bb\",$X25=1),1,0)","v":0},{"$f":"IF(AND($W25=\"bb\",$X25=2),1,0)","v":0},{"$f":"IF(AND($W25=\"bb\",$X25=3),1,0)","v":0},{"$f":"IF(AND($W25=\"bb\",$X25=4),1,0)","v":0},{"$f":"IF(AND($W25=\"bb\",$X25=5),1,0)","v":0},{"$f":"IF(AND($W25=\"bb\",$X25=6),1,0)","v":0},{"$f":"IF(AND($AA25=\"bb\",$AB25=1),1,0)","v":0},{"$f":"IF(AND($AA25=\"bb\",$AB25=2),1,0)","v":0},{"$f":"IF(AND($AA25=\"bb\",$AB25=3),1,0)","v":0},{"$f":"IF(AND($AA25=\"bb\",$AB25=4),1,0)","v":0},{"$f":"IF(AND($AA25=\"bb\",$AB25=5),1,0)","v":0},{"$f":"IF(AND($AA25=\"bb\",$AB25=6),1,0)","v":0},{"$f":"IF(AND($C25=\"k\",$D25=1),1,0)","v":0},{"$f":"IF(AND($C25=\"k\",$D25=2),1,0)","v":0},{"$f":"IF(AND($C25=\"k\",$D25=3),1,0)","v":0},{"$f":"IF(AND($C25=\"k\",$D25=4),1,0)","v":0},{"$f":"IF(AND($C25=\"k\",$D25=5),1,0)","v":0},{"$f":"IF(AND($C25=\"k\",$D25=6),1,0)","v":0},{"$f":"IF(AND($G25=\"k\",$H25=1),1,0)","v":0},{"$f":"IF(AND($G25=\"k\",$H25=2),1,0)","v":0},{"$f":"IF(AND($G25=\"k\",$H25=3),1,0)","v":0},{"$f":"IF(AND($G25=\"k\",$H25=4),1,0)","v":0},{"$f":"IF(AND($G25=\"k\",$H25=5),1,0)","v":0},{"$f":"IF(AND($G25=\"k\",$H25=6),1,0)","v":0},{"$f":"IF(AND($K25=\"k\",$L25=1),1,0)","v":0},{"$f":"IF(AND($K25=\"k\",$L25=2),1,0)","v":0},{"$f":"IF(AND($K25=\"k\",$L25=3),1,0)","v":0},{"$f":"IF(AND($K25=\"k\",$L25=4),1,0)","v":0},{"$f":"IF(AND($K25=\"k\",$L25=5),1,0)","v":0},{"$f":"IF(AND($K25=\"k\",$L25=6),1,0)","v":0},{"$f":"IF(AND($O25=\"k\",$P25=1),1,0)","v":0},{"$f":"IF(AND($O25=\"k\",$P25=2),1,0)","v":0},{"$f":"IF(AND($O25=\"k\",$P25=3),1,0)","v":0},{"$f":"IF(AND($O25=\"k\",$P25=4),1,0)","v":0},{"$f":"IF(AND($O25=\"k\",$P25=5),1,0)","v":0},{"$f":"IF(AND($O25=\"k\",$P25=6),1,0)","v":0},{"$f":"IF(AND($S25=\"k\",$T25=1),1,0)","v":0},{"$f":"IF(AND($S25=\"k\",$T25=2),1,0)","v":0},{"$f":"IF(AND($S25=\"k\",$T25=3),1,0)","v":0},{"$f":"IF(AND($S25=\"k\",$T25=4),1,0)","v":0},{"$f":"IF(AND($S25=\"k\",$T25=5),1,0)","v":0},{"$f":"IF(AND($S25=\"k\",$T25=6),1,0)","v":0},{"$f":"IF(AND($W25=\"k\",$X25=1),1,0)","v":0},{"$f":"IF(AND($W25=\"k\",$X25=2),1,0)","v":0},{"$f":"IF(AND($W25=\"k\",$X25=3),1,0)","v":0},{"$f":"IF(AND($W25=\"k\",$X25=4),1,0)","v":0},{"$f":"IF(AND($W25=\"k\",$X25=5),1,0)","v":0},{"$f":"IF(AND($W25=\"k\",$X25=6),1,0)","v":0},{"$f":"IF(AND($AA25=\"k\",$AB25=1),1,0)","v":0},{"$f":"IF(AND($AA25=\"k\",$AB25=2),1,0)","v":0},{"$f":"IF(AND($AA25=\"k\",$AB25=3),1,0)","v":0},{"$f":"IF(AND($AA25=\"k\",$AB25=4),1,0)","v":0},{"$f":"IF(AND($AA25=\"k\",$AB25=5),1,0)","v":0},{"$f":"IF(AND($AA25=\"k\",$AB25=6),1,0)","v":0},{"$f":"IF(($D25=1),1,0)","v":0},{"$f":"IF(($D25=2),1,0)","v":0},{"$f":"IF(($D25=3),1,0)","v":0},{"$f":"IF(($D25=4),1,0)","v":0},{"$f":"IF(($D25=5),1,0)","v":0},{"$f":"IF(($D25=6),1,0)","v":0},{"$f":"IF(($H25=1),1,0)","v":0},{"$f":"IF(($H25=2),1,0)","v":0},{"$f":"IF(($H25=3),1,0)","v":0},{"$f":"IF(($H25=4),1,0)","v":0},{"$f":"IF(($H25=5),1,0)","v":0},{"$f":"IF(($H25=6),1,0)","v":0},{"$f":"IF(($L25=1),1,0)","v":0},{"$f":"IF(($L25=2),1,0)","v":0},{"$f":"IF(($L25=3),1,0)","v":0},{"$f":"IF(($L25=4),1,0)","v":0},{"$f":"IF(($L25=5),1,0)","v":0},{"$f":"IF(($L25=6),1,0)","v":0},{"$f":"IF(($P25=1),1,0)","v":0},{"$f":"IF(($P25=2),1,0)","v":0},{"$f":"IF(($P25=3),1,0)","v":0},{"$f":"IF(($P25=4),1,0)","v":0},{"$f":"IF(($P25=5),1,0)","v":0},{"$f":"IF(($P25=6),1,0)","v":0},{"$f":"IF(($T25=1),1,0)","v":0},{"$f":"IF(($T25=2),1,0)","v":0},{"$f":"IF(($T25=3),1,0)","v":0},{"$f":"IF(($T25=4),1,0)","v":0},{"$f":"IF(($T25=5),1,0)","v":0},{"$f":"IF(($T25=6),1,0)","v":0},{"$f":"IF(($X25=1),1,0)","v":0},{"$f":"IF(($X25=2),1,0)","v":0},{"$f":"IF(($X25=3),1,0)","v":0},{"$f":"IF(($X25=4),1,0)","v":0},{"$f":"IF(($X25=5),1,0)","v":0},{"$f":"IF(($X25=6),1,0)","v":0},{"$f":"IF(($AB25=1),1,0)","v":0},{"$f":"IF(($AB25=2),1,0)","v":0},{"$f":"IF(($AB25=3),1,0)","v":0},{"$f":"IF(($AB25=4),1,0)","v":0},{"$f":"IF(($AB25=5),1,0)","v":0},{"$f":"IF(($AB25=6),1,0)","v":0},null,{"$f":"(Visitors!J20+Visitors!K20+NF25)/3","v":0},{"$f":"(NG39+NM39+NS39+NY39+OE39+OK39+OQ39+OX39+PD39+PJ39+PP39+PV39+QB39+QH39)","v":0},{"$f":"IF(AND($C25=\"dp\",$D25=1),2,0)","v":0},{"$f":"IF(AND($C25=\"dp\",$D25=2),2,0)","v":0},{"$f":"IF(AND($C25=\"dp\",$D25=3),2,0)","v":0},{"$f":"IF(AND($C25=\"dp\",$D25=4),2,0)","v":0},{"$f":"IF(AND($C25=\"dp\",$D25=5),2,0)","v":0},{"$f":"IF(AND($C25=\"dp\",$D25=6),2,0)","v":0},{"$f":"IF(AND($H25=\"dp\",$I25=1),2,0)","v":0},{"$f":"IF(AND($H25=\"dp\",$I25=2),2,0)","v":0},{"$f":"IF(AND($H25=\"dp\",$I25=3),2,0)","v":0},{"$f":"IF(AND($H25=\"dp\",$I25=4),2,0)","v":0},{"$f":"IF(AND($H25=\"dp\",$I25=5),2,0)","v":0},{"$f":"IF(AND($H25=\"dp\",$I25=6),2,0)","v":0},{"$f":"IF(AND($K25=\"dp\",$L25=1),2,0)","v":0},{"$f":"IF(AND($K25=\"dp\",$L25=2),2,0)","v":0},{"$f":"IF(AND($K25=\"dp\",$L25=3),2,0)","v":0},{"$f":"IF(AND($K25=\"dp\",$L25=4),2,0)","v":0},{"$f":"IF(AND($K25=\"dp\",$L25=5),2,0)","v":0},{"$f":"IF(AND($K25=\"dp\",$L25=6),2,0)","v":0},{"$f":"IF(AND($O25=\"dp\",$P25=1),2,0)","v":0},{"$f":"IF(AND($O25=\"dp\",$P25=2),2,0)","v":0},{"$f":"IF(AND($O25=\"dp\",$P25=3),2,0)","v":0},{"$f":"IF(AND($O25=\"dp\",$P25=4),2,0)","v":0},{"$f":"IF(AND($O25=\"dp\",$P25=5),2,0)","v":0},{"$f":"IF(AND($O25=\"dp\",$P25=6),2,0)","v":0},{"$f":"IF(AND($S25=\"dp\",$T25=1),2,0)","v":0},{"$f":"IF(AND($S25=\"dp\",$T25=2),2,0)","v":0},{"$f":"IF(AND($S25=\"dp\",$T25=3),2,0)","v":0},{"$f":"IF(AND($S25=\"dp\",$T25=4),2,0)","v":0},{"$f":"IF(AND($S25=\"dp\",$T25=5),2,0)","v":0},{"$f":"IF(AND($S25=\"dp\",$T25=6),2,0)","v":0},{"$f":"IF(AND($W25=\"dp\",$X25=1),2,0)","v":0},{"$f":"IF(AND($W25=\"dp\",$X25=2),2,0)","v":0},{"$f":"IF(AND($W25=\"dp\",$X25=3),2,0)","v":0},{"$f":"IF(AND($W25=\"dp\",$X25=4),2,0)","v":0},{"$f":"IF(AND($W25=\"dp\",$X25=5),2,0)","v":0},{"$f":"IF(AND($W25=\"dp\",$X25=6),2,0)","v":0},{"$f":"IF(AND($AA25=\"dp\",$AB25=1),2,0)","v":0},{"$f":"IF(AND($AA25=\"dp\",$AB25=2),2,0)","v":0},{"$f":"IF(AND($AA25=\"dp\",$AB25=3),2,0)","v":0},{"$f":"IF(AND($AA25=\"dp\",$AB25=4),2,0)","v":0},{"$f":"IF(AND($AA25=\"dp\",$AB25=5),2,0)","v":0},{"$f":"IF(AND($AA25=\"dp\",$AB25=6),2,0)","v":0},null,{"$f":"IF(AND($C25=\"dpr\",$D25=1),2,0)","v":0},{"$f":"IF(AND($C25=\"dpr\",$D25=2),2,0)","v":0},{"$f":"IF(AND($C25=\"dpr\",$D25=3),2,0)","v":0},{"$f":"IF(AND($C25=\"dpr\",$D25=4),2,0)","v":0},{"$f":"IF(AND($C25=\"dpr\",$D25=5),2,0)","v":0},{"$f":"IF(AND($C25=\"dpr\",$D25=6),2,0)","v":0},{"$f":"IF(AND($G25=\"dpr\",$H25=1),2,0)","v":0},{"$f":"IF(AND($G25=\"dpr\",$H25=2),2,0)","v":0},{"$f":"IF(AND($G25=\"dpr\",$H25=3),2,0)","v":0},{"$f":"IF(AND($G25=\"dpr\",$H25=4),2,0)","v":0},{"$f":"IF(AND($G25=\"dpr\",$H25=5),2,0)","v":0},{"$f":"IF(AND($G25=\"dpr\",$H25=6),2,0)","v":0},{"$f":"IF(AND($K25=\"dpr\",$L25=1),2,0)","v":0},{"$f":"IF(AND($K25=\"dpr\",$L25=2),2,0)","v":0},{"$f":"IF(AND($K25=\"dpr\",$L25=3),2,0)","v":0},{"$f":"IF(AND($K25=\"dpr\",$L25=4),2,0)","v":0},{"$f":"IF(AND($K25=\"dpr\",$L25=5),2,0)","v":0},{"$f":"IF(AND($K25=\"dpr\",$L25=6),2,0)","v":0},{"$f":"IF(AND($O25=\"dpr\",$P25=1),2,0)","v":0},{"$f":"IF(AND($O25=\"dpr\",$P25=2),2,0)","v":0},{"$f":"IF(AND($O25=\"dpr\",$P25=3),2,0)","v":0},{"$f":"IF(AND($O25=\"dpr\",$P25=4),2,0)","v":0},{"$f":"IF(AND($O25=\"dpr\",$P25=5),2,0)","v":0},{"$f":"IF(AND($O25=\"dpr\",$P25=6),2,0)","v":0},{"$f":"IF(AND($S25=\"dpr\",$T25=1),2,0)","v":0},{"$f":"IF(AND($S25=\"dpr\",$T25=2),2,0)","v":0},{"$f":"IF(AND($S25=\"dpr\",$T25=3),2,0)","v":0},{"$f":"IF(AND($S25=\"dpr\",$T25=4),2,0)","v":0},{"$f":"IF(AND($S25=\"dpr\",$T25=5),2,0)","v":0},{"$f":"IF(AND($S25=\"dpr\",$T25=6),2,0)","v":0},{"$f":"IF(AND($W25=\"dpr\",$X25=1),2,0)","v":0},{"$f":"IF(AND($W25=\"dpr\",$X25=2),2,0)","v":0},{"$f":"IF(AND($W25=\"dpr\",$X25=3),2,0)","v":0},{"$f":"IF(AND($W25=\"dpr\",$X25=4),2,0)","v":0},{"$f":"IF(AND($W25=\"dpr\",$X25=5),2,0)","v":0},{"$f":"IF(AND($W25=\"dpr\",$X25=6),2,0)","v":0},{"$f":"IF(AND($AA25=\"dp\",$AB25=1),2,0)","v":0},{"$f":"IF(AND($AA25=\"dpr\",$AB25=2),2,0)","v":0},{"$f":"IF(AND($AA25=\"dpr\",$AB25=3),2,0)","v":0},{"$f":"IF(AND($AA25=\"dpr\",$AB25=4),2,0)","v":0},{"$f":"IF(AND($AA25=\"dpr\",$AB25=5),2,0)","v":0},{"$f":"IF(AND($AA25=\"dpr\",$AB25=6),2,0)","v":0}]
[{"$f":"Game!C26","v":0},{"$f":"Game!E26","v":0},{"$f":"Game!J26","v":0},{"$f":"Game!K26","v":0},{"$f":"Game!M26","v":0},{"$f":"Game!N26","v":0},{"$f":"Game!O26","v":0},{"$f":"Game!P26","v":0},{"$f":"Game!R26","v":0},{"$f":"Game!S26","v":0},{"$f":"Game!T26","v":0},{"$f":"Game!U26","v":0},{"$f":"Game!W26","v":0},{"$f":"Game!X26","v":0},{"$f":"Game!Y26","v":0},{"$f":"Game!Z26","v":0},{"$f":"Game!AB26","v":0},{"$f":"Game!AC26","v":0},{"$f":"Game!AD26","v":0},{"$f":"Game!AE26","v":0},{"$f":"Game!AG26","v":0},{"$f":"Game!AH26","v":0},{"$f":"Game!AI26","v":0},{"$f":"Game!AJ26","v":0},{"$f":"Game!AL26","v":0},{"$f":"Game!AM26","v":0},{"$f":"Game!AN26","v":0},{"$f":"Game!AO26","v":0},{"$f":"Game!AQ26","v":0},{"$f":"Game!AR26","v":0},null,{"$f":"IF(AND(OR($C26=\"h\",$C26=\"2b\", $C26=\"3b\", $C26=\"hr\",$C26=\"hrb\",$C26=\"h2rb\",$C26=\"h3rb\",$C26=\"2brb\",$C26=\"2b2rb\",$C26=\"2b3rb\",$C26=\"3brb\",$C26=\"3b2rb\",$C26=\"3b3rb\",$C26=\"hr2\",$C26=\"hr3\",$C26=\"gs\"),$D26=1),1,0)","v":0},{"$f":"IF(AND(OR($C26=\"h\",$C26=\"2b\", $C26=\"3b\", $C26=\"hr\",$C26=\"hrb\",$C26=\"h2rb\",$C26=\"h3rb\",$C26=\"2brb\",$C26=\"2b2rb\",$C26=\"2b3rb\",$C26=\"3brb\",$C26=\"3b2rb\",$C26=\"3b3rb\",$C26=\"hr2\",$C26=\"hr3\",$C26=\"gs\"),$D26=2),1,0)","v":0},{"$f":"IF(AND(OR($C26=\"h\",$C26=\"2b\", $C26=\"3b\", $C26=\"hr\", $C25=\"hrb\",$C25=\"h2rb\",$C25=\"h3rb\",$C25=\"2brb\",$C25=\"2b2rb\",$C25=\"2b3rb\",$C25=\"3brb\",$C25=\"3b2rb\",$C25=\"3b3rb\",$C25=\"hr2\",$C25=\"hr3\",$C25=\"gs\"),$D26=3),1,0)","v":0},{"$f":"IF(AND(OR($C26=\"h\",$C26=\"2b\", $C26=\"3b\", $C26=\"hr\", $C25=\"hrb\",$C25=\"h2rb\",$C25=\"h3rb\",$C25=\"2brb\",$C25=\"2b2rb\",$C25=\"2b3rb\",$C25=\"3brb\",$C25=\"3b2rb\",$C25=\"3b3rb\",$C25=\"hr2\",$C25=\"hr3\",$C25=\"gs\"),$D26=4),1,0)","v":0},{"$f":"IF(AND(OR($C26=\"h\",$C26=\"2b\", $C26=\"3b\", $C26=\"hr\", $C25=\"hrb\",$C25=\"h2rb\",$C25=\"h3rb\",$C25=\"2brb\",$C25=\"2b2rb\",$C25=\"2b3rb\",$C25=\"3brb\",$C25=\"3b2rb\",$C25=\"3b3rb\",$C25=\"hr2\",$C25=\"hr3\",$C25=\"gs\"),$D26=5),1,0)","v":0},{"$f":"IF(AND(OR($C26=\"h\",$C26=\"2b\", $C26=\"3b\", $C26=\"hr\", $C25=\"hrb\",$C25=\"h2rb\",$C25=\"h3rb\",$C25=\"2brb\",$C25=\"2b2rb\",$C25=\"2b3rb\",$C25=\"3brb\",$C25=\"3b2rb\",$C25=\"3b3rb\",$C25=\"hr2\",$C25=\"hr3\",$C25=\"gs\"),$D26=6),1,0)","v":0},{"$f":"IF(AND(OR($G26=\"h\",$G26=\"2b\", $G26=\"3b\", $G26=\"hr\", $G26=\"hrb\",$G26=\"h2rb\",$G26=\"h3rb\",$G26=\"2brb\",$G26=\"2b2rb\",$G26=\"2b3rb\",$G26=\"3brb\",$G26=\"3b2rb\",$G26=\"3b3rb\",$G26=\"hr2\",$G26=\"hr3\",$G26=\"gs\"),$H26=1),1,0)","v":0},{"$f":"IF(AND(OR($G26=\"h\",$G26=\"2b\", $G26=\"3b\", $G26=\"hr\", $G26=\"hrb\",$G26=\"h2rb\",$G26=\"h3rb\",$G26=\"2brb\",$G26=\"2b2rb\",$G26=\"2b3rb\",$G26=\"3brb\",$G26=\"3b2rb\",$G26=\"3b3rb\",$G26=\"hr2\",$G26=\"hr3\",$G26=\"gs\"),$H26=2),1,0)","v":0},{"$f":"IF(AND(OR($G26=\"h\",$G26=\"2b\", $G26=\"3b\", $G26=\"hr\", $G26=\"hrb\",$G26=\"h2rb\",$G26=\"h3rb\",$G26=\"2brb\",$G26=\"2b2rb\",$G26=\"2b3rb\",$G26=\"3brb\",$G26=\"3b2rb\",$G26=\"3b3rb\",$G26=\"hr2\",$G26=\"hr3\",$G26=\"gs\"),$H26=3),1,0)","v":0},{"$f":"IF(AND(OR($G26=\"h\",$G26=\"2b\", $G26=\"3b\", $G26=\"hr\", $G26=\"hrb\",$G26=\"h2rb\",$G26=\"h3rb\",$G26=\"2brb\",$G26=\"2b2rb\",$G26=\"2b3rb\",$G26=\"3brb\",$G26=\"3b2rb\",$G26=\"3b3rb\",$G26=\"hr2\",$G26=\"hr3\",$G26=\"gs\"),$H26=4),1,0)","v":0},{"$f":"IF(AND(OR($G26=\"h\",$G26=\"2b\", $G26=\"3b\", $G26=\"hr\", $G26=\"hrb\",$G26=\"h2rb\",$G26=\"h3rb\",$G26=\"2brb\",$G26=\"2b2rb\",$G26=\"2b3rb\",$G26=\"3brb\",$G26=\"3b2rb\",$G26=\"3b3rb\",$G26=\"hr2\",$G26=\"hr3\",$G26=\"gs\"),$H26=5),1,0)","v":0},{"$f":"IF(AND(OR($G26=\"h\",$G26=\"2b\", $G26=\"3b\", $G26=\"hr\", $G26=\"hrb\",$G26=\"h2rb\",$G26=\"h3rb\",$G26=\"2brb\",$G26=\"2b2rb\",$G26=\"2b3rb\",$G26=\"3brb\",$G26=\"3b2rb\",$G26=\"3b3rb\",$G26=\"hr2\",$G26=\"hr3\",$G26=\"gs\"),$H26=6),1,0)","v":0},{"$f":"IF(AND(OR($K26=\"h\",$K26=\"2b\", $K26=\"3b\", $K26=\"hr\", $K26=\"hrb\",$K26=\"h2rb\",$K26=\"h3rb\",$K26=\"2brb\",$K26=\"2b2rb\",$K26=\"2b3rb\",$K26=\"3brb\",$K26=\"3b2rb\",$K26=\"3b3rb\",$K26=\"hr2\",$K26=\"hr3\",$K26=\"gs\"),$L26=1),1,0)","v":0},{"$f":"IF(AND(OR($K26=\"h\",$K26=\"2b\", $K26=\"3b\", $K26=\"hr\", $K26=\"hrb\",$K26=\"h2rb\",$K26=\"h3rb\",$K26=\"2brb\",$K26=\"2b2rb\",$K26=\"2b3rb\",$K26=\"3brb\",$K26=\"3b2rb\",$K26=\"3b3rb\",$K26=\"hr2\",$K26=\"hr3\",$K26=\"gs\"),$L26=2),1,0)","v":0},{"$f":"IF(AND(OR($K26=\"h\",$K26=\"2b\", $K26=\"3b\", $K26=\"hr\", $K26=\"hrb\",$K26=\"h2rb\",$K26=\"h3rb\",$K26=\"2brb\",$K26=\"2b2rb\",$K26=\"2b3rb\",$K26=\"3brb\",$K26=\"3b2rb\",$K26=\"3b3rb\",$K26=\"hr2\",$K26=\"hr3\",$K26=\"gs\"),$L26=3),1,0)","v":0},{"$f":"IF(AND(OR($K26=\"h\",$K26=\"2b\", $K26=\"3b\", $K26=\"hr\", $K26=\"hrb\",$K26=\"h2rb\",$K26=\"h3rb\",$K26=\"2brb\",$K26=\"2b2rb\",$K26=\"2b3rb\",$K26=\"3brb\",$K26=\"3b2rb\",$K26=\"3b3rb\",$K26=\"hr2\",$K26=\"hr3\",$K26=\"gs\"),$L26=4),1,0)","v":0},{"$f":"IF(AND(OR($K26=\"h\",$K26=\"2b\", $K26=\"3b\", $K26=\"hr\", $K26=\"hrb\",$K26=\"h2rb\",$K26=\"h3rb\",$K26=\"2brb\",$K26=\"2b2rb\",$K26=\"2b3rb\",$K26=\"3brb\",$K26=\"3b2rb\",$K26=\"3b3rb\",$K26=\"hr2\",$K26=\"hr3\",$K26=\"gs\"),$L26=5),1,0)","v":0},{"$f":"IF(AND(OR($K26=\"h\",$K26=\"2b\", $K26=\"3b\", $K26=\"hr\", $K26=\"hrb\",$K26=\"h2rb\",$K26=\"h3rb\",$K26=\"2brb\",$K26=\"2b2rb\",$K26=\"2b3rb\",$K26=\"3brb\",$K26=\"3b2rb\",$K26=\"3b3rb\",$K26=\"hr2\",$K26=\"hr3\",$K26=\"gs\"),$L26=6),1,0)","v":0},{"$f":"IF(AND(OR($O26=\"h\",$O26=\"2b\", $O26=\"3b\", $O26=\"hr\", $O26=\"hrb\",$O26=\"h2rb\",$O26=\"h3rb\",$O26=\"2brb\",$O26=\"2b2rb\",$O26=\"2b3rb\",$O26=\"3brb\",$O26=\"3b2rb\",$O26=\"3b3rb\",$O26=\"hr2\",$O26=\"hr3\",$O26=\"gs\"),$P26=1),1,0)","v":0},{"$f":"IF(AND(OR($O26=\"h\",$O26=\"2b\", $O26=\"3b\", $O26=\"hr\", $O26=\"hrb\",$O26=\"h2rb\",$O26=\"h3rb\",$O26=\"2brb\",$O26=\"2b2rb\",$O26=\"2b3rb\",$O26=\"3brb\",$O26=\"3b2rb\",$O26=\"3b3rb\",$O26=\"hr2\",$O26=\"hr3\",$O26=\"gs\"),$P26=2),1,0)","v":0},{"$f":"IF(AND(OR($O26=\"h\",$O26=\"2b\", $O26=\"3b\", $O26=\"hr\", $O26=\"hrb\",$O26=\"h2rb\",$O26=\"h3rb\",$O26=\"2brb\",$O26=\"2b2rb\",$O26=\"2b3rb\",$O26=\"3brb\",$O26=\"3b2rb\",$O26=\"3b3rb\",$O26=\"hr2\",$O26=\"hr3\",$O26=\"gs\"),$P26=3),1,0)","v":0},{"$f":"IF(AND(OR($O26=\"h\",$O26=\"2b\", $O26=\"3b\", $O26=\"hr\", $O26=\"hrb\",$O26=\"h2rb\",$O26=\"h3rb\",$O26=\"2brb\",$O26=\"2b2rb\",$O26=\"2b3rb\",$O26=\"3brb\",$O26=\"3b2rb\",$O26=\"3b3rb\",$O26=\"hr2\",$O26=\"hr3\",$O26=\"gs\"),$P26=4),1,0)","v":0},{"$f":"IF(AND(OR($O26=\"h\",$O26=\"2b\", $O26=\"3b\", $O26=\"hr\", $O26=\"hrb\",$O26=\"h2rb\",$O26=\"h3rb\",$O26=\"2brb\",$O26=\"2b2rb\",$O26=\"2b3rb\",$O26=\"3brb\",$O26=\"3b2rb\",$O26=\"3b3rb\",$O26=\"hr2\",$O26=\"hr3\",$O26=\"gs\"),$P26=5),1,0)","v":0},{"$f":"IF(AND(OR($O26=\"h\",$O26=\"2b\", $O26=\"3b\", $O26=\"hr\", $O26=\"hrb\",$O26=\"h2rb\",$O26=\"h3rb\",$O26=\"2brb\",$O26=\"2b2rb\",$O26=\"2b3rb\",$O26=\"3brb\",$O26=\"3b2rb\",$O26=\"3b3rb\",$O26=\"hr2\",$O26=\"hr3\",$O26=\"gs\"),$P26=6),1,0)","v":0},{"$f":"IF(AND(OR($S26=\"h\",$S26=\"2b\", $S26=\"3b\", $S26=\"hr\", $S26=\"hrb\",$S26=\"h2rb\",$S26=\"h3rb\",$S26=\"2brb\",$S26=\"2b2rb\",$S26=\"2b3rb\",$S26=\"3brb\",$S26=\"3b2rb\",$S26=\"3b3rb\",$S26=\"hr2\",$S26=\"hr3\",$S26=\"gs\"),$T26=1),1,0)","v":0},{"$f":"IF(AND(OR($S26=\"h\",$S26=\"2b\", $S26=\"3b\", $S26=\"hr\", $S26=\"hrb\",$S26=\"h2rb\",$S26=\"h3rb\",$S26=\"2brb\",$S26=\"2b2rb\",$S26=\"2b3rb\",$S26=\"3brb\",$S26=\"3b2rb\",$S26=\"3b3rb\",$S26=\"hr2\",$S26=\"hr3\",$S26=\"gs\"),$T26=2),1,0)","v":0},{"$f":"IF(AND(OR($S26=\"h\",$S26=\"2b\", $S26=\"3b\", $S26=\"hr\", $S26=\"hrb\",$S26=\"h2rb\",$S26=\"h3rb\",$S26=\"2brb\",$S26=\"2b2rb\",$S26=\"2b3rb\",$S26=\"3brb\",$S26=\"3b2rb\",$S26=\"3b3rb\",$S26=\"hr2\",$S26=\"hr3\",$S26=\"gs\"),$T26=3),1,0)","v":0},{"$f":"IF(AND(OR($S26=\"h\",$S26=\"2b\", $S26=\"3b\", $S26=\"hr\", $S26=\"hrb\",$S26=\"h2rb\",$S26=\"h3rb\",$S26=\"2brb\",$S26=\"2b2rb\",$S26=\"2b3rb\",$S26=\"3brb\",$S26=\"3b2rb\",$S26=\"3b3rb\",$S26=\"hr2\",$S26=\"hr3\",$S26=\"gs\"),$T26=4),1,0)","v":0},{"$f":"IF(AND(OR($S26=\"h\",$S26=\"2b\", $S26=\"3b\", $S26=\"hr\", $S26=\"hrb\",$S26=\"h2rb\",$S26=\"h3rb\",$S26=\"2brb\",$S26=\"2b2rb\",$S26=\"2b3rb\",$S26=\"3brb\",$S26=\"3b2rb\",$S26=\"3b3rb\",$S26=\"hr2\",$S26=\"hr3\",$S26=\"gs\"),$T26=5),1,0)","v":0},{"$f":"IF(AND(OR($S26=\"h\",$S26=\"2b\", $S26=\"3b\", $S26=\"hr\", $S26=\"hrb\",$S26=\"h2rb\",$S26=\"h3rb\",$S26=\"2brb\",$S26=\"2b2rb\",$S26=\"2b3rb\",$S26=\"3brb\",$S26=\"3b2rb\",$S26=\"3b3rb\",$S26=\"hr2\",$S26=\"hr3\",$S26=\"gs\"),$T26=6),1,0)","v":0},{"$f":"IF(AND(OR($W26=\"h\",$W26=\"2b\", $W26=\"3b\", $W26=\"hr\", $W26=\"hrb\",$W26=\"h2rb\",$W26=\"h3rb\",$W26=\"2brb\",$W26=\"2b2rb\",$W26=\"2b3rb\",$W26=\"3brb\",$W26=\"3b2rb\",$W26=\"3b3rb\",$W26=\"hr2\",$W26=\"hr3\",$W26=\"gs\"),$X26=1),1,0)","v":0},{"$f":"IF(AND(OR($W26=\"h\",$W26=\"2b\", $W26=\"3b\", $W26=\"hr\", $W26=\"hrb\",$W26=\"h2rb\",$W26=\"h3rb\",$W26=\"2brb\",$W26=\"2b2rb\",$W26=\"2b3rb\",$W26=\"3brb\",$W26=\"3b2rb\",$W26=\"3b3rb\",$W26=\"hr2\",$W26=\"hr3\",$W26=\"gs\"),$X26=2),1,0)","v":0},{"$f":"IF(AND(OR($W26=\"h\",$W26=\"2b\", $W26=\"3b\", $W26=\"hr\", $W26=\"hrb\",$W26=\"h2rb\",$W26=\"h3rb\",$W26=\"2brb\",$W26=\"2b2rb\",$W26=\"2b3rb\",$W26=\"3brb\",$W26=\"3b2rb\",$W26=\"3b3rb\",$W26=\"hr2\",$W26=\"hr3\",$W26=\"gs\"),$X26=3),1,0)","v":0},{"$f":"IF(AND(OR($W26=\"h\",$W26=\"2b\", $W26=\"3b\", $W26=\"hr\", $W26=\"hrb\",$W26=\"h2rb\",$W26=\"h3rb\",$W26=\"2brb\",$W26=\"2b2rb\",$W26=\"2b3rb\",$W26=\"3brb\",$W26=\"3b2rb\",$W26=\"3b3rb\",$W26=\"hr2\",$W26=\"hr3\",$W26=\"gs\"),$X26=4),1,0)","v":0},{"$f":"IF(AND(OR($W26=\"h\",$W26=\"2b\", $W26=\"3b\", $W26=\"hr\", $W26=\"hrb\",$W26=\"h2rb\",$W26=\"h3rb\",$W26=\"2brb\",$W26=\"2b2rb\",$W26=\"2b3rb\",$W26=\"3brb\",$W26=\"3b2rb\",$W26=\"3b3rb\",$W26=\"hr2\",$W26=\"hr3\",$W26=\"gs\"),$X26=5),1,0)","v":0},{"$f":"IF(AND(OR($W26=\"h\",$W26=\"2b\", $W26=\"3b\", $W26=\"hr\", $W26=\"hrb\",$W26=\"h2rb\",$W26=\"h3rb\",$W26=\"2brb\",$W26=\"2b2rb\",$W26=\"2b3rb\",$W26=\"3brb\",$W26=\"3b2rb\",$W26=\"3b3rb\",$W26=\"hr2\",$W26=\"hr3\",$W26=\"gs\"),$X26=6),1,0)","v":0},{"$f":"IF(AND(OR($AA26=\"h\",$AA26=\"2b\", $AA26=\"3b\", $AA26=\"hr\", $AA26=\"hrb\",$AA26=\"h2rb\",$AA26=\"h3rb\",$AA26=\"2brb\",$AA26=\"2b2rb\",$AA26=\"2b3rb\",$AA26=\"3brb\",$AA26=\"3b2rb\",$AA26=\"3b3rb\",$AA26=\"hr2\",$AA26=\"hr3\",$AA26=\"gs\"),$AB26=1),1,0)","v":0},{"$f":"IF(AND(OR($AA26=\"h\",$AA26=\"2b\", $AA26=\"3b\", $AA26=\"hr\", $AA26=\"hrb\",$AA26=\"h2rb\",$AA26=\"h3rb\",$AA26=\"2brb\",$AA26=\"2b2rb\",$AA26=\"2b3rb\",$AA26=\"3brb\",$AA26=\"3b2rb\",$AA26=\"3b3rb\",$AA26=\"hr2\",$AA26=\"hr3\",$AA26=\"gs\"),$AB26=2),1,0)","v":0},{"$f":"IF(AND(OR($AA26=\"h\",$AA26=\"2b\", $AA26=\"3b\", $AA26=\"hr\", $AA26=\"hrb\",$AA26=\"h2rb\",$AA26=\"h3rb\",$AA26=\"2brb\",$AA26=\"2b2rb\",$AA26=\"2b3rb\",$AA26=\"3brb\",$AA26=\"3b2rb\",$AA26=\"3b3rb\",$AA26=\"hr2\",$AA26=\"hr3\",$AA26=\"gs\"),$AB26=3),1,0)","v":0},{"$f":"IF(AND(OR($AA26=\"h\",$AA26=\"2b\", $AA26=\"3b\", $AA26=\"hr\", $AA26=\"hrb\",$AA26=\"h2rb\",$AA26=\"h3rb\",$AA26=\"2brb\",$AA26=\"2b2rb\",$AA26=\"2b3rb\",$AA26=\"3brb\",$AA26=\"3b2rb\",$AA26=\"3b3rb\",$AA26=\"hr2\",$AA26=\"hr3\",$AA26=\"gs\"),$AB26=4),1,0)","v":0},{"$f":"IF(AND(OR($AA26=\"h\",$AA26=\"2b\", $AA26=\"3b\", $AA26=\"hr\", $AA26=\"hrb\",$AA26=\"h2rb\",$AA26=\"h3rb\",$AA26=\"2brb\",$AA26=\"2b2rb\",$AA26=\"2b3rb\",$AA26=\"3brb\",$AA26=\"3b2rb\",$AA26=\"3b3rb\",$AA26=\"hr2\",$AA26=\"hr3\",$AA26=\"gs\"),$AB26=5),1,0)","v":0},{"$f":"IF(AND(OR($AA26=\"h\",$AA26=\"2b\", $AA26=\"3b\", $AA26=\"hr\", $AA26=\"hrb\",$AA26=\"h2rb\",$AA26=\"h3rb\",$AA26=\"2brb\",$AA26=\"2b2rb\",$AA26=\"2b3rb\",$AA26=\"3brb\",$AA26=\"3b2rb\",$AA26=\"3b3rb\",$AA26=\"hr2\",$AA26=\"hr3\",$AA26=\"gs\"),$AB26=6),1,0)","v":0},{"$f":"IF(AND(OR($C26=\"HR\",$C26=\"HR2\",$C26=\"HR3\",$C26=\"GS\"),$D26=1),1,0)","v":0},{"$f":"IF(AND(OR($C26=\"HR\",$C26=\"HR2\",$C26=\"HR3\",$C26=\"GS\"),$D26=2),1,0)","v":0},{"$f":"IF(AND(OR($C26=\"HR\",$C26=\"HR2\",$C26=\"HR3\",$C26=\"GS\"),$D26=3),1,0)","v":0},{"$f":"IF(AND(OR($C26=\"HR\",$C26=\"HR2\",$C26=\"HR3\",$C26=\"GS\"),$D26=4),1,0)","v":0},{"$f":"IF(AND(OR($C26=\"HR\",$C26=\"HR2\",$C26=\"HR3\",$C26=\"GS\"),$D26=5),1,0)","v":0},{"$f":"IF(AND(OR($C26=\"HR\",$C26=\"HR2\",$C26=\"HR3\",$C26=\"GS\"),$D26=6),1,0)","v":0},{"$f":"IF(AND(OR($G26=\"HR\",$G26=\"HR2\",$G26=\"HR3\",$G26=\"GS\"),$H26=1),1,0)","v":0},{"$f":"IF(AND(OR($G26=\"HR\",$G26=\"HR2\",$G26=\"HR3\",$G26=\"GS\"),$H26=2),1,0)","v":0},{"$f":"IF(AND(OR($G26=\"HR\",$G26=\"HR2\",$G26=\"HR3\",$G26=\"GS\"),$H26=3),1,0)","v":0},{"$f":"IF(AND(OR($G26=\"HR\",$G26=\"HR2\",$G26=\"HR3\",$G26=\"GS\"),$H26=4),1,0)","v":0},{"$f":"IF(AND(OR($G26=\"HR\",$G26=\"HR2\",$G26=\"HR3\",$G26=\"GS\"),$H26=5),1,0)","v":0},{"$f":"IF(AND(OR($G26=\"HR\",$G26=\"HR2\",$G26=\"HR3\",$G26=\"GS\"),$H26=6),1,0)","v":0},{"$f":"IF(AND(OR($K26=\"HR\",$K26=\"HR2\",$K26=\"HR3\",$K26=\"GS\"),$L26=1),1,0)","v":0},{"$f":"IF(AND(OR($K26=\"HR\",$K26=\"HR2\",$K26=\"HR3\",$K26=\"GS\"),$L26=2),1,0)","v":0},{"$f":"IF(AND(OR($K26=\"HR\",$K26=\"HR2\",$K26=\"HR3\",$K26=\"GS\"),$L26=3),1,0)","v":0},{"$f":"IF(AND(OR($K26=\"HR\",$K26=\"HR2\",$K26=\"HR3\",$K26=\"GS\"),$L26=4),1,0)","v":0},{"$f":"IF(AND(OR($K26=\"HR\",$K26=\"HR2\",$K26=\"HR3\",$K26=\"GS\"),$L26=5),1,0)","v":0},{"$f":"IF(AND(OR($K26=\"HR\",$K26=\"HR2\",$K26=\"HR3\",$K26=\"GS\"),$L26=6),1,0)","v":0},{"$f":"IF(AND(OR($O26=\"HR\",$O26=\"HR2\",$O26=\"HR3\",$O26=\"GS\"),$P26=1),1,0)","v":0},{"$f":"IF(AND(OR($O26=\"HR\",$O26=\"HR2\",$O26=\"HR3\",$O26=\"GS\"),$P26=2),1,0)","v":0},{"$f":"IF(AND(OR($O26=\"HR\",$O26=\"HR2\",$O26=\"HR3\",$O26=\"GS\"),$P26=3),1,0)","v":0},{"$f":"IF(AND(OR($O26=\"HR\",$O26=\"HR2\",$O26=\"HR3\",$O26=\"GS\"),$P26=4),1,0)","v":0},{"$f":"IF(AND(OR($O26=\"HR\",$O26=\"HR2\",$O26=\"HR3\",$O26=\"GS\"),$P26=5),1,0)","v":0},{"$f":"IF(AND(OR($O26=\"HR\",$O26=\"HR2\",$O26=\"HR3\",$O26=\"GS\"),$P26=6),1,0)","v":0},{"$f":"IF(AND(OR($S26=\"HR\",$S26=\"HR2\",$S26=\"HR3\",$S26=\"GS\"),$T26=1),1,0)","v":0},{"$f":"IF(AND(OR($S26=\"HR\",$S26=\"HR2\",$S26=\"HR3\",$S26=\"GS\"),$T26=2),1,0)","v":0},{"$f":"IF(AND(OR($S26=\"HR\",$S26=\"HR2\",$S26=\"HR3\",$S26=\"GS\"),$T26=3),1,0)","v":0},{"$f":"IF(AND(OR($S26=\"HR\",$S26=\"HR2\",$S26=\"HR3\",$S26=\"GS\"),$T26=4),1,0)","v":0},{"$f":"IF(AND(OR($S26=\"HR\",$S26=\"HR2\",$S26=\"HR3\",$S26=\"GS\"),$T26=5),1,0)","v":0},{"$f":"IF(AND(OR($S26=\"HR\",$S26=\"HR2\",$S26=\"HR3\",$S26=\"GS\"),$T26=6),1,0)","v":0},{"$f":"IF(AND(OR($W26=\"HR\",$W26=\"HR2\",$W26=\"HR3\",$W26=\"GS\"),$X26=1),1,0)","v":0},{"$f":"IF(AND(OR($W26=\"HR\",$W26=\"HR2\",$W26=\"HR3\",$W26=\"GS\"),$X26=2),1,0)","v":0},{"$f":"IF(AND(OR($W26=\"HR\",$W26=\"HR2\",$W26=\"HR3\",$W26=\"GS\"),$X26=3),2,0)","v":0},{"$f":"IF(AND(OR($W26=\"HR\",$W26=\"HR2\",$W26=\"HR3\",$W26=\"GS\"),$X26=4),2,0)","v":0},{"$f":"IF(AND(OR($W26=\"HR\",$W26=\"HR2\",$W26=\"HR3\",$W26=\"GS\"),$X26=5),2,0)","v":0},{"$f":"IF(AND(OR($W26=\"HR\",$W26=\"HR2\",$W26=\"HR3\",$W26=\"GS\"),$X26=6),2,0)","v":0},{"$f":"IF(AND(OR($AA26=\"HR\",$AA26=\"HR2\",$AA26=\"HR3\",$AA26=\"GS\"),$AB26=1),1,0)","v":0},{"$f":"IF(AND(OR($AA26=\"HR\",$AA26=\"HR2\",$AA26=\"HR3\",$AA26=\"GS\"),$AB26=2),1,0)","v":0},{"$f":"IF(AND(OR($AA26=\"HR\",$AA26=\"HR2\",$AA26=\"HR3\",$AA26=\"GS\"),$AB26=3),1,0)","v":0},{"$f":"IF(AND(OR($AA26=\"HR\",$AA26=\"HR2\",$AA26=\"HR3\",$AA26=\"GS\"),$AB26=4),1,0)","v":0},{"$f":"IF(AND(OR($AA26=\"HR\",$AA26=\"HR2\",$AA26=\"HR3\",$AA26=\"GS\"),$AB26=5),1,0)","v":0},{"$f":"IF(AND(OR($AA26=\"HR\",$AA26=\"HR2\",$AA26=\"HR3\",$AA26=\"GS\"),$AB26=6),1,0)","v":0},{"$f":"IF(AND($C26=\"go\",$D26=1),1,0)","v":0},{"$f":"IF(AND($C26=\"go\",$D26=2),1,0)","v":0},{"$f":"IF(AND($C26=\"go\",$D26=3),1,0)","v":0},{"$f":"IF(AND($C26=\"go\",$D26=4),1,0)","v":0},{"$f":"IF(AND($C26=\"go\",$D26=5),1,0)","v":0},{"$f":"IF(AND($C26=\"go\",$D26=6),1,0)","v":0},{"$f":"IF(AND($G26=\"go\",$H26=1),1,0)","v":0},{"$f":"IF(AND($G26=\"go\",$H26=2),1,0)","v":0},{"$f":"IF(AND($G26=\"go\",$H26=3),1,0)","v":0},{"$f":"IF(AND($G26=\"go\",$H26=4),1,0)","v":0},{"$f":"IF(AND($G26=\"go\",$H26=5),1,0)","v":0},{"$f":"IF(AND($G26=\"go\",$H26=6),1,0)","v":0},{"$f":"IF(AND($K26=\"go\",$L26=1),1,0)","v":0},{"$f":"IF(AND($K26=\"go\",$L26=2),1,0)","v":0},{"$f":"IF(AND($K26=\"go\",$L26=3),1,0)","v":0},{"$f":"IF(AND($K26=\"go\",$L26=4),1,0)","v":0},{"$f":"IF(AND($K26=\"go\",$L26=5),1,0)","v":0},{"$f":"IF(AND($K26=\"go\",$L26=6),1,0)","v":0},{"$f":"IF(AND($O26=\"go\",$P26=1),1,0)","v":0},{"$f":"IF(AND($O26=\"go\",$P26=2),1,0)","v":0},{"$f":"IF(AND($O26=\"go\",$P26=3),1,0)","v":0},{"$f":"IF(AND($O26=\"go\",$P26=4),1,0)","v":0},{"$f":"IF(AND($O26=\"go\",$P26=5),1,0)","v":0},{"$f":"IF(AND($O26=\"go\",$P26=6),1,0)","v":0},{"$f":"IF(AND($S26=\"go\",$T26=1),1,0)","v":0},{"$f":"IF(AND($S26=\"go\",$T26=2),1,0)","v":0},{"$f":"IF(AND($S26=\"go\",$T26=3),1,0)","v":0},{"$f":"IF(AND($S26=\"go\",$T26=4),1,0)","v":0},{"$f":"IF(AND($S26=\"go\",$T26=5),1,0)","v":0},{"$f":"IF(AND($S26=\"go\",$T26=6),1,0)","v":0},{"$f":"IF(AND($W26=\"go\",$X26=1),1,0)","v":0},{"$f":"IF(AND($W26=\"go\",$X26=2),1,0)","v":0},{"$f":"IF(AND($W26=\"go\",$X26=3),1,0)","v":0},{"$f":"IF(AND($W26=\"go\",$X26=4),1,0)","v":0},{"$f":"IF(AND($W26=\"go\",$X26=5),1,0)","v":0},{"$f":"IF(AND($W26=\"go\",$X26=6),1,0)","v":0},{"$f":"IF(AND($AA26=\"go\",$AB26=1),1,0)","v":0},{"$f":"IF(AND($AA26=\"go\",$AB26=2),1,0)","v":0},{"$f":"IF(AND($AA26=\"go\",$AB26=3),1,0)","v":0},{"$f":"IF(AND($AA26=\"go\",$AB26=4),1,0)","v":0},{"$f":"IF(AND($AA26=\"go\",$AB26=5),1,0)","v":0},{"$f":"IF(AND($AA26=\"go\",$AB26=6),1,0)","v":0},0,0,0,0,0,0,0,0,0,0,0,0,0,0,0,0,0,0,0,0,0,0,0,0,0,0,0,{"$f":"IF(AND($S26=\"ao\",$T26=4),1,0)","v":0},0,0,0,0,0,0,0,0,0,0,0,0,0,0,0,0,0,0,0,0,0,0,0,0,0,0,0,0,0,0,0,0,0,0,0,0,0,0,0,0,0,0,0,0,0,0,0,0,0,0,0,0,0,0,0,0,0,0,0,0,0,0,0,0,0,0,0,0,0,0,0,0,0,0,0,0,0,0,0,0,0,0,0,0,0,0,0,0,0,0,0,0,0,0,0,0,0,0,0,0,0,0,0,0,0,0,0,0,0,0,0,0,0,0,0,0,0,0,0,0,0,0,0,0,0,0,0,0,0,0,0,0,0,0,0,0,0,0,0,0,{"$f":"IF(($D26=1),1,0)","v":0},{"$f":"IF(($D26=2),1,0)","v":0},{"$f":"IF(($D26=3),1,0)","v":0},{"$f":"IF(($D26=4),1,0)","v":0},{"$f":"IF(($D26=5),1,0)","v":0},{"$f":"IF(($D26=6),1,0)","v":0},{"$f":"IF(($H26=1),1,0)","v":0},{"$f":"IF(($H26=2),1,0)","v":0},{"$f":"IF(($H26=3),1,0)","v":0},{"$f":"IF(($H26=4),1,0)","v":0},{"$f":"IF(($H26=5),1,0)","v":0},{"$f":"IF(($H26=6),1,0)","v":0},{"$f":"IF(($L26=1),1,0)","v":0},{"$f":"IF(($L26=2),1,0)","v":0},{"$f":"IF(($L26=3),1,0)","v":0},{"$f":"IF(($L26=4),1,0)","v":0},{"$f":"IF(($L26=5),1,0)","v":0},{"$f":"IF(($L26=6),1,0)","v":0},{"$f":"IF(($P26=1),1,0)","v":0},{"$f":"IF(($P26=2),1,0)","v":0},{"$f":"IF(($P26=3),1,0)","v":0},{"$f":"IF(($P26=4),1,0)","v":0},{"$f":"IF(($P26=5),1,0)","v":0},{"$f":"IF(($P26=6),1,0)","v":0},{"$f":"IF(($T26=1),1,0)","v":0},{"$f":"IF(($T26=2),1,0)","v":0},{"$f":"IF(($T26=3),1,0)","v":0},{"$f":"IF(($T26=4),1,0)","v":0},{"$f":"IF(($T26=5),1,0)","v":0},{"$f":"IF(($T26=6),1,0)","v":0},{"$f":"IF(($X26=1),1,0)","v":0},{"$f":"IF(($X26=2),1,0)","v":0},{"$f":"IF(($X26=3),1,0)","v":0},{"$f":"IF(($X26=4),1,0)","v":0},{"$f":"IF(($X26=5),1,0)","v":0},{"$f":"IF(($X26=6),1,0)","v":0},{"$f":"IF(($AB26=1),1,0)","v":0},{"$f":"IF(($AB26=2),1,0)","v":0},{"$f":"IF(($AB26=3),1,0)","v":0},{"$f":"IF(($AB26=4),1,0)","v":0},{"$f":"IF(($AB26=5),1,0)","v":0},{"$f":"IF(($AB26=6),1,0)","v":0},null,{"$f":"(Visitors!J21+Visitors!K21+NF26)/3","v":0},{"$f":"(NH39+NN39+NT39+NZ39+OF39+OL39+OR39+OY39+PE39+PK39+PQ39+PW39+QC39+QI39)","v":0},{"$f":"IF(AND($C26=\"dp\",$D26=1),2,0)","v":0},{"$f":"IF(AND($C26=\"dp\",$D26=2),2,0)","v":0},{"$f":"IF(AND($C26=\"dp\",$D26=3),2,0)","v":0},{"$f":"IF(AND($C26=\"dp\",$D26=4),2,0)","v":0},{"$f":"IF(AND($C26=\"dp\",$D26=5),2,0)","v":0},{"$f":"IF(AND($C26=\"dp\",$D26=6),2,0)","v":0},{"$f":"IF(AND($H26=\"dp\",$I26=1),2,0)","v":0},{"$f":"IF(AND($H26=\"dp\",$I26=2),2,0)","v":0},{"$f":"IF(AND($H26=\"dp\",$I26=3),2,0)","v":0},{"$f":"IF(AND($H26=\"dp\",$I26=4),2,0)","v":0},{"$f":"IF(AND($H26=\"dp\",$I26=5),2,0)","v":0},{"$f":"IF(AND($H26=\"dp\",$I26=6),2,0)","v":0},{"$f":"IF(AND($K26=\"dp\",$L26=1),2,0)","v":0},{"$f":"IF(AND($K26=\"dp\",$L26=2),2,0)","v":0},{"$f":"IF(AND($K26=\"dp\",$L26=3),2,0)","v":0},{"$f":"IF(AND($K26=\"dp\",$L26=4),2,0)","v":0},{"$f":"IF(AND($K26=\"dp\",$L26=5),2,0)","v":0},{"$f":"IF(AND($K26=\"dp\",$L26=6),2,0)","v":0},{"$f":"IF(AND($O26=\"dp\",$P26=1),2,0)","v":0},{"$f":"IF(AND($O26=\"dp\",$P26=2),2,0)","v":0},{"$f":"IF(AND($O26=\"dp\",$P26=3),2,0)","v":0},{"$f":"IF(AND($O26=\"dp\",$P26=4),2,0)","v":0},{"$f":"IF(AND($O26=\"dp\",$P26=5),2,0)","v":0},{"$f":"IF(AND($O26=\"dp\",$P26=6),2,0)","v":0},{"$f":"IF(AND($S26=\"dp\",$T26=1),2,0)","v":0},{"$f":"IF(AND($S26=\"dp\",$T26=2),2,0)","v":0},{"$f":"IF(AND($S26=\"dp\",$T26=3),2,0)","v":0},{"$f":"IF(AND($S26=\"dp\",$T26=4),2,0)","v":0},{"$f":"IF(AND($S26=\"dp\",$T26=5),2,0)","v":0},{"$f":"IF(AND($S26=\"dp\",$T26=6),2,0)","v":0},{"$f":"IF(AND($W26=\"dp\",$X26=1),2,0)","v":0},{"$f":"IF(AND($W26=\"dp\",$X26=2),2,0)","v":0},{"$f":"IF(AND($W26=\"dp\",$X26=3),2,0)","v":0},{"$f":"IF(AND($W26=\"dp\",$X26=4),2,0)","v":0},{"$f":"IF(AND($W26=\"dp\",$X26=5),2,0)","v":0},{"$f":"IF(AND($W26=\"dp\",$X26=6),2,0)","v":0},{"$f":"IF(AND($AA26=\"dp\",$AB26=1),2,0)","v":0},{"$f":"IF(AND($AA26=\"dp\",$AB26=2),2,0)","v":0},{"$f":"IF(AND($AA26=\"dp\",$AB26=3),2,0)","v":0},{"$f":"IF(AND($AA26=\"dp\",$AB26=4),2,0)","v":0},{"$f":"IF(AND($AA26=\"dp\",$AB26=5),2,0)","v":0},{"$f":"IF(AND($AA26=\"dp\",$AB26=6),2,0)","v":0},null,0,0,0,0,0,0,{"$f":"IF(AND($G26=\"dpr\",$H26=1),2,0)","v":0},{"$f":"IF(AND($G26=\"dpr\",$H26=2),2,0)","v":0},{"$f":"IF(AND($G26=\"dpr\",$H26=3),2,0)","v":0},{"$f":"IF(AND($G26=\"dpr\",$H26=4),2,0)","v":0},{"$f":"IF(AND($G26=\"dpr\",$H26=5),2,0)","v":0},{"$f":"IF(AND($G26=\"dpr\",$H26=6),2,0)","v":0},{"$f":"IF(AND($K26=\"dpr\",$L26=1),2,0)","v":0},{"$f":"IF(AND($K26=\"dpr\",$L26=2),2,0)","v":0},{"$f":"IF(AND($K26=\"dpr\",$L26=3),2,0)","v":0},{"$f":"IF(AND($K26=\"dpr\",$L26=4),2,0)","v":0},{"$f":"IF(AND($K26=\"dpr\",$L26=5),2,0)","v":0},{"$f":"IF(AND($K26=\"dpr\",$L26=6),2,0)","v":0},{"$f":"IF(AND($O26=\"dpr\",$P26=1),2,0)","v":0},{"$f":"IF(AND($O26=\"dpr\",$P26=2),2,0)","v":0},{"$f":"IF(AND($O26=\"dpr\",$P26=3),2,0)","v":0},{"$f":"IF(AND($O26=\"dpr\",$P26=4),2,0)","v":0},{"$f":"IF(AND($O26=\"dpr\",$P26=5),2,0)","v":0},{"$f":"IF(AND($O26=\"dpr\",$P26=6),2,0)","v":0},{"$f":"IF(AND($S26=\"dpr\",$T26=1),2,0)","v":0},{"$f":"IF(AND($S26=\"dpr\",$T26=2),2,0)","v":0},{"$f":"IF(AND($S26=\"dpr\",$T26=3),2,0)","v":0},{"$f":"IF(AND($S26=\"dpr\",$T26=4),2,0)","v":0},{"$f":"IF(AND($S26=\"dpr\",$T26=5),2,0)","v":0},{"$f":"IF(AND($S26=\"dpr\",$T26=6),2,0)","v":0},{"$f":"IF(AND($W26=\"dpr\",$X26=1),2,0)","v":0},{"$f":"IF(AND($W26=\"dpr\",$X26=2),2,0)","v":0},{"$f":"IF(AND($W26=\"dpr\",$X26=3),2,0)","v":0},{"$f":"IF(AND($W26=\"dpr\",$X26=4),2,0)","v":0},{"$f":"IF(AND($W26=\"dpr\",$X26=5),2,0)","v":0},{"$f":"IF(AND($W26=\"dpr\",$X26=6),2,0)","v":0},{"$f":"IF(AND($AA26=\"dp\",$AB26=1),2,0)","v":0},{"$f":"IF(AND($AA26=\"dpr\",$AB26=2),2,0)","v":0},{"$f":"IF(AND($AA26=\"dpr\",$AB26=3),2,0)","v":0},{"$f":"IF(AND($AA26=\"dpr\",$AB26=4),2,0)","v":0},{"$f":"IF(AND($AA26=\"dpr\",$AB26=5),2,0)","v":0},{"$f":"IF(AND($AA26=\"dpr\",$AB26=6),2,0)","v":0}]
[{"$f":"Game!C27","v":0},{"$f":"Game!E27","v":0},{"$f":"Game!J27","v":0},{"$f":"Game!K27","v":0},{"$f":"Game!M27","v":0},{"$f":"Game!N27","v":0},{"$f":"Game!O27","v":0},{"$f":"Game!P27","v":0},{"$f":"Game!R27","v":0},{"$f":"Game!S27","v":0},{"$f":"Game!T27","v":0},{"$f":"Game!U27","v":0},{"$f":"Game!W27","v":0},{"$f":"Game!X27","v":0},{"$f":"Game!Y27","v":0},{"$f":"Game!Z27","v":0},{"$f":"Game!AB27","v":0},{"$f":"Game!AC27","v":0},{"$f":"Game!AD27","v":0},{"$f":"Game!AE27","v":0},{"$f":"Game!AG27","v":0},{"$f":"Game!AH27","v":0},{"$f":"Game!AI27","v":0},{"$f":"Game!AJ27","v":0},{"$f":"Game!AL27","v":0},{"$f":"Game!AM27","v":0},{"$f":"Game!AN27","v":0},{"$f":"Game!AO27","v":0},{"$f":"Game!AQ27","v":0},{"$f":"Game!AR27","v":0},null,0,0,{"$f":"IF(AND(OR($C27=\"h\",$C27=\"2b\", $C27=\"3b\", $C27=\"hr\", $C25=\"hrb\",$C25=\"h2rb\",$C25=\"h3rb\",$C25=\"2brb\",$C25=\"2b2rb\",$C25=\"2b3rb\",$C25=\"3brb\",$C25=\"3b2rb\",$C25=\"3b3rb\",$C25=\"hr2\",$C25=\"hr3\",$C25=\"gs\"),$D27=3),1,0)","v":0},{"$f":"IF(AND(OR($C27=\"h\",$C27=\"2b\", $C27=\"3b\", $C27=\"hr\", $C25=\"hrb\",$C25=\"h2rb\",$C25=\"h3rb\",$C25=\"2brb\",$C25=\"2b2rb\",$C25=\"2b3rb\",$C25=\"3brb\",$C25=\"3b2rb\",$C25=\"3b3rb\",$C25=\"hr2\",$C25=\"hr3\",$C25=\"gs\"),$D27=4),1,0)","v":0},{"$f":"IF(AND(OR($C27=\"h\",$C27=\"2b\", $C27=\"3b\", $C27=\"hr\", $C25=\"hrb\",$C25=\"h2rb\",$C25=\"h3rb\",$C25=\"2brb\",$C25=\"2b2rb\",$C25=\"2b3rb\",$C25=\"3brb\",$C25=\"3b2rb\",$C25=\"3b3rb\",$C25=\"hr2\",$C25=\"hr3\",$C25=\"gs\"),$D27=5),1,0)","v":0},{"$f":"IF(AND(OR($C27=\"h\",$C27=\"2b\", $C27=\"3b\", $C27=\"hr\", $C25=\"hrb\",$C25=\"h2rb\",$C25=\"h3rb\",$C25=\"2brb\",$C25=\"2b2rb\",$C25=\"2b3rb\",$C25=\"3brb\",$C25=\"3b2rb\",$C25=\"3b3rb\",$C25=\"hr2\",$C25=\"hr3\",$C25=\"gs\"),$D27=6),1,0)","v":0},0,0,0,0,0,0,0,0,0,0,0,0,0,0,0,0,0,0,0,0,0,0,0,0,{"$f":"IF(AND(OR($W27=\"h\",$W27=\"2b\", $W27=\"3b\", $W27=\"hr\", $W27=\"hrb\",$W27=\"h2rb\",$W27=\"h3rb\",$W27=\"2brb\",$W27=\"2b2rb\",$W27=\"2b3rb\",$W27=\"3brb\",$W27=\"3b2rb\",$W27=\"3b3rb\",$W27=\"hr2\",$W27=\"hr3\",$W27=\"gs\"),$X27=1),1,0)","v":0},0,{"$f":"IF(AND(OR($W27=\"h\",$W27=\"2b\", $W27=\"3b\", $W27=\"hr\", $W27=\"hrb\",$W27=\"h2rb\",$W27=\"h3rb\",$W27=\"2brb\",$W27=\"2b2rb\",$W27=\"2b3rb\",$W27=\"3brb\",$W27=\"3b2rb\",$W27=\"3b3rb\",$W27=\"hr2\",$W27=\"hr3\",$W27=\"gs\"),$X27=3),1,0)","v":0},0,0,0,0,0,0,0,0,0,0,0,0,0,0,0,0,0,0,0,0,0,0,0,0,0,0,0,0,0,0,0,0,0,0,0,0,0,0,0,0,0,0,0,0,0,0,0,0,0,0,0,0,0,0,0,0,0,0,0,0,0,0,0,0,0,0,0,0,0,0,0,0,0,0,0,0,0,0,0,0,0,0,0,0,0,0,0,0,0,0,0,0,0,0,0,0,0,0,0,0,0,0,0,0,0,0,0,0,0,0,0,0,0,0,0,0,0,0,0,0,0,0,0,0,0,0,0,0,0,0,0,0,0,0,0,0,0,0,0,0,0,0,0,0,0,0,0,0,0,0,0,0,0,0,0,0,0,0,0,0,0,0,0,0,0,0,0,0,0,0,0,0,0,0,0,0,0,0,0,0,0,0,0,0,0,0,0,0,0,0,0,0,0,0,0,0,0,0,0,0,0,0,0,0,0,0,0,0,0,0,0,0,0,0,0,0,0,0,0,0,0,0,0,0,0,0,0,0,0,0,0,0,0,0,0,0,0,0,0,0,0,0,0,0,0,0,0,0,0,0,0,0,0,0,0,0,0,0,0,0,0,0,0,0,0,0,0,0,0,0,0,0,0,0,0,0,0,0,0,0,0,0,0,0,0,0,0,0,0,0,0,0,0,0,0,0,0,0,0,0,0,0,0,null,{"$f":"(Visitors!J22+Visitors!K22+NF27)/3","v":0},{"$f":"(NI39+NO39+NU39+OA39+OG39+OM39+OS39+OZ39+PF39+PL39+PR39+PX39+QD39)","v":0},0,0,0,0,0,0,0,0,0,0,0,0,0,0,0,0,0,0,0,0,0,0,0,0,0,0,0,0,0,0,0,0,0,0,0,0,0,0,0,0,0,0,null,0,0,0,0,0,0,0,0,0,0,0,0,0,0,0,0,0,0,0,0,0,0,0,0,0,0,0,0,0,0,0,0,0,0,0,0,0,0,0,0,0,0]
[{"$f":"Game!C28","v":0},{"$f":"Game!E28","v":0},{"$f":"Game!J28","v":0},{"$f":"Game!K28","v":0},{"$f":"Game!M28","v":0},{"$f":"Game!N28","v":0},{"$f":"Game!O28","v":0},{"$f":"Game!P28","v":0},{"$f":"Game!R28","v":0},{"$f":"Game!S28","v":0},{"$f":"Game!T28","v":0},{"$f":"Game!U28","v":0},{"$f":"Game!W28","v":0},{"$f":"Game!X28","v":0},{"$f":"Game!Y28","v":0},{"$f":"Game!Z28","v":0},{"$f":"Game!AB28","v":0},{"$f":"Game!AC28","v":0},{"$f":"Game!AD28","v":0},{"$f":"Game!AE28","v":0},{"$f":"Game!AG28","v":0},{"$f":"Game!AH28","v":0},{"$f":"Game!AI28","v":0},{"$f":"Game!AJ28","v":0},{"$f":"Game!AL28","v":0},{"$f":"Game!AM28","v":0},{"$f":"Game!AN28","v":0},{"$f":"Game!AO28","v":0},{"$f":"Game!AQ28","v":0},{"$f":"Game!AR28","v":0},null,0,0,{"$f":"IF(AND(OR($C28=\"h\",$C28=\"2b\", $C28=\"3b\", $C28=\"hr\", $C25=\"hrb\",$C25=\"h2rb\",$C25=\"h3rb\",$C25=\"2brb\",$C25=\"2b2rb\",$C25=\"2b3rb\",$C25=\"3brb\",$C25=\"3b2rb\",$C25=\"3b3rb\",$C25=\"hr2\",$C25=\"hr3\",$C25=\"gs\"),$D28=3),1,0)","v":0},{"$f":"IF(AND(OR($C28=\"h\",$C28=\"2b\", $C28=\"3b\", $C28=\"hr\", $C25=\"hrb\",$C25=\"h2rb\",$C25=\"h3rb\",$C25=\"2brb\",$C25=\"2b2rb\",$C25=\"2b3rb\",$C25=\"3brb\",$C25=\"3b2rb\",$C25=\"3b3rb\",$C25=\"hr2\",$C25=\"hr3\",$C25=\"gs\"),$D28=4),1,0)","v":0},{"$f":"IF(AND(OR($C28=\"h\",$C28=\"2b\", $C28=\"3b\", $C28=\"hr\", $C25=\"hrb\",$C25=\"h2rb\",$C25=\"h3rb\",$C25=\"2brb\",$C25=\"2b2rb\",$C25=\"2b3rb\",$C25=\"3brb\",$C25=\"3b2rb\",$C25=\"3b3rb\",$C25=\"hr2\",$C25=\"hr3\",$C25=\"gs\"),$D28=5),1,0)","v":0},{"$f":"IF(AND(OR($C28=\"h\",$C28=\"2b\", $C28=\"3b\", $C28=\"hr\", $C25=\"hrb\",$C25=\"h2rb\",$C25=\"h3rb\",$C25=\"2brb\",$C25=\"2b2rb\",$C25=\"2b3rb\",$C25=\"3brb\",$C25=\"3b2rb\",$C25=\"3b3rb\",$C25=\"hr2\",$C25=\"hr3\",$C25=\"gs\"),$D28=6),1,0)","v":0},0,0,0,0,0,0,0,0,0,0,0,0,0,0,0,0,0,0,0,0,0,0,0,0,{"$f":"IF(AND(OR($W28=\"h\",$W28=\"2b\", $W28=\"3b\", $W28=\"hr\", $W28=\"hrb\",$W28=\"h2rb\",$W28=\"h3rb\",$W28=\"2brb\",$W28=\"2b2rb\",$W28=\"2b3rb\",$W28=\"3brb\",$W28=\"3b2rb\",$W28=\"3b3rb\",$W28=\"hr2\",$W28=\"hr3\",$W28=\"gs\"),$X28=1),1,0)","v":0},0,0,0,0,0,0,0,0,0,0,0,0,0,0,0,0,0,0,0,0,0,0,0,0,0,0,0,0,0,0,0,0,0,0,0,0,0,0,0,0,0,0,0,0,0,0,0,0,0,0,0,0,0,0,0,0,0,0,0,0,0,0,0,0,0,0,0,0,0,0,0,0,0,0,0,0,0,0,0,0,0,0,0,0,0,0,0,0,0,0,0,0,0,0,0,0,0,0,0,0,0,0,0,0,0,0,0,0,0,0,0,0,0,0,0,0,0,0,0,0,0,0,0,0,0,0,0,0,0,0,0,0,0,0,0,0,0,0,0,0,0,0,0,0,0,0,0,0,0,0,0,0,0,0,0,0,0,0,0,0,0,0,0,0,0,0,0,0,0,0,0,0,0,0,0,0,0,0,0,0,0,0,0,0,0,0,0,0,0,0,0,0,0,0,0,0,0,0,0,0,0,0,0,0,0,0,0,0,0,0,0,0,0,0,0,0,0,0,0,0,0,0,0,0,0,0,0,0,0,0,0,0,0,0,0,0,0,0,0,0,0,0,0,0,0,0,0,0,0,0,0,0,0,0,0,0,0,0,0,0,0,0,0,0,0,0,0,0,0,0,0,0,0,0,0,0,0,0,0,0,0,0,0,0,0,0,0,0,0,0,0,0,0,0,0,0,0,0,0,0,0,0,0,0,0,null,{"$f":"(Visitors!J23+Visitors!K23+NF28)/3","v":0},{"$f":"NJ39+NP39+NV39+OB39+OH39+ON39+OT39+PA39+PG39+PM39+PS39+PY39+QE39+QK39","v":0},0,0,0,0,0,0,0,0,0,0,0,0,0,0,0,0,0,0,0,0,0,0,0,0,0,0,0,0,0,0,0,0,0,0,0,0,0,0,0,0,0,0,null,0,0,0,0,0,0,0,0,0,0,0,0,0,0,0,0,0,0,0,0,0,0,0,0,0,0,0,0,0,0,0,0,0,0,0,0,0,0,0,0,0,0]
[{"$f":"Game!C29","v":0},{"$f":"Game!E29","v":0},{"$f":"Game!J29","v":0},{"$f":"Game!K29","v":0},{"$f":"Game!M29","v":0},{"$f":"Game!N29","v":0},{"$f":"Game!O29","v":0},{"$f":"Game!P29","v":0},{"$f":"Game!R29","v":0},{"$f":"Game!S29","v":0},{"$f":"Game!T29","v":0},{"$f":"Game!U29","v":0},{"$f":"Game!W29","v":0},{"$f":"Game!X29","v":0},{"$f":"Game!Y29","v":0},{"$f":"Game!Z29","v":0},{"$f":"Game!AB29","v":0},{"$f":"Game!AC29","v":0},{"$f":"Game!AD29","v":0},{"$f":"Game!AE29","v":0},{"$f":"Game!AG29","v":0},{"$f":"Game!AH29","v":0},{"$f":"Game!AI29","v":0},{"$f":"Game!AJ29","v":0},{"$f":"Game!AL29","v":0},{"$f":"Game!AM29","v":0},{"$f":"Game!AN29","v":0},{"$f":"Game!AO29","v":0},{"$f":"Game!AQ29","v":0},{"$f":"Game!AR29","v":0},null,0,0,{"$f":"IF(AND(OR($C29=\"h\",$C29=\"2b\", $C29=\"3b\", $C29=\"hr\", $C25=\"hrb\",$C25=\"h2rb\",$C25=\"h3rb\",$C25=\"2brb\",$C25=\"2b2rb\",$C25=\"2b3rb\",$C25=\"3brb\",$C25=\"3b2rb\",$C25=\"3b3rb\",$C25=\"hr2\",$C25=\"hr3\",$C25=\"gs\"),$D29=3),1,0)","v":0},{"$f":"IF(AND(OR($C29=\"h\",$C29=\"2b\", $C29=\"3b\", $C29=\"hr\", $C25=\"hrb\",$C25=\"h2rb\",$C25=\"h3rb\",$C25=\"2brb\",$C25=\"2b2rb\",$C25=\"2b3rb\",$C25=\"3brb\",$C25=\"3b2rb\",$C25=\"3b3rb\",$C25=\"hr2\",$C25=\"hr3\",$C25=\"gs\"),$D29=4),1,0)","v":0},{"$f":"IF(AND(OR($C29=\"h\",$C29=\"2b\", $C29=\"3b\", $C29=\"hr\", $C25=\"hrb\",$C25=\"h2rb\",$C25=\"h3rb\",$C25=\"2brb\",$C25=\"2b2rb\",$C25=\"2b3rb\",$C25=\"3brb\",$C25=\"3b2rb\",$C25=\"3b3rb\",$C25=\"hr2\",$C25=\"hr3\",$C25=\"gs\"),$D29=5),1,0)","v":0},{"$f":"IF(AND(OR($C29=\"h\",$C29=\"2b\", $C29=\"3b\", $C29=\"hr\", $C25=\"hrb\",$C25=\"h2rb\",$C25=\"h3rb\",$C25=\"2brb\",$C25=\"2b2rb\",$C25=\"2b3rb\",$C25=\"3brb\",$C25=\"3b2rb\",$C25=\"3b3rb\",$C25=\"hr2\",$C25=\"hr3\",$C25=\"gs\"),$D29=6),1,0)","v":0},0,0,0,0,0,0,0,0,0,0,0,0,0,0,0,0,0,0,0,0,0,0,0,0,0,0,0,0,0,0,{"$f":"IF(AND(OR($AA29=\"h\",$AA29=\"2b\", $AA29=\"3b\", $AA29=\"hr\", $AA29=\"hrb\",$AA29=\"h2rb\",$AA29=\"h3rb\",$AA29=\"2brb\",$AA29=\"2b2rb\",$AA29=\"2b3rb\",$AA29=\"3brb\",$AA29=\"3b2rb\",$AA29=\"3b3rb\",$AA29=\"hr2\",$AA29=\"hr3\",$AA29=\"gs\"),$AB29=1),1,0)","v":0},0,0,0,0,0,0,0,0,0,0,0,0,0,0,0,0,0,0,0,0,0,0,0,0,0,0,0,0,0,0,0,0,0,0,0,0,0,0,0,0,0,0,0,0,0,0,0,0,0,0,0,0,0,0,0,0,0,0,0,0,0,0,0,0,0,0,0,0,0,0,0,0,0,0,0,0,0,0,0,0,0,0,0,0,0,0,0,0,0,0,0,0,0,0,0,0,0,0,0,0,0,0,0,0,0,0,0,0,0,0,0,0,0,0,0,0,0,0,0,0,0,0,0,0,0,0,0,0,0,0,0,0,0,0,0,0,0,0,0,0,0,0,0,0,0,0,0,0,0,0,0,0,0,0,0,0,0,0,0,0,0,0,0,0,0,0,0,0,0,0,0,0,0,0,0,0,0,0,0,0,0,0,0,0,0,0,0,0,0,0,0,0,0,0,0,0,0,0,0,0,0,0,0,0,0,0,0,0,0,0,0,0,0,0,0,0,0,0,0,0,0,0,0,0,0,0,0,0,0,0,0,0,0,0,0,0,0,0,0,0,0,0,0,0,0,0,0,0,0,0,0,0,0,0,0,0,0,0,0,0,0,0,0,0,0,0,0,0,0,0,0,0,0,0,0,0,0,0,0,0,0,0,0,0,0,0,0,0,0,0,0,0,0,0,0,0,0,0,0,null,{"$f":"(Visitors!J24+Visitors!K24+NF29)/3","v":0},{"$f":"(NK39+NQ39+NW39+OC39+OI39+OO39+OU39+PB39+PH39+PN39+PT39+PZ39+QF39+QL39)","v":0},0,0,0,0,0,0,0,0,0,0,0,0,0,0,0,0,0,0,0,0,0,0,0,0,0,0,0,0,0,0,0,0,0,0,0,0,0,0,0,0,0,0,null,0,0,0,0,0,0,0,0,0,0,0,0,0,0,0,0,0,0,0,0,0,0,0,0,0,0,0,0,0,0,0,0,0,0,0,0,0,0,0,0,0,0]
[{"$f":"Game!C30","v":0},{"$f":"Game!E30","v":0},{"$f":"Game!J30","v":0},{"$f":"Game!K30","v":0},{"$f":"Game!M30","v":0},{"$f":"Game!N30","v":0},{"$f":"Game!O30","v":0},{"$f":"Game!P30","v":0},{"$f":"Game!R30","v":0},{"$f":"Game!S30","v":0},{"$f":"Game!T30","v":0},{"$f":"Game!U30","v":0},{"$f":"Game!W30","v":0},{"$f":"Game!X30","v":0},{"$f":"Game!Y30","v":0},{"$f":"Game!Z30","v":0},{"$f":"Game!AB30","v":0},{"$f":"Game!AC30","v":0},{"$f":"Game!AD30","v":0},{"$f":"Game!AE30","v":0},{"$f":"Game!AG30","v":0},{"$f":"Game!AH30","v":0},{"$f":"Game!AI30","v":0},{"$f":"Game!AJ30","v":0},{"$f":"Game!AL30","v":0},{"$f":"Game!AM30","v":0},{"$f":"Game!AN30","v":0},{"$f":"Game!AO30","v":0},{"$f":"Game!AQ30","v":0},{"$f":"Game!AR30","v":0},null,0,0,{"$f":"IF(AND(OR($C30=\"h\",$C30=\"2b\", $C30=\"3b\", $C30=\"hr\", $C25=\"hrb\",$C25=\"h2rb\",$C25=\"h3rb\",$C25=\"2brb\",$C25=\"2b2rb\",$C25=\"2b3rb\",$C25=\"3brb\",$C25=\"3b2rb\",$C25=\"3b3rb\",$C25=\"hr2\",$C25=\"hr3\",$C25=\"gs\"),$D30=3),1,0)","v":0},{"$f":"IF(AND(OR($C30=\"h\",$C30=\"2b\", $C30=\"3b\", $C30=\"hr\", $C25=\"hrb\",$C25=\"h2rb\",$C25=\"h3rb\",$C25=\"2brb\",$C25=\"2b2rb\",$C25=\"2b3rb\",$C25=\"3brb\",$C25=\"3b2rb\",$C25=\"3b3rb\",$C25=\"hr2\",$C25=\"hr3\",$C25=\"gs\"),$D30=4),1,0)","v":0},{"$f":"IF(AND(OR($C30=\"h\",$C30=\"2b\", $C30=\"3b\", $C30=\"hr\", $C25=\"hrb\",$C25=\"h2rb\",$C25=\"h3rb\",$C25=\"2brb\",$C25=\"2b2rb\",$C25=\"2b3rb\",$C25=\"3brb\",$C25=\"3b2rb\",$C25=\"3b3rb\",$C25=\"hr2\",$C25=\"hr3\",$C25=\"gs\"),$D30=5),1,0)","v":0},{"$f":"IF(AND(OR($C30=\"h\",$C30=\"2b\", $C30=\"3b\", $C30=\"hr\", $C25=\"hrb\",$C25=\"h2rb\",$C25=\"h3rb\",$C25=\"2brb\",$C25=\"2b2rb\",$C25=\"2b3rb\",$C25=\"3brb\",$C25=\"3b2rb\",$C25=\"3b3rb\",$C25=\"hr2\",$C25=\"hr3\",$C25=\"gs\"),$D30=6),1,0)","v":0},0,0,0,0,0,0,0,{"$f":"IF(AND(OR($K30=\"h\",$K30=\"2b\", $K30=\"3b\", $K30=\"hr\", $K30=\"hrb\",$K30=\"h2rb\",$K30=\"h3rb\",$K30=\"2brb\",$K30=\"2b2rb\",$K30=\"2b3rb\",$K30=\"3brb\",$K30=\"3b2rb\",$K30=\"3b3rb\",$K30=\"hr2\",$K30=\"hr3\",$K30=\"gs\"),$L30=2),1,0)","v":0},0,0,0,0,0,0,0,0,0,0,0,0,0,0,0,0,0,0,0,0,0,0,0,0,0,0,0,0,0,0,0,0,0,0,0,0,0,0,0,0,0,0,0,0,0,0,0,0,0,0,0,0,0,0,0,0,0,0,0,0,0,0,0,0,0,0,0,0,0,0,0,0,0,0,0,0,0,0,0,0,0,0,0,0,0,0,0,0,0,0,0,0,0,0,0,0,0,0,0,0,0,0,0,0,0,0,0,0,0,0,0,0,0,0,0,0,0,0,0,0,0,0,0,0,0,0,0,0,0,0,0,0,0,0,0,0,0,0,0,0,0,0,0,0,0,0,0,0,0,0,0,0,0,0,0,0,0,0,0,0,0,0,0,0,0,0,0,0,0,0,0,0,0,0,0,0,0,0,0,0,0,0,0,0,0,0,0,0,0,0,0,0,0,0,0,0,0,0,0,0,0,0,0,0,0,0,0,0,0,0,0,0,0,0,0,0,0,0,0,0,0,0,0,0,0,0,0,0,0,0,0,0,0,0,0,0,0,0,0,0,0,0,0,0,0,0,0,0,0,0,0,0,0,0,0,0,0,0,0,0,0,0,0,0,0,0,0,0,0,0,0,0,0,0,0,0,0,0,0,0,0,0,0,0,0,0,0,0,0,0,0,0,0,0,0,0,0,0,0,0,0,0,0,0,0,0,0,0,0,0,0,0,0,0,0,0,0,0,0,0,0,0,null,{"$f":"(Visitors!K25+Visitors!K25+NF30)/3","v":0},{"$f":"(QM39+QG39+QA39+PU39+PO39+PI39+PC39+OV39+OP39+OJ39+OD39+NX39+NR39+NL39)","v":0},0,0,0,0,0,0,0,0,0,0,0,0,0,0,0,0,0,0,0,0,0,0,0,0,0,0,0,0,0,0,0,0,0,0,0,0,0,0,0,0,0,0,null,0,0,0,0,0,0,0,0,0,0,0,0,0,0,0,0,0,0,0,0,0,0,0,0,0,0,0,0,0,0,0,0,0,0,0,0,0,0,0,0,0,0]
[{"$f":"Game!C31","v":0},{"$f":"Game!E31","v":0},{"$f":"Game!J31","v":0},{"$f":"Game!K31","v":0},{"$f":"Game!M31","v":0},{"$f":"Game!N31","v":0},{"$f":"Game!O31","v":0},{"$f":"Game!P31","v":0},{"$f":"Game!R31","v":0},{"$f":"Game!S31","v":0},{"$f":"Game!T31","v":0},{"$f":"Game!U31","v":0},{"$f":"Game!W31","v":0},{"$f":"Game!X31","v":0},{"$f":"Game!Y31","v":0},{"$f":"Game!Z31","v":0},{"$f":"Game!AB31","v":0},{"$f":"Game!AC31","v":0},{"$f":"Game!AD31","v":0},{"$f":"Game!AE31","v":0},{"$f":"Game!AG31","v":0},{"$f":"Game!AH31","v":0},{"$f":"Game!AI31","v":0},{"$f":"Game!AJ31","v":0},{"$f":"Game!AL31","v":0},{"$f":"Game!AM31","v":0},{"$f":"Game!AN31","v":0},{"$f":"Game!AO31","v":0},{"$f":"Game!AQ31","v":0},{"$f":"Game!AR31","v":0},null,0,0,{"$f":"IF(AND(OR($C31=\"h\",$C31=\"2b\", $C31=\"3b\", $C31=\"hr\", $C25=\"hrb\",$C25=\"h2rb\",$C25=\"h3rb\",$C25=\"2brb\",$C25=\"2b2rb\",$C25=\"2b3rb\",$C25=\"3brb\",$C25=\"3b2rb\",$C25=\"3b3rb\",$C25=\"hr2\",$C25=\"hr3\",$C25=\"gs\"),$D31=3),1,0)","v":0},{"$f":"IF(AND(OR($C31=\"h\",$C31=\"2b\", $C31=\"3b\", $C31=\"hr\", $C25=\"hrb\",$C25=\"h2rb\",$C25=\"h3rb\",$C25=\"2brb\",$C25=\"2b2rb\",$C25=\"2b3rb\",$C25=\"3brb\",$C25=\"3b2rb\",$C25=\"3b3rb\",$C25=\"hr2\",$C25=\"hr3\",$C25=\"gs\"),$D31=4),1,0)","v":0},{"$f":"IF(AND(OR($C31=\"h\",$C31=\"2b\", $C31=\"3b\", $C31=\"hr\", $C25=\"hrb\",$C25=\"h2rb\",$C25=\"h3rb\",$C25=\"2brb\",$C25=\"2b2rb\",$C25=\"2b3rb\",$C25=\"3brb\",$C25=\"3b2rb\",$C25=\"3b3rb\",$C25=\"hr2\",$C25=\"hr3\",$C25=\"gs\"),$D31=5),1,0)","v":0},{"$f":"IF(AND(OR($C31=\"h\",$C31=\"2b\", $C31=\"3b\", $C31=\"hr\", $C25=\"hrb\",$C25=\"h2rb\",$C25=\"h3rb\",$C25=\"2brb\",$C25=\"2b2rb\",$C25=\"2b3rb\",$C25=\"3brb\",$C25=\"3b2rb\",$C25=\"3b3rb\",$C25=\"hr2\",$C25=\"hr3\",$C25=\"gs\"),$D31=6),1,0)","v":0},0,0,0,0,0,0,0,0,0,0,0,0,0,0,0,0,0,0,0,0,0,0,0,0,0,0,0,0,0,0,0,0,0,0,0,0,0,0,0,0,0,0,0,0,0,0,0,0,0,0,0,0,0,0,0,0,0,0,0,0,0,0,0,0,0,0,0,0,0,0,0,0,0,0,0,0,0,0,0,0,0,0,0,0,0,0,0,0,0,0,0,0,0,0,0,0,0,0,0,0,0,0,0,0,0,0,0,0,0,0,0,0,0,0,0,0,0,0,0,0,0,0,0,0,0,0,0,0,0,0,0,0,0,0,0,0,0,0,0,0,0,0,0,0,0,0,0,0,0,0,0,0,0,0,0,0,0,0,0,0,0,0,0,0,0,0,0,0,0,0,0,0,0,0,0,0,0,0,0,0,0,0,0,0,0,0,0,0,0,0,0,0,0,0,0,0,0,0,0,0,0,0,0,0,0,0,0,0,0,0,0,0,0,0,0,0,0,0,0,0,0,0,0,0,0,0,0,0,0,0,0,0,0,0,0,0,0,0,0,0,0,0,0,0,0,0,0,0,0,0,0,0,0,0,0,0,0,0,0,0,0,0,0,0,0,0,0,0,0,0,0,0,0,0,0,0,0,0,0,0,0,0,0,0,0,0,0,0,0,0,0,0,0,0,0,0,0,0,0,0,0,0,0,0,0,0,0,0,0,0,0,0,0,0,0,0,0,0,0,0,0,0,0,0,0,0,0,0,0,0,{"$nulls":3},0,0,0,0,0,0,0,0,0,0,0,0,0,0,0,0,0,0,0,0,0,0,0,0,0,0,0,0,0,0,0,0,0,0,0,0,0,0,0,0,0,0,null,0,0,0,0,0,0,0,0,0,0,0,0,0,0,0,0,0,0,0,0,0,0,0,0,0,0,0,0,0,0,0,0,0,0,0,0,0,0,0,0,0,0]
[{"$f":"Game!C32","v":0},{"$f":"Game!E32","v":0},{"$f":"Game!J32","v":0},{"$f":"Game!K32","v":0},{"$f":"Game!M32","v":0},{"$f":"Game!N32","v":0},{"$f":"Game!O32","v":0},{"$f":"Game!P32","v":0},{"$f":"Game!R32","v":0},{"$f":"Game!S32","v":0},{"$f":"Game!T32","v":0},{"$f":"Game!U32","v":0},{"$f":"Game!W32","v":0},{"$f":"Game!X32","v":0},{"$f":"Game!Y32","v":0},{"$f":"Game!Z32","v":0},{"$f":"Game!AB32","v":0},{"$f":"Game!AC32","v":0},{"$f":"Game!AD32","v":0},{"$f":"Game!AE32","v":0},{"$f":"Game!AG32","v":0},{"$f":"Game!AH32","v":0},{"$f":"Game!AI32","v":0},{"$f":"Game!AJ32","v":0},{"$f":"Game!AL32","v":0},{"$f":"Game!AM32","v":0},{"$f":"Game!AN32","v":0},{"$f":"Game!AO32","v":0},{"$f":"Game!AQ32","v":0},{"$f":"Game!AR32","v":0},null,0,0,{"$f":"IF(AND(OR($C32=\"h\",$C32=\"2b\", $C32=\"3b\", $C32=\"hr\", $C25=\"hrb\",$C25=\"h2rb\",$C25=\"h3rb\",$C25=\"2brb\",$C25=\"2b2rb\",$C25=\"2b3rb\",$C25=\"3brb\",$C25=\"3b2rb\",$C25=\"3b3rb\",$C25=\"hr2\",$C25=\"hr3\",$C25=\"gs\"),$D32=3),1,0)","v":0},{"$f":"IF(AND(OR($C32=\"h\",$C32=\"2b\", $C32=\"3b\", $C32=\"hr\", $C25=\"hrb\",$C25=\"h2rb\",$C25=\"h3rb\",$C25=\"2brb\",$C25=\"2b2rb\",$C25=\"2b3rb\",$C25=\"3brb\",$C25=\"3b2rb\",$C25=\"3b3rb\",$C25=\"hr2\",$C25=\"hr3\",$C25=\"gs\"),$D32=4),1,0)","v":0},{"$f":"IF(AND(OR($C32=\"h\",$C32=\"2b\", $C32=\"3b\", $C32=\"hr\", $C25=\"hrb\",$C25=\"h2rb\",$C25=\"h3rb\",$C25=\"2brb\",$C25=\"2b2rb\",$C25=\"2b3rb\",$C25=\"3brb\",$C25=\"3b2rb\",$C25=\"3b3rb\",$C25=\"hr2\",$C25=\"hr3\",$C25=\"gs\"),$D32=5),1,0)","v":0},{"$f":"IF(AND(OR($C32=\"h\",$C32=\"2b\", $C32=\"3b\", $C32=\"hr\", $C25=\"hrb\",$C25=\"h2rb\",$C25=\"h3rb\",$C25=\"2brb\",$C25=\"2b2rb\",$C25=\"2b3rb\",$C25=\"3brb\",$C25=\"3b2rb\",$C25=\"3b3rb\",$C25=\"hr2\",$C25=\"hr3\",$C25=\"gs\"),$D32=6),1,0)","v":0},0,0,0,0,0,0,0,0,0,0,0,0,0,0,0,0,0,0,0,0,0,0,0,0,0,0,0,0,0,0,0,0,0,0,0,0,0,0,0,0,0,0,0,0,0,0,0,0,0,0,0,0,0,0,0,0,0,0,0,0,0,0,0,0,0,0,0,0,0,0,0,0,0,0,0,0,0,0,0,0,0,0,0,0,0,0,0,0,0,0,0,0,0,0,0,0,0,0,0,0,0,0,0,0,0,0,0,0,0,0,0,0,0,0,0,0,0,0,0,0,0,0,0,0,0,0,0,0,0,0,0,0,0,0,0,0,0,0,0,0,0,0,0,0,0,0,0,0,0,0,0,0,0,0,0,0,0,0,0,0,0,0,0,0,0,0,0,0,0,0,0,0,0,0,0,0,0,0,0,0,0,0,0,0,0,0,0,0,0,0,0,0,0,0,0,0,0,0,0,0,0,0,0,0,0,0,0,0,0,0,0,0,0,0,0,0,0,0,0,0,0,0,0,0,0,0,0,0,0,0,0,0,0,0,0,0,0,0,0,0,0,0,0,0,0,0,0,0,0,0,0,0,0,0,0,0,0,0,0,0,0,0,0,0,0,0,0,0,0,0,0,0,0,0,0,0,0,0,0,0,0,0,0,0,0,0,0,0,0,0,0,0,0,0,0,0,0,0,0,0,0,0,0,0,0,0,0,0,0,0,0,0,0,0,0,0,0,0,0,0,0,0,0,0,0,0,0,0,0,0,{"$nulls":3},0,0,0,0,0,0,0,0,0,0,0,0,0,0,0,0,0,0,0,0,0,0,0,0,0,0,0,0,0,0,0,0,0,0,0,0,0,0,0,0,0,0,null,0,0,0,0,0,0,0,0,0,0,0,0,0,0,0,0,0,0,0,0,0,0,0,0,0,0,0,0,0,0,0,0,0,0,0,0,0,0,0,0,0,0]
[{"$f":"Game!C33","v":0},{"$f":"Game!E33","v":0},{"$f":"Game!J33","v":0},{"$f":"Game!K33","v":0},{"$f":"Game!M33","v":0},{"$f":"Game!N33","v":0},{"$f":"Game!O33","v":0},{"$f":"Game!P33","v":0},{"$f":"Game!R33","v":0},{"$f":"Game!S33","v":0},{"$f":"Game!T33","v":0},{"$f":"Game!U33","v":0},{"$f":"Game!W33","v":0},{"$f":"Game!X33","v":0},{"$f":"Game!Y33","v":0},{"$f":"Game!Z33","v":0},{"$f":"Game!AB33","v":0},{"$f":"Game!AC33","v":0},{"$f":"Game!AD33","v":0},{"$f":"Game!AE33","v":0},{"$f":"Game!AG33","v":0},{"$f":"Game!AH33","v":0},{"$f":"Game!AI33","v":0},{"$f":"Game!AJ33","v":0},{"$f":"Game!AL33","v":0},{"$f":"Game!AM33","v":0},{"$f":"Game!AN33","v":0},{"$f":"Game!AO33","v":0},{"$f":"Game!AQ33","v":0},{"$f":"Game!AR33","v":0},null,0,0,{"$f":"IF(AND(OR($C33=\"h\",$C33=\"2b\", $C33=\"3b\", $C33=\"hr\", $C25=\"hrb\",$C25=\"h2rb\",$C25=\"h3rb\",$C25=\"2brb\",$C25=\"2b2rb\",$C25=\"2b3rb\",$C25=\"3brb\",$C25=\"3b2rb\",$C25=\"3b3rb\",$C25=\"hr2\",$C25=\"hr3\",$C25=\"gs\"),$D33=3),1,0)","v":0},{"$f":"IF(AND(OR($C33=\"h\",$C33=\"2b\", $C33=\"3b\", $C33=\"hr\", $C25=\"hrb\",$C25=\"h2rb\",$C25=\"h3rb\",$C25=\"2brb\",$C25=\"2b2rb\",$C25=\"2b3rb\",$C25=\"3brb\",$C25=\"3b2rb\",$C25=\"3b3rb\",$C25=\"hr2\",$C25=\"hr3\",$C25=\"gs\"),$D33=4),1,0)","v":0},{"$f":"IF(AND(OR($C33=\"h\",$C33=\"2b\", $C33=\"3b\", $C33=\"hr\", $C25=\"hrb\",$C25=\"h2rb\",$C25=\"h3rb\",$C25=\"2brb\",$C25=\"2b2rb\",$C25=\"2b3rb\",$C25=\"3brb\",$C25=\"3b2rb\",$C25=\"3b3rb\",$C25=\"hr2\",$C25=\"hr3\",$C25=\"gs\"),$D33=5),1,0)","v":0},{"$f":"IF(AND(OR($C33=\"h\",$C33=\"2b\", $C33=\"3b\", $C33=\"hr\", $C25=\"hrb\",$C25=\"h2rb\",$C25=\"h3rb\",$C25=\"2brb\",$C25=\"2b2rb\",$C25=\"2b3rb\",$C25=\"3brb\",$C25=\"3b2rb\",$C25=\"3b3rb\",$C25=\"hr2\",$C25=\"hr3\",$C25=\"gs\"),$D33=6),1,0)","v":0},0,0,0,0,0,0,0,0,0,0,0,0,0,0,0,0,0,0,0,0,0,0,0,0,0,0,0,0,0,0,0,0,0,0,0,0,0,0,0,0,0,0,0,0,0,0,0,0,0,0,0,0,0,0,0,0,0,0,0,0,0,0,0,0,0,0,0,0,0,0,0,0,0,0,0,0,0,0,0,0,0,0,0,0,0,0,0,0,0,0,0,0,0,0,0,0,0,0,0,0,0,0,0,0,0,0,0,0,0,0,0,0,0,0,0,0,0,0,0,0,0,0,0,0,0,0,0,0,0,0,0,0,0,0,0,0,0,0,0,0,0,0,0,0,0,0,0,0,0,0,0,0,0,0,0,0,0,0,0,0,0,0,0,0,0,0,0,0,0,0,0,0,0,0,0,0,0,0,0,0,0,0,0,0,0,0,0,0,0,0,0,0,0,0,0,0,0,0,0,0,0,0,0,0,0,0,0,0,0,0,0,0,0,0,0,0,0,0,0,0,0,0,0,0,0,0,0,0,0,0,0,0,0,0,0,0,0,0,0,0,0,0,0,0,0,0,0,0,0,0,0,0,0,0,0,0,0,0,0,0,0,0,0,0,0,0,0,0,0,0,0,0,0,0,0,0,0,0,0,0,0,0,0,0,0,0,0,0,0,0,0,0,0,0,0,0,0,0,0,0,0,0,0,0,0,0,0,0,0,0,0,0,0,0,0,0,0,0,0,0,0,0,0,0,0,0,0,0,0,0,{"$nulls":3},0,0,0,0,0,0,0,0,0,0,0,0,0,0,0,0,0,0,0,0,0,0,0,0,0,0,0,0,0,0,0,0,0,0,0,0,0,0,0,0,0,0,null,0,0,0,0,0,0,0,0,0,0,0,0,0,0,0,0,0,0,0,0,0,0,0,0,0,0,0,0,0,0,0,0,0,0,0,0,0,0,0,0,0,0]
[{"$f":"Game!C34","v":0},{"$f":"Game!E34","v":0},{"$f":"Game!J34","v":0},{"$f":"Game!K34","v":0},{"$f":"Game!M34","v":0},{"$f":"Game!N34","v":0},{"$f":"Game!O34","v":0},{"$f":"Game!P34","v":0},{"$f":"Game!R34","v":0},{"$f":"Game!S34","v":0},{"$f":"Game!T34","v":0},{"$f":"Game!U34","v":0},{"$f":"Game!W34","v":0},{"$f":"Game!X34","v":0},{"$f":"Game!Y34","v":0},{"$f":"Game!Z34","v":0},{"$f":"Game!AB34","v":0},{"$f":"Game!AC34","v":0},{"$f":"Game!AD34","v":0},{"$f":"Game!AE34","v":0},{"$f":"Game!AG34","v":0},{"$f":"Game!AH34","v":0},{"$f":"Game!AI34","v":0},{"$f":"Game!AJ34","v":0},{"$f":"Game!AL34","v":0},{"$f":"Game!AM34","v":0},{"$f":"Game!AN34","v":0},{"$f":"Game!AO34","v":0},{"$f":"Game!AQ34","v":0},{"$f":"Game!AR34","v":0},null,0,0,{"$f":"IF(AND(OR($C34=\"h\",$C34=\"2b\", $C34=\"3b\", $C34=\"hr\", $C25=\"hrb\",$C25=\"h2rb\",$C25=\"h3rb\",$C25=\"2brb\",$C25=\"2b2rb\",$C25=\"2b3rb\",$C25=\"3brb\",$C25=\"3b2rb\",$C25=\"3b3rb\",$C25=\"hr2\",$C25=\"hr3\",$C25=\"gs\"),$D34=3),1,0)","v":0},{"$f":"IF(AND(OR($C34=\"h\",$C34=\"2b\", $C34=\"3b\", $C34=\"hr\", $C25=\"hrb\",$C25=\"h2rb\",$C25=\"h3rb\",$C25=\"2brb\",$C25=\"2b2rb\",$C25=\"2b3rb\",$C25=\"3brb\",$C25=\"3b2rb\",$C25=\"3b3rb\",$C25=\"hr2\",$C25=\"hr3\",$C25=\"gs\"),$D34=4),1,0)","v":0},{"$f":"IF(AND(OR($C34=\"h\",$C34=\"2b\", $C34=\"3b\", $C34=\"hr\", $C25=\"hrb\",$C25=\"h2rb\",$C25=\"h3rb\",$C25=\"2brb\",$C25=\"2b2rb\",$C25=\"2b3rb\",$C25=\"3brb\",$C25=\"3b2rb\",$C25=\"3b3rb\",$C25=\"hr2\",$C25=\"hr3\",$C25=\"gs\"),$D34=5),1,0)","v":0},{"$f":"IF(AND(OR($C34=\"h\",$C34=\"2b\", $C34=\"3b\", $C34=\"hr\", $C25=\"hrb\",$C25=\"h2rb\",$C25=\"h3rb\",$C25=\"2brb\",$C25=\"2b2rb\",$C25=\"2b3rb\",$C25=\"3brb\",$C25=\"3b2rb\",$C25=\"3b3rb\",$C25=\"hr2\",$C25=\"hr3\",$C25=\"gs\"),$D34=6),1,0)","v":0},0,0,0,0,0,0,0,0,0,0,0,0,0,0,0,0,0,0,0,0,0,0,0,0,0,0,0,0,0,0,0,0,0,0,0,0,0,0,0,0,0,0,0,0,0,0,0,0,0,0,0,0,0,0,0,0,0,0,0,0,0,0,0,0,0,0,0,0,0,0,0,0,0,0,0,0,0,0,0,0,0,0,0,0,0,0,0,0,0,0,0,0,0,0,0,0,0,0,0,0,0,0,0,0,0,0,0,0,0,0,0,0,0,0,0,0,0,0,0,0,0,0,0,0,0,0,0,0,0,0,0,0,0,0,0,0,0,0,0,0,0,0,0,0,0,0,0,0,0,0,0,0,0,0,0,0,0,0,0,0,0,0,0,0,0,0,0,0,0,0,0,0,0,0,0,0,0,0,0,0,0,0,0,0,0,0,0,0,0,0,0,0,0,0,0,0,0,0,0,0,0,0,0,0,0,0,0,0,0,0,0,0,0,0,0,0,0,0,0,0,0,0,0,0,0,0,0,0,0,0,0,0,0,0,0,0,0,0,0,0,0,0,0,0,0,0,0,0,0,0,0,0,0,0,0,0,0,0,0,0,0,0,0,0,0,0,0,0,0,0,0,0,0,0,0,0,0,0,0,0,0,0,0,0,0,0,0,0,0,0,0,0,0,0,0,0,0,0,0,0,0,0,0,0,0,0,0,0,0,0,0,0,0,0,0,0,0,0,0,0,0,0,0,0,0,0,0,0,0,0,{"$nulls":3},0,0,0,0,0,0,0,0,0,0,0,0,0,0,0,0,0,0,0,0,0,0,0,0,0,0,0,0,0,0,0,0,0,0,0,0,0,0,0,0,0,0,null,0,0,0,0,0,0,0,0,0,0,0,0,0,0,0,0,0,0,0,0,0,0,0,0,0,0,0,0,0,0,0,0,0,0,0,0,0,0,0,0,0,0]
[{"$f":"Game!C35","v":0},{"$f":"Game!E35","v":0},{"$f":"Game!J35","v":0},{"$f":"Game!K35","v":0},{"$f":"Game!M35","v":0},{"$f":"Game!N35","v":0},{"$f":"Game!O35","v":0},{"$f":"Game!P35","v":0},{"$f":"Game!R35","v":0},{"$f":"Game!S35","v":0},{"$f":"Game!T35","v":0},{"$f":"Game!U35","v":0},{"$f":"Game!W35","v":0},{"$f":"Game!X35","v":0},{"$f":"Game!Y35","v":0},{"$f":"Game!Z35","v":0},{"$f":"Game!AB35","v":0},{"$f":"Game!AC35","v":0},{"$f":"Game!AD35","v":0},{"$f":"Game!AE35","v":0},{"$f":"Game!AG35","v":0},{"$f":"Game!AH35","v":0},{"$f":"Game!AI35","v":0},{"$f":"Game!AJ35","v":0},{"$f":"Game!AL35","v":0},{"$f":"Game!AM35","v":0},{"$f":"Game!AN35","v":0},{"$f":"Game!AO35","v":0},{"$f":"Game!AQ35","v":0},{"$f":"Game!AR35","v":0},null,0,0,{"$f":"IF(AND(OR($C35=\"h\",$C35=\"2b\", $C35=\"3b\", $C35=\"hr\", $C25=\"hrb\",$C25=\"h2rb\",$C25=\"h3rb\",$C25=\"2brb\",$C25=\"2b2rb\",$C25=\"2b3rb\",$C25=\"3brb\",$C25=\"3b2rb\",$C25=\"3b3rb\",$C25=\"hr2\",$C25=\"hr3\",$C25=\"gs\"),$D35=3),1,0)","v":0},{"$f":"IF(AND(OR($C35=\"h\",$C35=\"2b\", $C35=\"3b\", $C35=\"hr\", $C25=\"hrb\",$C25=\"h2rb\",$C25=\"h3rb\",$C25=\"2brb\",$C25=\"2b2rb\",$C25=\"2b3rb\",$C25=\"3brb\",$C25=\"3b2rb\",$C25=\"3b3rb\",$C25=\"hr2\",$C25=\"hr3\",$C25=\"gs\"),$D35=4),1,0)","v":0},{"$f":"IF(AND(OR($C35=\"h\",$C35=\"2b\", $C35=\"3b\", $C35=\"hr\", $C25=\"hrb\",$C25=\"h2rb\",$C25=\"h3rb\",$C25=\"2brb\",$C25=\"2b2rb\",$C25=\"2b3rb\",$C25=\"3brb\",$C25=\"3b2rb\",$C25=\"3b3rb\",$C25=\"hr2\",$C25=\"hr3\",$C25=\"gs\"),$D35=5),1,0)","v":0},{"$f":"IF(AND(OR($C35=\"h\",$C35=\"2b\", $C35=\"3b\", $C35=\"hr\", $C25=\"hrb\",$C25=\"h2rb\",$C25=\"h3rb\",$C25=\"2brb\",$C25=\"2b2rb\",$C25=\"2b3rb\",$C25=\"3brb\",$C25=\"3b2rb\",$C25=\"3b3rb\",$C25=\"hr2\",$C25=\"hr3\",$C25=\"gs\"),$D35=6),1,0)","v":0},0,0,0,0,0,0,0,0,0,0,0,0,0,0,0,0,0,0,0,0,0,0,0,0,0,0,0,0,0,0,0,0,0,0,0,0,0,0,0,0,0,0,0,0,0,0,0,0,0,0,0,0,0,0,0,0,0,0,0,0,0,0,0,0,0,0,0,0,0,0,0,0,0,0,0,0,0,0,0,0,0,0,0,0,0,0,0,0,0,0,0,0,0,0,0,0,0,0,0,0,0,0,0,0,0,0,0,0,0,0,0,0,0,0,0,0,0,0,0,0,0,0,0,0,0,0,0,0,0,0,0,0,0,0,0,0,0,0,0,0,0,0,0,0,0,0,0,0,0,0,0,0,0,0,0,0,0,0,0,0,0,0,0,0,0,0,0,0,0,0,0,0,0,0,0,0,0,0,0,0,0,0,0,0,0,0,0,0,0,0,0,0,0,0,0,0,0,0,0,0,0,0,0,0,0,0,0,0,0,0,0,0,0,0,0,0,0,0,0,0,0,0,0,0,0,0,0,0,0,0,0,0,0,0,0,0,0,0,0,0,0,0,0,0,0,0,0,0,0,0,0,0,0,0,0,0,0,0,0,0,0,0,0,0,0,0,0,0,0,0,0,0,0,0,0,0,0,0,0,0,0,0,0,0,0,0,0,0,0,0,0,0,0,0,0,0,0,0,0,0,0,0,0,0,0,0,0,0,0,0,0,0,0,0,0,0,0,0,0,0,0,0,0,0,0,0,0,0,0,0,{"$nulls":3},0,0,0,0,0,0,0,0,0,0,0,0,0,0,0,0,0,0,0,0,0,0,0,0,0,0,0,0,0,0,0,0,0,0,0,0,0,0,0,0,0,0,null,0,0,0,0,0,0,0,0,0,0,0,0,0,0,0,0,0,0,0,0,0,0,0,0,0,0,0,0,0,0,0,0,0,0,0,0,0,0,0,0,0,0]
[{"$f":"Game!C36","v":0},{"$f":"Game!E36","v":0},{"$f":"Game!J36","v":0},{"$f":"Game!K36","v":0},{"$f":"Game!M36","v":0},{"$f":"Game!N36","v":0},{"$f":"Game!O36","v":0},{"$f":"Game!P36","v":0},{"$f":"Game!R36","v":0},{"$f":"Game!S36","v":0},{"$f":"Game!T36","v":0},{"$f":"Game!U36","v":0},{"$f":"Game!W36","v":0},{"$f":"Game!X36","v":0},{"$f":"Game!Y36","v":0},{"$f":"Game!Z36","v":0},{"$f":"Game!AB36","v":0},{"$f":"Game!AC36","v":0},{"$f":"Game!AD36","v":0},{"$f":"Game!AE36","v":0},{"$f":"Game!AG36","v":0},{"$f":"Game!AH36","v":0},{"$f":"Game!AI36","v":0},{"$f":"Game!AJ36","v":0},{"$f":"Game!AL36","v":0},{"$f":"Game!AM36","v":0},{"$f":"Game!AN36","v":0},{"$f":"Game!AO36","v":0},{"$f":"Game!AQ36","v":0},{"$f":"Game!AR36","v":0},null,0,0,{"$f":"IF(AND(OR($C36=\"h\",$C36=\"2b\", $C36=\"3b\", $C36=\"hr\", $C25=\"hrb\",$C25=\"h2rb\",$C25=\"h3rb\",$C25=\"2brb\",$C25=\"2b2rb\",$C25=\"2b3rb\",$C25=\"3brb\",$C25=\"3b2rb\",$C25=\"3b3rb\",$C25=\"hr2\",$C25=\"hr3\",$C25=\"gs\"),$D36=3),1,0)","v":0},{"$f":"IF(AND(OR($C36=\"h\",$C36=\"2b\", $C36=\"3b\", $C36=\"hr\", $C25=\"hrb\",$C25=\"h2rb\",$C25=\"h3rb\",$C25=\"2brb\",$C25=\"2b2rb\",$C25=\"2b3rb\",$C25=\"3brb\",$C25=\"3b2rb\",$C25=\"3b3rb\",$C25=\"hr2\",$C25=\"hr3\",$C25=\"gs\"),$D36=4),1,0)","v":0},{"$f":"IF(AND(OR($C36=\"h\",$C36=\"2b\", $C36=\"3b\", $C36=\"hr\", $C25=\"hrb\",$C25=\"h2rb\",$C25=\"h3rb\",$C25=\"2brb\",$C25=\"2b2rb\",$C25=\"2b3rb\",$C25=\"3brb\",$C25=\"3b2rb\",$C25=\"3b3rb\",$C25=\"hr2\",$C25=\"hr3\",$C25=\"gs\"),$D36=5),1,0)","v":0},{"$f":"IF(AND(OR($C36=\"h\",$C36=\"2b\", $C36=\"3b\", $C36=\"hr\", $C25=\"hrb\",$C25=\"h2rb\",$C25=\"h3rb\",$C25=\"2brb\",$C25=\"2b2rb\",$C25=\"2b3rb\",$C25=\"3brb\",$C25=\"3b2rb\",$C25=\"3b3rb\",$C25=\"hr2\",$C25=\"hr3\",$C25=\"gs\"),$D36=6),1,0)","v":0},0,0,0,0,0,0,0,0,0,0,0,0,0,0,0,0,0,0,0,0,0,0,0,0,0,0,0,0,0,0,0,0,0,0,0,0,0,0,0,0,0,0,0,0,0,0,0,0,0,0,0,0,0,0,0,0,0,0,0,0,0,0,0,0,0,0,0,0,0,0,0,0,0,0,0,0,0,0,0,0,0,0,0,0,0,0,0,0,0,0,0,0,0,0,0,0,0,0,0,0,0,0,0,0,0,0,0,0,0,0,0,0,0,0,0,0,0,0,0,0,0,0,0,0,0,0,0,0,0,0,0,0,0,0,0,0,0,0,0,0,0,0,0,0,0,0,0,0,0,0,0,0,0,0,0,0,0,0,0,0,0,0,0,0,0,0,0,0,0,0,0,0,0,0,0,0,0,0,0,0,0,0,0,0,0,0,0,0,0,0,0,0,0,0,0,0,0,0,0,0,0,0,0,0,0,0,0,0,0,0,0,0,0,0,0,0,0,0,0,0,0,0,0,0,0,0,0,0,0,0,0,0,0,0,0,0,0,0,0,0,0,0,0,0,0,0,0,0,0,0,0,0,0,0,0,0,0,0,0,0,0,0,0,0,0,0,0,0,0,0,0,0,0,0,0,0,0,0,0,0,0,0,0,0,0,0,0,0,0,0,0,0,0,0,0,0,0,0,0,0,0,0,0,0,0,0,0,0,0,0,0,0,0,0,0,0,0,0,0,0,0,0,0,0,0,0,0,0,0,0,{"$nulls":3},0,0,0,0,0,0,0,0,0,0,0,0,0,0,0,0,0,0,0,0,0,0,0,0,0,0,0,0,0,0,0,0,0,0,0,0,0,0,0,0,0,0,null,0,0,0,0,0,0,0,0,0,0,0,0,0,0,0,0,0,0,0,0,0,0,0,0,0,0,0,0,0,0,0,0,0,0,0,0,0,0,0,0,0,0]
[{"$f":"Game!C37","v":0},{"$f":"Game!E37","v":0},{"$f":"Game!J37","v":0},{"$f":"Game!K37","v":0},{"$f":"Game!M37","v":0},{"$f":"Game!N37","v":0},{"$f":"Game!O37","v":0},{"$f":"Game!P37","v":0},{"$f":"Game!R37","v":0},{"$f":"Game!S37","v":0},{"$f":"Game!T37","v":0},{"$f":"Game!U37","v":0},{"$f":"Game!W37","v":0},{"$f":"Game!X37","v":0},{"$f":"Game!Y37","v":0},{"$f":"Game!Z37","v":0},{"$f":"Game!AB37","v":0},{"$f":"Game!AC37","v":0},{"$f":"Game!AD37","v":0},{"$f":"Game!AE37","v":0},{"$f":"Game!AG37","v":0},{"$f":"Game!AH37","v":0},{"$f":"Game!AI37","v":0},{"$f":"Game!AJ37","v":0},{"$f":"Game!AL37","v":0},{"$f":"Game!AM37","v":0},{"$f":"Game!AN37","v":0},{"$f":"Game!AO37","v":0},{"$f":"Game!AQ37","v":0},{"$f":"Game!AR37","v":0},null,0,0,{"$f":"IF(AND(OR($C37=\"h\",$C37=\"2b\", $C37=\"3b\", $C37=\"hr\", $C25=\"hrb\",$C25=\"h2rb\",$C25=\"h3rb\",$C25=\"2brb\",$C25=\"2b2rb\",$C25=\"2b3rb\",$C25=\"3brb\",$C25=\"3b2rb\",$C25=\"3b3rb\",$C25=\"hr2\",$C25=\"hr3\",$C25=\"gs\"),$D37=3),1,0)","v":0},{"$f":"IF(AND(OR($C37=\"h\",$C37=\"2b\", $C37=\"3b\", $C37=\"hr\", $C25=\"hrb\",$C25=\"h2rb\",$C25=\"h3rb\",$C25=\"2brb\",$C25=\"2b2rb\",$C25=\"2b3rb\",$C25=\"3brb\",$C25=\"3b2rb\",$C25=\"3b3rb\",$C25=\"hr2\",$C25=\"hr3\",$C25=\"gs\"),$D37=4),1,0)","v":0},{"$f":"IF(AND(OR($C37=\"h\",$C37=\"2b\", $C37=\"3b\", $C37=\"hr\", $C25=\"hrb\",$C25=\"h2rb\",$C25=\"h3rb\",$C25=\"2brb\",$C25=\"2b2rb\",$C25=\"2b3rb\",$C25=\"3brb\",$C25=\"3b2rb\",$C25=\"3b3rb\",$C25=\"hr2\",$C25=\"hr3\",$C25=\"gs\"),$D37=5),1,0)","v":0},{"$f":"IF(AND(OR($C37=\"h\",$C37=\"2b\", $C37=\"3b\", $C37=\"hr\", $C25=\"hrb\",$C25=\"h2rb\",$C25=\"h3rb\",$C25=\"2brb\",$C25=\"2b2rb\",$C25=\"2b3rb\",$C25=\"3brb\",$C25=\"3b2rb\",$C25=\"3b3rb\",$C25=\"hr2\",$C25=\"hr3\",$C25=\"gs\"),$D37=6),1,0)","v":0},0,0,0,0,0,0,0,0,0,0,0,0,0,0,0,0,0,0,0,0,0,0,0,0,0,0,0,0,0,0,0,0,0,0,0,0,0,0,0,0,0,0,0,0,0,0,0,0,0,0,0,0,0,0,0,0,0,0,0,0,0,0,0,0,0,0,0,0,0,0,0,0,0,0,0,0,0,0,0,0,0,0,0,0,0,0,0,0,0,0,0,0,0,0,0,0,0,0,0,0,0,0,0,0,0,0,0,0,0,0,0,0,0,0,0,0,0,0,0,0,0,0,0,0,0,0,0,0,0,0,0,0,0,0,0,0,0,0,0,0,0,0,0,0,0,0,0,0,0,0,0,0,0,0,0,0,0,0,0,0,0,0,0,0,0,0,0,0,0,0,0,0,0,0,0,0,0,0,0,{"$f":"IF(AND($K37=\"ao\",$L37=6),1,0)","v":0},0,0,0,0,0,0,0,0,0,0,0,0,0,0,0,0,0,0,0,0,0,0,0,0,0,0,0,0,0,0,0,0,0,0,0,0,0,0,0,0,0,0,0,0,0,0,0,0,0,0,0,0,0,0,0,0,0,0,0,0,0,0,0,0,0,0,0,0,0,0,0,0,0,0,0,0,0,0,0,0,0,0,0,0,0,0,0,0,0,0,0,0,0,0,0,0,0,0,0,0,0,0,0,0,0,0,0,0,0,0,0,0,0,0,0,0,0,0,0,0,0,0,0,0,0,0,0,0,0,0,0,0,0,0,0,0,0,0,0,0,0,0,0,0,0,0,0,0,0,0,{"$nulls":3},0,0,0,0,0,0,0,0,0,0,0,0,0,0,0,0,0,0,0,0,0,0,0,0,0,0,0,0,0,0,0,0,0,0,0,0,0,0,0,0,0,0,null,0,0,0,0,0,0,0,0,0,0,0,0,0,0,0,0,0,0,0,0,0,0,0,0,0,0,0,0,0,0,0,0,0,0,0,0,0,0,0,0,0,0]
[{"$nulls":31},{"$f":"SUM(AF25:AF37)","v":0},{"$f":"SUM(AG25:AG37)","v":0},0,0,0,0,0,0,0,0,0,0,0,0,0,0,0,0,0,0,0,0,0,0,0,0,0,0,0,0,0,0,0,0,0,0,0,0,0,0,0,0,0,0,0,0,0,0,0,0,0,0,0,0,0,0,0,0,0,0,0,0,0,0,0,{"$f":"SUM(CS25:CS37)","v":0},0,0,0,0,0,0,0,0,0,0,0,0,0,0,0,0,0,0,0,0,0,0,0,0,0,0,0,0,0,0,0,0,0,0,0,0,0,0,0,0,0,0,0,0,0,0,0,0,0,0,0,0,0,0,0,0,0,0,0,0,0,0,0,{"$f":"SUM(FE25:FE37)","v":0},0,0,0,0,0,0,0,0,0,0,0,0,0,0,0,0,0,0,0,0,0,0,0,0,0,0,0,0,0,0,0,0,0,0,0,0,0,0,0,0,0,0,0,0,0,0,0,0,0,0,0,0,0,0,0,0,0,0,0,0,0,0,0,{"$f":"SUM(HQ25:HQ37)","v":0},0,0,0,0,0,0,0,0,0,0,0,0,0,0,0,0,0,0,0,0,0,0,0,0,0,0,0,0,0,0,0,0,0,0,0,0,0,0,0,0,0,0,0,0,0,0,0,0,0,0,0,0,0,0,0,0,0,0,0,0,0,0,0,{"$f":"SUM(KC25:KC37)","v":0},0,0,0,0,0,0,0,0,0,0,0,0,0,0,0,0,0,0,0,0,0,0,0,0,0,0,0,0,0,0,0,0,0,0,0,0,0,0,0,0,0,0,0,0,0,0,0,0,0,0,0,0,0,0,0,0,0,0,0,0,0,0,0,{"$f":"SUM(MO25:MO37)","v":0},0,0,0,0,0,0,0,0,0,0,0,0,0,0,{"$nulls":3},0,0,0,0,0,0,0,0,0,0,0,0,0,0,0,0,0,0,0,0,0,0,0,0,0,0,0,0,0,0,0,0,0,0,0,0,0,0,0,0,0,0,null,0,0,0,0,0,0,0,0,0,0,0,0,0,0,0,0,0,0,0,0,0,0,0,0,0,0,0,0,0,0,0,0,0,0,0,0,0,0,0,0,0,0]
[{"$nulls":370},{"$f":"SUM(NG25:NG38)","v":0},{"$f":"SUM(NH25:NH38)","v":0},{"$f":"SUM(NI25:NI38)","v":0},{"$f":"SUM(NJ25:NJ38)","v":0},{"$f":"SUM(NK25:NK38)","v":0},{"$f":"SUM(NL25:NL38)","v":0},{"$f":"SUM(NM25:NM38)","v":0},{"$f":"SUM(NN25:NN38)","v":0},{"$f":"SUM(NO25:NO38)","v":0},{"$f":"SUM(NP25:NP38)","v":0},{"$f":"SUM(NQ25:NQ38)","v":0},{"$f":"SUM(NR25:NR38)","v":0},{"$f":"SUM(NS25:NS38)","v":0},{"$f":"SUM(NT25:NT38)","v":0},{"$f":"SUM(NU25:NU38)","v":0},{"$f":"SUM(NV25:NV38)","v":0},{"$f":"SUM(NW25:NW38)","v":0},{"$f":"SUM(NX25:NX38)","v":0},{"$f":"SUM(NY25:NY38)","v":0},{"$f":"SUM(NZ25:NZ38)","v":0},{"$f":"SUM(OA25:OA38)","v":0},{"$f":"SUM(OB25:OB38)","v":0},{"$f":"SUM(OC25:OC38)","v":0},{"$f":"SUM(OD25:OD38)","v":0},{"$f":"SUM(OE25:OE38)","v":0},{"$f":"SUM(OF25:OF38)","v":0},{"$f":"SUM(OG25:OG38)","v":0},{"$f":"SUM(OH25:OH38)","v":0},{"$f":"SUM(OI25:OI38)","v":0},{"$f":"SUM(OJ25:OJ38)","v":0},{"$f":"SUM(OK25:OK38)","v":0},{"$f":"SUM(OL25:OL38)","v":0},{"$f":"SUM(OM25:OM38)","v":0},{"$f":"SUM(ON25:ON38)","v":0},{"$f":"SUM(OO25:OO38)","v":0},{"$f":"SUM(OP25:OP38)","v":0},{"$f":"SUM(OQ25:OQ38)","v":0},{"$f":"SUM(OR25:OR38)","v":0},{"$f":"SUM(OS25:OS38)","v":0},{"$f":"SUM(OT25:OT38)","v":0},{"$f":"SUM(OU25:OU38)","v":0},{"$f":"SUM(OV25:OV38)","v":0},null,{"$f":"SUM(OX25:OX38)","v":0},{"$f":"SUM(OY25:OY38)","v":0},0,0,0,0,0,0,0,0,0,0,0,0,0,0,0,0,0,0,0,0,0,0,0,0,0,0,0,0,0,0,0,0,0,0,0,0,0,0,0,0]